{"text_format":"1","workbook":"xlsx","n_sheets":9,"sheets":["Disclaimer","Automotive","Non Auto","PN->Parameter","DCDC Ref","All Data","Utility","計算sheet","Wav"],"not_rendered":{"charts":5,"images":48,"macros":1,"external_links":2,"defined_names":27,"comments":4,"pivot_tables":2},"unopened":[],"bounds":{"document_bytes":16777216,"sheet_cells":100000,"rows_first":2000,"rows_last":500,"rows_between":2000,"halvings":0,"cell_chars":16384,"cell_head_chars":4096},"cells_cut":0,"cells_raw":0,"read":"whole","date_system":"1900"}

{"sheet":"Disclaimer","index":0,"n_rows":0,"n_cols":0,"rows_kept":0,"cut":false,"hidden":false,"merged":[]}

{"sheet":"Automotive","index":1,"n_rows":148,"n_cols":83,"rows_kept":148,"cut":false,"hidden":false,"merged":[]}
["Panasonic Automotive Inductor Quick Search",null,null,null,null,null,null,null,null,null,null,null,null,null,null,null,null,null,null,null,null,null,null,null,null,null,null,null,null,null,null,null,null,null,null,null,null,null,null,null,null,null,null,null,null,null,null,null,null,null,null,null,null,null,null,null,null,null,null,null,null,null,null,null,null,null,null,null,null,null,null,null,null,null,null,null,null,null,null,null,null,null,{"$f":"COUNTA(BA:BA)-1","v":142}]
["Please select parameters below to find the capacitors to match your requirements."]
["Filters",null,null,null,null,null,null,null,null,null,null,null,null,null,null,null,null,null,null,null,null,null,null,null,null,null,null,null,null,null,null,null,null,null,null,null,null,null,null,"Output"]
[]
[]
[null,null,null,null,null,null,null,null,null,null,null,null,null,null,null,null,null,null,null,null,null,null,null,null,null,null,null,null,null,null,null,null,null,null,null,null,null,null,null,"(uH)","Tol. \n(%)","Method B typ (A)","Method A typ (A)","⊿L=-30% \ntyp (A)","⊿L=-20% \ntyp (A)","Typ (mOhm)","Max (mOhm)","Size \n(mm)","Max Height \n(mm)","Temp Range (deg.C)","Automotive Grade","Status","Part Number","URL",null,null,null,null,null,null,"Feature","URL"]
[null,null,null,null,null,null,null,null,null,null,null,null,null,null,null,null,null,null,null,null,null,null,null,null,null,null,null,null,null,null,null,null,null,null,null,null,null,null,null,0.105,0.2,22.7,18.899999999999999,37.299999999999997,25.5,1.52,1.67,"5.5  x  5",3,"-55 to +155","Yes","MP","ETQP3MR10KVP","https://industrial.panasonic.com/ww/products/pt/automotive-inductors/models/ETQP3MR10KVP",{"$f":"IF(BA7=\"\",\"\",\nINDEX('All Data'!$AT:$AT,MATCH(BA7,'All Data'!$O:$O,0)))","v":"https://industrial.panasonic.com/content/data/CC/pictures/lineup-LP.gif"},{"$f":"IF(BA7=\"\",\"\",IFERROR(_xlfn.IMAGE(BC7,\"--\"),\"--\"))","v":{"$error":"#VALUE!"}},null,null,null,null,{"$f":"IF(BA7=\"\",\"\",\nINDEX('All Data'!$K:$K,MATCH(BA7,'All Data'!$O:$O,0)))","v":"LP (Low Profile)"},{"$f":"IF(BB7=\"\",\"\",HYPERLINK(BB7))","v":"https://industrial.panasonic.com/ww/products/pt/automotive-inductors/models/ETQP3MR10KVP"}]
[null,null,null,null,null,null,null,null,null,null,null,null,null,null,null,null,null,null,null,null,null,null,null,null,null,null,null,null,null,null,null,null,null,null,null,null,null,null,null,0.22,0.2,44,32,63.7,45,0.71,0.78,"7.9  x  7",5,"-55 to +155","Yes","MP","ETQP5MR22CVM","https://industrial.panasonic.com/ww/products/pt/automotive-inductors/models/ETQP3M220KVP",{"$f":"IF(BA8=\"\",\"\",\nINDEX('All Data'!$AT:$AT,MATCH(BA8,'All Data'!$O:$O,0)))","v":"https://industrial.panasonic.com/content/data/CC/pictures/lineup-LL.gif"},{"$f":"IF(BA8=\"\",\"\",IFERROR(_xlfn.IMAGE(BC8,\"--\"),\"--\"))","v":{"$error":"#VALUE!"}},null,null,null,null,{"$f":"IF(BA8=\"\",\"\",\nINDEX('All Data'!$K:$K,MATCH(BA8,'All Data'!$O:$O,0)))","v":"LL (Low Inductance)"},{"$f":"IF(BB8=\"\",\"\",HYPERLINK(BB8))","v":"https://industrial.panasonic.com/ww/products/pt/automotive-inductors/models/ETQP3M220KVP"}]
[null,null,null,null,null,null,null,null,null,null,null,null,null,null,null,null,null,null,null,null,null,null,null,null,null,null,null,null,null,null,null,null,null,null,null,null,null,null,null,0.33,0.2,39.700000000000003,33.200000000000003,56.7,42.63,1.1000000000000001,1.21,"10.9  x  10",5,"-40 to +150","Yes","MP","ETQP5MR33YLC","https://industrial.panasonic.com/ww/products/pt/automotive-inductors/models/ETQP5MR33YLC",{"$f":"IF(BA9=\"\",\"\",\nINDEX('All Data'!$AT:$AT,MATCH(BA9,'All Data'!$O:$O,0)))","v":"https://industrial.panasonic.com/content/data/CC/pictures/lineup-Metal-core.gif"},{"$error":"#VALUE!"},null,null,null,null,{"$f":"IF(BA9=\"\",\"\",\nINDEX('All Data'!$K:$K,MATCH(BA9,'All Data'!$O:$O,0)))","v":"High Isat (Standard)"},"https://industrial.panasonic.com/ww/products/pt/automotive-inductors/models/ETQP5MR33YLC"]
[null,null,null,null,null,null,null,null,null,null,null,null,null,null,null,null,null,null,null,null,null,null,null,null,null,null,null,null,null,null,null,null,null,null,null,null,null,null,null,null,null,53.5,44.4,84.5,55.85,0.7,0.77,"12.6  x  13.2",8,"-40 to +160","Yes","MP","ETQP8MR33JFA","https://industrial.panasonic.com/ww/products/pt/automotive-inductors/models/ETQP8MR33JFA",{"$f":"IF(BA10=\"\",\"\",\nINDEX('All Data'!$AT:$AT,MATCH(BA10,'All Data'!$O:$O,0)))","v":"https://industrial.panasonic.com/content/data/CC/pictures/lineup-Large%20current.gif"},{"$error":"#VALUE!"},null,null,null,null,{"$f":"IF(BA10=\"\",\"\",\nINDEX('All Data'!$K:$K,MATCH(BA10,'All Data'!$O:$O,0)))","v":"High Current (≥□12)"},"https://industrial.panasonic.com/ww/products/pt/automotive-inductors/models/ETQP8MR33JFA"]
[null,null,null,null,null,null,null,null,null,null,null,null,null,null,null,null,null,null,null,null,null,null,null,null,null,null,null,null,null,null,null,null,null,null,null,null,null,null,null,null,null,12.7,10.6,21.8,14.5,4.8499999999999996,5.34,"5.5  x  5",3,"-55 to +155","Yes","MP","ETQP3MR33KVP","https://industrial.panasonic.com/ww/products/pt/automotive-inductors/models/ETQP3MR33KVP",{"$f":"IF(BA11=\"\",\"\",\nINDEX('All Data'!$AT:$AT,MATCH(BA11,'All Data'!$O:$O,0)))","v":"https://industrial.panasonic.com/content/data/CC/pictures/lineup-LP.gif"},{"$error":"#VALUE!"},null,null,null,null,{"$f":"IF(BA11=\"\",\"\",\nINDEX('All Data'!$K:$K,MATCH(BA11,'All Data'!$O:$O,0)))","v":"LP (Low Profile)"},"https://industrial.panasonic.com/ww/products/pt/automotive-inductors/models/ETQP3MR33KVP"]
[null,null,null,null,null,null,null,null,null,null,null,null,null,null,null,null,null,null,null,null,null,null,null,null,null,null,null,null,null,null,null,null,null,null,null,null,null,null,null,null,null,83,69,103,75,0.42,0.48,"15.6  x  17.2",10.5,"-40 to +160","Yes","MP","ETQPAMR33JFW","https://industrial.panasonic.com/ww/products/pt/automotive-inductors/models/ETQPAMR33JFW",{"$f":"IF(BA12=\"\",\"\",\nINDEX('All Data'!$AT:$AT,MATCH(BA12,'All Data'!$O:$O,0)))","v":"https://industrial.panasonic.com/content/data/CC/pictures/lineup-Large%20current.gif"},{"$error":"#VALUE!"},null,null,null,null,{"$f":"IF(BA12=\"\",\"\",\nINDEX('All Data'!$K:$K,MATCH(BA12,'All Data'!$O:$O,0)))","v":"High Current (≥□12)"},"https://industrial.panasonic.com/ww/products/pt/automotive-inductors/models/ETQPAMR33JFW"]
[null,null,null,null,null,null,null,null,null,null,null,null,null,null,null,null,null,null,null,null,null,null,null,null,null,null,null,null,null,null,null,null,null,null,null,null,null,null,null,0.47,0.2,15.7,12.8,20,15.5,3.7,4.07,"6  x  6.4",3,"-55 to +155","Yes","MP","ETQP3MR47KVN","https://industrial.panasonic.com/ww/products/pt/automotive-inductors/models/ETQP3MR47KVN",{"$f":"IF(BA13=\"\",\"\",\nINDEX('All Data'!$AT:$AT,MATCH(BA13,'All Data'!$O:$O,0)))","v":"https://industrial.panasonic.com/content/data/CC/pictures/lineup-LP.gif"},{"$error":"#VALUE!"},null,null,null,null,{"$f":"IF(BA13=\"\",\"\",\nINDEX('All Data'!$K:$K,MATCH(BA13,'All Data'!$O:$O,0)))","v":"LP (Low Profile)"},"https://industrial.panasonic.com/ww/products/pt/automotive-inductors/models/ETQP3MR47KVN"]
[null,null,null,null,null,null,null,null,null,null,null,null,null,null,null,null,null,null,null,null,null,null,null,null,null,null,null,null,null,null,null,null,null,null,null,null,null,null,null,null,null,19.8,14.7,29.8,21.7,3.3,3.63,"7.4  x  7",4.8,"-40 to +150","Yes","MP","ETQP4MR47KFM","https://industrial.panasonic.com/ww/products/pt/automotive-inductors/models/ETQP4MR47KFM",{"$f":"IF(BA14=\"\",\"\",\nINDEX('All Data'!$AT:$AT,MATCH(BA14,'All Data'!$O:$O,0)))","v":"https://industrial.panasonic.com/content/data/CC/pictures/lineup-LE.gif"},{"$error":"#VALUE!"},null,null,null,null,{"$f":"IF(BA14=\"\",\"\",\nINDEX('All Data'!$K:$K,MATCH(BA14,'All Data'!$O:$O,0)))","v":"LE (Low Price)"},"https://industrial.panasonic.com/ww/products/pt/automotive-inductors/models/ETQP4MR47KFM"]
[null,null,null,null,null,null,null,null,null,null,null,null,null,null,null,null,null,null,null,null,null,null,null,null,null,null,null,null,null,null,null,null,null,null,null,null,null,null,null,null,null,11.6,9.6,17.899999999999999,12.9,5.8,6.38,"5.5  x  5",3,"-55 to +155","Yes","MP","ETQP3MR47KVP","https://industrial.panasonic.com/ww/products/pt/automotive-inductors/models/ETQP3MR47KVP",{"$f":"IF(BA15=\"\",\"\",\nINDEX('All Data'!$AT:$AT,MATCH(BA15,'All Data'!$O:$O,0)))","v":"https://industrial.panasonic.com/content/data/CC/pictures/lineup-LP.gif"},{"$error":"#VALUE!"},null,null,null,null,{"$f":"IF(BA15=\"\",\"\",\nINDEX('All Data'!$K:$K,MATCH(BA15,'All Data'!$O:$O,0)))","v":"LP (Low Profile)"},"https://industrial.panasonic.com/ww/products/pt/automotive-inductors/models/ETQP3MR47KVP"]
[null,null,null,null,null,null,null,null,null,null,null,null,null,null,null,null,null,null,null,null,null,null,null,null,null,null,null,null,null,null,null,null,null,null,null,null,null,null,null,null,null,31.1,24.9,47.3,33.200000000000003,1.53,1.68,"10.9  x  10",4,"-40 to +150","Yes","MP","ETQP4MR47KLC","https://industrial.panasonic.com/ww/products/pt/automotive-inductors/models/ETQP4MR47KLC",{"$f":"IF(BA16=\"\",\"\",\nINDEX('All Data'!$AT:$AT,MATCH(BA16,'All Data'!$O:$O,0)))","v":"https://industrial.panasonic.com/content/data/CC/pictures/lineup-Metal-core.gif"},{"$error":"#VALUE!"},null,null,null,null,{"$f":"IF(BA16=\"\",\"\",\nINDEX('All Data'!$K:$K,MATCH(BA16,'All Data'!$O:$O,0)))","v":"High Isat (Standard)"},"https://industrial.panasonic.com/ww/products/pt/automotive-inductors/models/ETQP4MR47KLC"]
[null,null,null,null,null,null,null,null,null,null,null,null,null,null,null,null,null,null,null,null,null,null,null,null,null,null,null,null,null,null,null,null,null,null,null,null,null,null,null,0.68,0.2,12,9.8000000000000007,24,17.66,6.3,6.9300000000000006,"6.5  x  6",3,"-40 to +150","Yes","MP","ETQP3MR68YFN","https://industrial.panasonic.com/ww/products/pt/automotive-inductors/models/ETQP3MR68YFN",{"$f":"IF(BA17=\"\",\"\",\nINDEX('All Data'!$AT:$AT,MATCH(BA17,'All Data'!$O:$O,0)))","v":"https://industrial.panasonic.com/content/data/CC/pictures/lineup-Metal-core.gif"},{"$error":"#VALUE!"},null,null,null,null,{"$f":"IF(BA17=\"\",\"\",\nINDEX('All Data'!$K:$K,MATCH(BA17,'All Data'!$O:$O,0)))","v":"High Isat (Standard)"},"https://industrial.panasonic.com/ww/products/pt/automotive-inductors/models/ETQP3MR68YFN"]
[null,null,null,null,null,null,null,null,null,null,null,null,null,null,null,null,null,null,null,null,null,null,null,null,null,null,null,null,null,null,null,null,null,null,null,null,null,null,null,null,null,31.5,26.3,40,28.37,1.75,1.93,"10.9  x  10",5,"-40 to +150","Yes","MP","ETQP5MR68YLC","https://industrial.panasonic.com/ww/products/pt/automotive-inductors/models/ETQP5MR68YLC",{"$f":"IF(BA18=\"\",\"\",\nINDEX('All Data'!$AT:$AT,MATCH(BA18,'All Data'!$O:$O,0)))","v":"https://industrial.panasonic.com/content/data/CC/pictures/lineup-Metal-core.gif"},{"$error":"#VALUE!"},null,null,null,null,{"$f":"IF(BA18=\"\",\"\",\nINDEX('All Data'!$K:$K,MATCH(BA18,'All Data'!$O:$O,0)))","v":"High Isat (Standard)"},"https://industrial.panasonic.com/ww/products/pt/automotive-inductors/models/ETQP5MR68YLC"]
[null,null,null,null,null,null,null,null,null,null,null,null,null,null,null,null,null,null,null,null,null,null,null,null,null,null,null,null,null,null,null,null,null,null,null,null,null,null,null,null,null,42.6,35.4,56.9,40.33,1.1000000000000001,1.21,"12.6  x  13.2",8,"-40 to +160","Yes","MP","ETQP8MR68JFA","https://industrial.panasonic.com/ww/products/pt/automotive-inductors/models/ETQP8MR68JFA",{"$f":"IF(BA19=\"\",\"\",\nINDEX('All Data'!$AT:$AT,MATCH(BA19,'All Data'!$O:$O,0)))","v":"https://industrial.panasonic.com/content/data/CC/pictures/lineup-Large%20current.gif"},{"$error":"#VALUE!"},null,null,null,null,{"$f":"IF(BA19=\"\",\"\",\nINDEX('All Data'!$K:$K,MATCH(BA19,'All Data'!$O:$O,0)))","v":"High Current (≥□12)"},"https://industrial.panasonic.com/ww/products/pt/automotive-inductors/models/ETQP8MR68JFA"]
[null,null,null,null,null,null,null,null,null,null,null,null,null,null,null,null,null,null,null,null,null,null,null,null,null,null,null,null,null,null,null,null,null,null,null,null,null,null,null,null,null,10.199999999999999,8.4,15.9,10.4,7.6,8.36,"5.5  x  5",3,"-55 to +155","Yes","MP","ETQP3MR68KVP","https://industrial.panasonic.com/ww/products/pt/automotive-inductors/models/ETQP3MR68KVP",{"$f":"IF(BA20=\"\",\"\",\nINDEX('All Data'!$AT:$AT,MATCH(BA20,'All Data'!$O:$O,0)))","v":"https://industrial.panasonic.com/content/data/CC/pictures/lineup-LP.gif"},{"$error":"#VALUE!"},null,null,null,null,{"$f":"IF(BA20=\"\",\"\",\nINDEX('All Data'!$K:$K,MATCH(BA20,'All Data'!$O:$O,0)))","v":"LP (Low Profile)"},"https://industrial.panasonic.com/ww/products/pt/automotive-inductors/models/ETQP3MR68KVP"]
[null,null,null,null,null,null,null,null,null,null,null,null,null,null,null,null,null,null,null,null,null,null,null,null,null,null,null,null,null,null,null,null,null,null,null,null,null,null,null,null,null,13.2,10.8,20.2,14.25,5.2,5.7200000000000006,"6.4  x  6",3,"-55 to +155","Yes","MP","ETQP3MR68KVN","https://industrial.panasonic.com/ww/products/pt/automotive-inductors/models/ETQP3MR68KVN",{"$f":"IF(BA21=\"\",\"\",\nINDEX('All Data'!$AT:$AT,MATCH(BA21,'All Data'!$O:$O,0)))","v":"https://industrial.panasonic.com/content/data/CC/pictures/lineup-LP.gif"},{"$error":"#VALUE!"},null,null,null,null,{"$f":"IF(BA21=\"\",\"\",\nINDEX('All Data'!$K:$K,MATCH(BA21,'All Data'!$O:$O,0)))","v":"LP (Low Profile)"},"https://industrial.panasonic.com/ww/products/pt/automotive-inductors/models/ETQP3MR68KVN"]
[null,null,null,null,null,null,null,null,null,null,null,null,null,null,null,null,null,null,null,null,null,null,null,null,null,null,null,null,null,null,null,null,null,null,null,null,null,null,null,null,null,19.5,16.600000000000001,29,20.99,2.92,3.21,"8.5  x  8",4,"-55 to +155","Yes","MP","ETQP4MR68KVK","https://industrial.panasonic.com/ww/products/pt/automotive-inductors/models/ETQP4MR68KVK",{"$f":"IF(BA22=\"\",\"\",\nINDEX('All Data'!$AT:$AT,MATCH(BA22,'All Data'!$O:$O,0)))","v":"https://industrial.panasonic.com/content/data/CC/pictures/lineup-LP.gif"},{"$error":"#VALUE!"},null,null,null,null,{"$f":"IF(BA22=\"\",\"\",\nINDEX('All Data'!$K:$K,MATCH(BA22,'All Data'!$O:$O,0)))","v":"LP (Low Profile)"},"https://industrial.panasonic.com/ww/products/pt/automotive-inductors/models/ETQP4MR68KVK"]
[null,null,null,null,null,null,null,null,null,null,null,null,null,null,null,null,null,null,null,null,null,null,null,null,null,null,null,null,null,null,null,null,null,null,null,null,null,null,null,null,null,32.299999999999997,27,40,28.1,1.66,1.83,"10.9  x  10",5,"-40 to +150","Yes","MP","ETQP5MR68YSC","https://industrial.panasonic.com/ww/products/pt/automotive-inductors/models/ETQP5MR68YSC",{"$f":"IF(BA23=\"\",\"\",\nINDEX('All Data'!$AT:$AT,MATCH(BA23,'All Data'!$O:$O,0)))","v":"https://industrial.panasonic.com/content/data/CC/pictures/lineup-High%20Vibration%20Acceleration.gif"},{"$error":"#VALUE!"},null,null,null,null,{"$f":"IF(BA23=\"\",\"\",\nINDEX('All Data'!$K:$K,MATCH(BA23,'All Data'!$O:$O,0)))","v":"High Anti-vibration"},"https://industrial.panasonic.com/ww/products/pt/automotive-inductors/models/ETQP5MR68YSC"]
[null,null,null,null,null,null,null,null,null,null,null,null,null,null,null,null,null,null,null,null,null,null,null,null,null,null,null,null,null,null,null,null,null,null,null,null,null,null,null,null,null,65,53,71,51,0.7,0.77,"15.6  x  17.2",10.5,"-40 to +160","Yes","MP","ETQPAMR68JFW","https://industrial.panasonic.com/ww/products/pt/automotive-inductors/models/ETQPAMR68JFW",{"$f":"IF(BA24=\"\",\"\",\nINDEX('All Data'!$AT:$AT,MATCH(BA24,'All Data'!$O:$O,0)))","v":"https://industrial.panasonic.com/content/data/CC/pictures/lineup-Large%20current.gif"},{"$error":"#VALUE!"},null,null,null,null,{"$f":"IF(BA24=\"\",\"\",\nINDEX('All Data'!$K:$K,MATCH(BA24,'All Data'!$O:$O,0)))","v":"High Current (≥□12)"},"https://industrial.panasonic.com/ww/products/pt/automotive-inductors/models/ETQPAMR68JFW"]
[null,null,null,null,null,null,null,null,null,null,null,null,null,null,null,null,null,null,null,null,null,null,null,null,null,null,null,null,null,null,null,null,null,null,null,null,null,null,null,1,0.2,10.7,8.8000000000000007,20,14.47,7.9,8.6900000000000013,"6.5  x  6",3,"-40 to +150","Yes","MP","ETQP3M1R0YFN","https://industrial.panasonic.com/ww/products/pt/automotive-inductors/models/ETQP3M1R0YFN",{"$f":"IF(BA25=\"\",\"\",\nINDEX('All Data'!$AT:$AT,MATCH(BA25,'All Data'!$O:$O,0)))","v":"https://industrial.panasonic.com/content/data/CC/pictures/lineup-Metal-core.gif"},{"$error":"#VALUE!"},null,null,null,null,{"$f":"IF(BA25=\"\",\"\",\nINDEX('All Data'!$K:$K,MATCH(BA25,'All Data'!$O:$O,0)))","v":"High Isat (Standard)"},"https://industrial.panasonic.com/ww/products/pt/automotive-inductors/models/ETQP3M1R0YFN"]
[null,null,null,null,null,null,null,null,null,null,null,null,null,null,null,null,null,null,null,null,null,null,null,null,null,null,null,null,null,null,null,null,null,null,null,null,null,null,null,null,null,27.5,23,37.799999999999997,24.6,2.2999999999999998,2.5299999999999998,"10.9  x  10",5,"-40 to +150","Yes","MP","ETQP5M1R0YLC","https://industrial.panasonic.com/ww/products/pt/automotive-inductors/models/ETQP5M1R0YLC",{"$f":"IF(BA26=\"\",\"\",\nINDEX('All Data'!$AT:$AT,MATCH(BA26,'All Data'!$O:$O,0)))","v":"https://industrial.panasonic.com/content/data/CC/pictures/lineup-Metal-core.gif"},{"$error":"#VALUE!"},null,null,null,null,{"$f":"IF(BA26=\"\",\"\",\nINDEX('All Data'!$K:$K,MATCH(BA26,'All Data'!$O:$O,0)))","v":"High Isat (Standard)"},"https://industrial.panasonic.com/ww/products/pt/automotive-inductors/models/ETQP5M1R0YLC"]
[null,null,null,null,null,null,null,null,null,null,null,null,null,null,null,null,null,null,null,null,null,null,null,null,null,null,null,null,null,null,null,null,null,null,null,null,null,null,null,null,null,38.299999999999997,31.8,44.4,31.56,1.36,1.5,"12.6  x  13.2",8,"-40 to +160","Yes","MP","ETQP8M1R0JFA","https://industrial.panasonic.com/ww/products/pt/automotive-inductors/models/ETQP8M1R0JFA",{"$f":"IF(BA27=\"\",\"\",\nINDEX('All Data'!$AT:$AT,MATCH(BA27,'All Data'!$O:$O,0)))","v":"https://industrial.panasonic.com/content/data/CC/pictures/lineup-Large%20current.gif"},{"$error":"#VALUE!"},null,null,null,null,{"$f":"IF(BA27=\"\",\"\",\nINDEX('All Data'!$K:$K,MATCH(BA27,'All Data'!$O:$O,0)))","v":"High Current (≥□12)"},"https://industrial.panasonic.com/ww/products/pt/automotive-inductors/models/ETQP8M1R0JFA"]
[null,null,null,null,null,null,null,null,null,null,null,null,null,null,null,null,null,null,null,null,null,null,null,null,null,null,null,null,null,null,null,null,null,null,null,null,null,null,null,null,null,9,7.5,14.1,10.4,9.6,10.56,"5.5  x  5",3,"-55 to +155","Yes","MP","ETQP3M1R0KVP","https://industrial.panasonic.com/ww/products/pt/automotive-inductors/models/ETQP3M1R0KVP",{"$f":"IF(BA28=\"\",\"\",\nINDEX('All Data'!$AT:$AT,MATCH(BA28,'All Data'!$O:$O,0)))","v":"https://industrial.panasonic.com/content/data/CC/pictures/lineup-LP.gif"},{"$error":"#VALUE!"},null,null,null,null,{"$f":"IF(BA28=\"\",\"\",\nINDEX('All Data'!$K:$K,MATCH(BA28,'All Data'!$O:$O,0)))","v":"LP (Low Profile)"},"https://industrial.panasonic.com/ww/products/pt/automotive-inductors/models/ETQP3M1R0KVP"]
[null,null,null,null,null,null,null,null,null,null,null,null,null,null,null,null,null,null,null,null,null,null,null,null,null,null,null,null,null,null,null,null,null,null,null,null,null,null,null,null,null,12.1,9.9,16,10.65,6.2,6.8200000000000012,"6.4  x  6",3,"-55 to +155","Yes","MP","ETQP3M1R0KVN","https://industrial.panasonic.com/ww/products/pt/automotive-inductors/models/ETQP3M1R0KVN",{"$f":"IF(BA29=\"\",\"\",\nINDEX('All Data'!$AT:$AT,MATCH(BA29,'All Data'!$O:$O,0)))","v":"https://industrial.panasonic.com/content/data/CC/pictures/lineup-LP.gif"},{"$error":"#VALUE!"},null,null,null,null,{"$f":"IF(BA29=\"\",\"\",\nINDEX('All Data'!$K:$K,MATCH(BA29,'All Data'!$O:$O,0)))","v":"LP (Low Profile)"},"https://industrial.panasonic.com/ww/products/pt/automotive-inductors/models/ETQP3M1R0KVN"]
[null,null,null,null,null,null,null,null,null,null,null,null,null,null,null,null,null,null,null,null,null,null,null,null,null,null,null,null,null,null,null,null,null,null,null,null,null,null,null,null,null,17.3,14.8,24.4,19.059999999999999,3.7,4.07,"8.5  x  8",4,"-55 to +155","Yes","MP","ETQP4M1R0KVK","https://industrial.panasonic.com/ww/products/pt/automotive-inductors/models/ETQP4M1R0KVK",{"$f":"IF(BA30=\"\",\"\",\nINDEX('All Data'!$AT:$AT,MATCH(BA30,'All Data'!$O:$O,0)))","v":"https://industrial.panasonic.com/content/data/CC/pictures/lineup-LP.gif"},{"$error":"#VALUE!"},null,null,null,null,{"$f":"IF(BA30=\"\",\"\",\nINDEX('All Data'!$K:$K,MATCH(BA30,'All Data'!$O:$O,0)))","v":"LP (Low Profile)"},"https://industrial.panasonic.com/ww/products/pt/automotive-inductors/models/ETQP4M1R0KVK"]
[null,null,null,null,null,null,null,null,null,null,null,null,null,null,null,null,null,null,null,null,null,null,null,null,null,null,null,null,null,null,null,null,null,null,null,null,null,null,null,null,null,23.9,19.600000000000001,34.6,24.000000000000028,2.6,2.8600000000000003,"10.7  x  10",4,"-55 to +155","Yes","MP","ETQP4M1R0KVC","https://industrial.panasonic.com/ww/products/pt/automotive-inductors/models/ETQP4M1R0KVC",{"$f":"IF(BA31=\"\",\"\",\nINDEX('All Data'!$AT:$AT,MATCH(BA31,'All Data'!$O:$O,0)))","v":"https://industrial.panasonic.com/content/data/CC/pictures/lineup-LP.gif"},{"$error":"#VALUE!"},null,null,null,null,{"$f":"IF(BA31=\"\",\"\",\nINDEX('All Data'!$K:$K,MATCH(BA31,'All Data'!$O:$O,0)))","v":"LP (Low Profile)"},"https://industrial.panasonic.com/ww/products/pt/automotive-inductors/models/ETQP4M1R0KVC"]
[null,null,null,null,null,null,null,null,null,null,null,null,null,null,null,null,null,null,null,null,null,null,null,null,null,null,null,null,null,null,null,null,null,null,null,null,null,null,null,null,null,57,47,52,36.200000000000003,0.88,0.97,"15.6  x  17.2",10.5,"-40 to +160","Yes","MP","ETQPAM1R0JFW","https://industrial.panasonic.com/ww/products/pt/automotive-inductors/models/ETQPAM1R0JFW",{"$f":"IF(BA32=\"\",\"\",\nINDEX('All Data'!$AT:$AT,MATCH(BA32,'All Data'!$O:$O,0)))","v":"https://industrial.panasonic.com/content/data/CC/pictures/lineup-Large%20current.gif"},{"$error":"#VALUE!"},null,null,null,null,{"$f":"IF(BA32=\"\",\"\",\nINDEX('All Data'!$K:$K,MATCH(BA32,'All Data'!$O:$O,0)))","v":"High Current (≥□12)"},"https://industrial.panasonic.com/ww/products/pt/automotive-inductors/models/ETQPAM1R0JFW"]
[null,null,null,null,null,null,null,null,null,null,null,null,null,null,null,null,null,null,null,null,null,null,null,null,null,null,null,null,null,null,null,null,null,null,null,null,null,null,null,1.5,0.2,21.4,17.899999999999999,35.1,25.52,3.8,4.18,"10.7  x  10",5.4,"-40 to +150","Yes","MP","ETQP5M1R5YFC","https://industrial.panasonic.com/ww/products/pt/automotive-inductors/models/ETQP5M1R5YFC",{"$f":"IF(BA33=\"\",\"\",\nINDEX('All Data'!$AT:$AT,MATCH(BA33,'All Data'!$O:$O,0)))","v":"https://industrial.panasonic.com/content/data/CC/pictures/lineup-Metal-core.gif"},{"$error":"#VALUE!"},null,null,null,null,{"$f":"IF(BA33=\"\",\"\",\nINDEX('All Data'!$K:$K,MATCH(BA33,'All Data'!$O:$O,0)))","v":"High Isat (Standard)"},"https://industrial.panasonic.com/ww/products/pt/automotive-inductors/models/ETQP5M1R5YFC"]
[null,null,null,null,null,null,null,null,null,null,null,null,null,null,null,null,null,null,null,null,null,null,null,null,null,null,null,null,null,null,null,null,null,null,null,null,null,null,null,null,null,23.3,19.5,32,22.19,3.2,3.52,"10.9  x  10",6,"-40 to +150","Yes","MP","ETQP6M1R5YLC","https://industrial.panasonic.com/ww/products/pt/automotive-inductors/models/ETQP6M1R5YLC",{"$f":"IF(BA34=\"\",\"\",\nINDEX('All Data'!$AT:$AT,MATCH(BA34,'All Data'!$O:$O,0)))","v":"https://industrial.panasonic.com/content/data/CC/pictures/lineup-Metal-core.gif"},{"$error":"#VALUE!"},null,null,null,null,{"$f":"IF(BA34=\"\",\"\",\nINDEX('All Data'!$K:$K,MATCH(BA34,'All Data'!$O:$O,0)))","v":"High Isat (Standard)"},"https://industrial.panasonic.com/ww/products/pt/automotive-inductors/models/ETQP6M1R5YLC"]
[null,null,null,null,null,null,null,null,null,null,null,null,null,null,null,null,null,null,null,null,null,null,null,null,null,null,null,null,null,null,null,null,null,null,null,null,null,null,null,null,null,33.299999999999997,27.7,29.9,21.51,1.8,1.9800000000000002,"12.6  x  13.2",8,"-40 to +160","Yes","MP","ETQP8M1R5JFA","https://industrial.panasonic.com/ww/products/pt/automotive-inductors/models/ETQP8M1R5JFA",{"$f":"IF(BA35=\"\",\"\",\nINDEX('All Data'!$AT:$AT,MATCH(BA35,'All Data'!$O:$O,0)))","v":"https://industrial.panasonic.com/content/data/CC/pictures/lineup-Large%20current.gif"},{"$error":"#VALUE!"},null,null,null,null,{"$f":"IF(BA35=\"\",\"\",\nINDEX('All Data'!$K:$K,MATCH(BA35,'All Data'!$O:$O,0)))","v":"High Current (≥□12)"},"https://industrial.panasonic.com/ww/products/pt/automotive-inductors/models/ETQP8M1R5JFA"]
[null,null,null,null,null,null,null,null,null,null,null,null,null,null,null,null,null,null,null,null,null,null,null,null,null,null,null,null,null,null,null,null,null,null,null,null,null,null,null,null,null,8.1,6.7,12,9.61,12,13.200000000000001,"5.5  x  5",3,"-55 to +155","Yes","MP","ETQP3M1R5KVP","https://industrial.panasonic.com/ww/products/pt/automotive-inductors/models/ETQP3M1R5KVP",{"$f":"IF(BA36=\"\",\"\",\nINDEX('All Data'!$AT:$AT,MATCH(BA36,'All Data'!$O:$O,0)))","v":"https://industrial.panasonic.com/content/data/CC/pictures/lineup-LP.gif"},{"$error":"#VALUE!"},null,null,null,null,{"$f":"IF(BA36=\"\",\"\",\nINDEX('All Data'!$K:$K,MATCH(BA36,'All Data'!$O:$O,0)))","v":"LP (Low Profile)"},"https://industrial.panasonic.com/ww/products/pt/automotive-inductors/models/ETQP3M1R5KVP"]
[null,null,null,null,null,null,null,null,null,null,null,null,null,null,null,null,null,null,null,null,null,null,null,null,null,null,null,null,null,null,null,null,null,null,null,null,null,null,null,null,null,9.1,7.4,14.2,10.37,11,12.100000000000001,"6.4  x  6",3,"-55 to +155","Yes","MP","ETQP3M1R5KVN","https://industrial.panasonic.com/ww/products/pt/automotive-inductors/models/ETQP3M1R5KVN",{"$f":"IF(BA37=\"\",\"\",\nINDEX('All Data'!$AT:$AT,MATCH(BA37,'All Data'!$O:$O,0)))","v":"https://industrial.panasonic.com/content/data/CC/pictures/lineup-LP.gif"},{"$error":"#VALUE!"},null,null,null,null,{"$f":"IF(BA37=\"\",\"\",\nINDEX('All Data'!$K:$K,MATCH(BA37,'All Data'!$O:$O,0)))","v":"LP (Low Profile)"},"https://industrial.panasonic.com/ww/products/pt/automotive-inductors/models/ETQP3M1R5KVN"]
[null,null,null,null,null,null,null,null,null,null,null,null,null,null,null,null,null,null,null,null,null,null,null,null,null,null,null,null,null,null,null,null,null,null,null,null,null,null,null,null,null,15.1,12.8,22.5,17.559999999999999,4.9000000000000004,5.3900000000000006,"8.5  x  8",4,"-55 to +155","Yes","MP","ETQP4M1R5KVK","https://industrial.panasonic.com/ww/products/pt/automotive-inductors/models/ETQP4M1R5KVK",{"$f":"IF(BA38=\"\",\"\",\nINDEX('All Data'!$AT:$AT,MATCH(BA38,'All Data'!$O:$O,0)))","v":"https://industrial.panasonic.com/content/data/CC/pictures/lineup-LP.gif"},{"$error":"#VALUE!"},null,null,null,null,{"$f":"IF(BA38=\"\",\"\",\nINDEX('All Data'!$K:$K,MATCH(BA38,'All Data'!$O:$O,0)))","v":"LP (Low Profile)"},"https://industrial.panasonic.com/ww/products/pt/automotive-inductors/models/ETQP4M1R5KVK"]
[null,null,null,null,null,null,null,null,null,null,null,null,null,null,null,null,null,null,null,null,null,null,null,null,null,null,null,null,null,null,null,null,null,null,null,null,null,null,null,null,null,17.399999999999999,14.3,25,19.36,4.9000000000000004,5.3900000000000006,"10.7  x  10",4,"-55 to +155","Yes","MP","ETQP4M1R5KVC","https://industrial.panasonic.com/ww/products/pt/automotive-inductors/models/ETQP4M1R5KVC",{"$f":"IF(BA39=\"\",\"\",\nINDEX('All Data'!$AT:$AT,MATCH(BA39,'All Data'!$O:$O,0)))","v":"https://industrial.panasonic.com/content/data/CC/pictures/lineup-LP.gif"},{"$error":"#VALUE!"},null,null,null,null,{"$f":"IF(BA39=\"\",\"\",\nINDEX('All Data'!$K:$K,MATCH(BA39,'All Data'!$O:$O,0)))","v":"LP (Low Profile)"},"https://industrial.panasonic.com/ww/products/pt/automotive-inductors/models/ETQP4M1R5KVC"]
[null,null,null,null,null,null,null,null,null,null,null,null,null,null,null,null,null,null,null,null,null,null,null,null,null,null,null,null,null,null,null,null,null,null,null,null,null,null,null,null,null,52,43,43,30.5,1.1000000000000001,1.21,"15.6  x  17.2",10.5,"-40 to +160","Yes","MP","ETQPAM1R5JFW","https://industrial.panasonic.com/ww/products/pt/automotive-inductors/models/ETQPAM1R5JFW",{"$f":"IF(BA40=\"\",\"\",\nINDEX('All Data'!$AT:$AT,MATCH(BA40,'All Data'!$O:$O,0)))","v":"https://industrial.panasonic.com/content/data/CC/pictures/lineup-Large%20current.gif"},{"$error":"#VALUE!"},null,null,null,null,{"$f":"IF(BA40=\"\",\"\",\nINDEX('All Data'!$K:$K,MATCH(BA40,'All Data'!$O:$O,0)))","v":"High Current (≥□12)"},{"$f":"IF(BB40=\"\",\"\",HYPERLINK(BB40))","v":"https://industrial.panasonic.com/ww/products/pt/automotive-inductors/models/ETQPAM1R5JFW"}]
[null,null,null,null,null,null,null,null,null,null,null,null,null,null,null,null,null,null,null,null,null,null,null,null,null,null,null,null,null,null,null,null,null,null,null,null,null,null,null,1.9,0.2,19.8,16.5,29.8,21,4.45,4.9000000000000004,"10.9  x  10",5,"-40 to +150","Yes","MP","ETQP5M2R0YSC","https://industrial.panasonic.com/ww/products/pt/automotive-inductors/models/ETQP5M2R0YSC",{"$f":"IF(BA41=\"\",\"\",\nINDEX('All Data'!$AT:$AT,MATCH(BA41,'All Data'!$O:$O,0)))","v":"https://industrial.panasonic.com/content/data/CC/pictures/lineup-Metal-core.gif"},{"$error":"#VALUE!"},null,null,null,null,{"$f":"IF(BA41=\"\",\"\",\nINDEX('All Data'!$K:$K,MATCH(BA41,'All Data'!$O:$O,0)))","v":"High Anti-vibration"},"https://industrial.panasonic.com/ww/products/pt/automotive-inductors/models/ETQP5M2R0YSC"]
[null,null,null,null,null,null,null,null,null,null,null,null,null,null,null,null,null,null,null,null,null,null,null,null,null,null,null,null,null,null,null,null,null,null,null,null,null,null,null,2,0.2,19.399999999999999,16.2,31.3,22.17,4.5999999999999996,5.0599999999999996,"10.9  x  10",5,"-40 to +150","Yes","MP","ETQP5M2R0YLC","https://industrial.panasonic.com/ww/products/pt/automotive-inductors/models/ETQP5M2R0YLC",{"$f":"IF(BA42=\"\",\"\",\nINDEX('All Data'!$AT:$AT,MATCH(BA42,'All Data'!$O:$O,0)))","v":"https://industrial.panasonic.com/content/data/CC/pictures/lineup-Metal-core.gif"},{"$error":"#VALUE!"},null,null,null,null,{"$f":"IF(BA42=\"\",\"\",\nINDEX('All Data'!$K:$K,MATCH(BA42,'All Data'!$O:$O,0)))","v":"High Isat (Standard)"},"https://industrial.panasonic.com/ww/products/pt/automotive-inductors/models/ETQP5M2R0YLC"]
[null,null,null,null,null,null,null,null,null,null,null,null,null,null,null,null,null,null,null,null,null,null,null,null,null,null,null,null,null,null,null,null,null,null,null,null,null,null,null,2.2000000000000002,0.2,5.8,4.8,10.9,7.96,22.6,24.8,"5.5  x  5",3,"-40 to +150","Yes","MP","ETQP3M2R2YFP","https://industrial.panasonic.com/ww/products/pt/automotive-inductors/models/ETQP3M2R2YFP",{"$f":"IF(BA43=\"\",\"\",\nINDEX('All Data'!$AT:$AT,MATCH(BA43,'All Data'!$O:$O,0)))","v":"https://industrial.panasonic.com/content/data/CC/pictures/lineup-Metal-core.gif"},{"$error":"#VALUE!"},null,null,null,null,{"$f":"IF(BA43=\"\",\"\",\nINDEX('All Data'!$K:$K,MATCH(BA43,'All Data'!$O:$O,0)))","v":"High Isat (Standard)"},"https://industrial.panasonic.com/ww/products/pt/automotive-inductors/models/ETQP3M2R2YFP"]
[null,null,null,null,null,null,null,null,null,null,null,null,null,null,null,null,null,null,null,null,null,null,null,null,null,null,null,null,null,null,null,null,null,null,null,null,null,null,null,null,null,6.3,5.2,9,6.4,19.5,21.45,"5.5  x  5",3,"-40 to +150","Yes","MP","ETQP3M2R2HFP","https://industrial.panasonic.com/ww/products/pt/automotive-inductors/models/ETQP3M2R2HFP",{"$f":"IF(BA44=\"\",\"\",\nINDEX('All Data'!$AT:$AT,MATCH(BA44,'All Data'!$O:$O,0)))","v":"https://industrial.panasonic.com/content/data/CC/pictures/lineup-H.gif"},{"$error":"#VALUE!"},null,null,null,null,{"$f":"IF(BA44=\"\",\"\",\nINDEX('All Data'!$K:$K,MATCH(BA44,'All Data'!$O:$O,0)))","v":"High Frequency"},"https://industrial.panasonic.com/ww/products/pt/automotive-inductors/models/ETQP3M2R2HFP"]
[null,null,null,null,null,null,null,null,null,null,null,null,null,null,null,null,null,null,null,null,null,null,null,null,null,null,null,null,null,null,null,null,null,null,null,null,null,null,null,null,null,null,null,10.1,7.38,20,22,"5.5  x  5",3,"-55 to +155","Yes","MP","ETQP3M2R2KVP","https://industrial.panasonic.com/ww/products/pt/automotive-inductors/models/ETQP3M2R2KVP",{"$f":"IF(BA45=\"\",\"\",\nINDEX('All Data'!$AT:$AT,MATCH(BA45,'All Data'!$O:$O,0)))","v":"https://industrial.panasonic.com/content/data/CC/pictures/lineup-LP.gif"},{"$error":"#VALUE!"},null,null,null,null,{"$f":"IF(BA45=\"\",\"\",\nINDEX('All Data'!$K:$K,MATCH(BA45,'All Data'!$O:$O,0)))","v":"LP (Low Profile)"},"https://industrial.panasonic.com/ww/products/pt/automotive-inductors/models/ETQP3M2R2KVP"]
[null,null,null,null,null,null,null,null,null,null,null,null,null,null,null,null,null,null,null,null,null,null,null,null,null,null,null,null,null,null,null,null,null,null,null,null,null,null,null,null,null,10.199999999999999,8,14.4,10.41,10.4,11.440000000000001,"6.5  x  6",4.5,"-40 to +150","Yes","MP","ETQP4M2R2YFN","https://industrial.panasonic.com/ww/products/pt/automotive-inductors/models/ETQP4M2R2YFN",{"$f":"IF(BA46=\"\",\"\",\nINDEX('All Data'!$AT:$AT,MATCH(BA46,'All Data'!$O:$O,0)))","v":"https://industrial.panasonic.com/content/data/CC/pictures/lineup-Metal-core.gif"},{"$error":"#VALUE!"},null,null,null,null,{"$f":"IF(BA46=\"\",\"\",\nINDEX('All Data'!$K:$K,MATCH(BA46,'All Data'!$O:$O,0)))","v":"High Isat (Standard)"},{"$f":"IF(BB46=\"\",\"\",HYPERLINK(BB46))","v":"https://industrial.panasonic.com/ww/products/pt/automotive-inductors/models/ETQP4M2R2YFN"}]
[null,null,null,null,null,null,null,null,null,null,null,null,null,null,null,null,null,null,null,null,null,null,null,null,null,null,null,null,null,null,null,null,null,null,null,null,null,null,null,null,null,7.9,6.5,12.8,8.9,14.5,15.950000000000001,"6.4  x  6",3,"-55 to +155","Yes","MP","ETQP3M2R2KVN","https://industrial.panasonic.com/ww/products/pt/automotive-inductors/models/ETQP3M2R2KVN"]
[null,null,null,null,null,null,null,null,null,null,null,null,null,null,null,null,null,null,null,null,null,null,null,null,null,null,null,null,null,null,null,null,null,null,null,null,null,null,null,null,null,11.4,9.8000000000000007,20.399999999999999,15.16,8.5,9.3500000000000014,"8.5  x  8",4,"-55 to +155","Yes","MP","ETQP4M2R2KVK","https://industrial.panasonic.com/ww/products/pt/automotive-inductors/models/ETQP4M2R2KVK"]
[null,null,null,null,null,null,null,null,null,null,null,null,null,null,null,null,null,null,null,null,null,null,null,null,null,null,null,null,null,null,null,null,null,null,null,null,null,null,null,null,null,14.8,12.1,21,16.920000000000002,6.8,7.48,"10.7  x  10",4,"-55 to +155","Yes","MP","ETQP4M2R2KVC","https://industrial.panasonic.com/ww/products/pt/automotive-inductors/models/ETQP4M2R2KVC"]
[null,null,null,null,null,null,null,null,null,null,null,null,null,null,null,null,null,null,null,null,null,null,null,null,null,null,null,null,null,null,null,null,null,null,null,null,null,null,null,2.4500000000000002,0.2,14.1,12,19.3,13.7,7.4,8.14,"8.5  x  8",5.4,"-40 to +150","Yes","MP","ETQP5M2R5YSK","https://industrial.panasonic.com/ww/products/pt/automotive-inductors/models/ETQP5M2R5YSK"]
[null,null,null,null,null,null,null,null,null,null,null,null,null,null,null,null,null,null,null,null,null,null,null,null,null,null,null,null,null,null,null,null,null,null,null,null,null,null,null,2.5,0.2,18.100000000000001,15.1,27.2,19.739999999999998,5.3,5.9,"10.7  x  10",5.4,"-40 to +150","Yes","MP","ETQP5M2R5YFC","https://industrial.panasonic.com/ww/products/pt/automotive-inductors/models/ETQP5M2R5YFC"]
[null,null,null,null,null,null,null,null,null,null,null,null,null,null,null,null,null,null,null,null,null,null,null,null,null,null,null,null,null,null,null,null,null,null,null,null,null,null,null,null,null,null,null,null,20,5.3,5.83,"10.9  x  10",5.4,"-40 to +150","Yes","MP","ETQP5M2R5YTC","https://industrial.panasonic.com/ww/products/pt/automotive-inductors/models/ETQP5M2R5YTC"]
[null,null,null,null,null,null,null,null,null,null,null,null,null,null,null,null,null,null,null,null,null,null,null,null,null,null,null,null,null,null,null,null,null,null,null,null,null,null,null,null,null,14,11.9,20.100000000000001,14.54,7.6,8.36,"8.5  x  8",5.4,"-40 to +150","Yes","MP","ETQP5M2R5YFK","https://industrial.panasonic.com/ww/products/pt/automotive-inductors/models/ETQP5M2R5YFK"]
[null,null,null,null,null,null,null,null,null,null,null,null,null,null,null,null,null,null,null,null,null,null,null,null,null,null,null,null,null,null,null,null,null,null,null,null,null,null,null,null,null,19.600000000000001,16.3,25.8,17.2,4.55,5,"10.9  x  10",6,"-40 to +150","Yes","MP","ETQP6M2R5YLC","https://industrial.panasonic.com/ww/products/pt/automotive-inductors/models/ETQP6M2R5YLC"]
[null,null,null,null,null,null,null,null,null,null,null,null,null,null,null,null,null,null,null,null,null,null,null,null,null,null,null,null,null,null,null,null,null,null,null,null,null,null,null,null,null,27.7,23,32.1,23.07,2.6,2.8600000000000003,"12.6  x  13.2",8,"-40 to +160","Yes","MP","ETQP8M2R5JFA","https://industrial.panasonic.com/ww/products/pt/automotive-inductors/models/ETQP8M2R5JFA"]
[null,null,null,null,null,null,null,null,null,null,null,null,null,null,null,null,null,null,null,null,null,null,null,null,null,null,null,null,null,null,null,null,null,null,null,null,null,null,null,null,null,19.7,16.399999999999999,23.7,16.600000000000001,4.4800000000000004,4.93,"10.9  x  10",6,"-40 to +150","Yes","MP","ETQP6M2R5YSC","https://industrial.panasonic.com/ww/products/pt/automotive-inductors/models/ETQP6M2R5YSC"]
[null,null,null,null,null,null,null,null,null,null,null,null,null,null,null,null,null,null,null,null,null,null,null,null,null,null,null,null,null,null,null,null,null,null,null,null,null,null,null,null,null,42,34,41,29.1,1.7,1.87,"15.6  x  17.2",10.5,"-40 to +160","Yes","MP","ETQPAM2R5JFW","https://industrial.panasonic.com/ww/products/pt/automotive-inductors/models/ETQPAM2R5JFW"]
[null,null,null,null,null,null,null,null,null,null,null,null,null,null,null,null,null,null,null,null,null,null,null,null,null,null,null,null,null,null,null,null,null,null,null,null,null,null,null,3.3,0.2,8.1999999999999993,6.4,13.3,9.2799999999999994,16.100000000000001,17.71,"6.5  x  6",4.5,"-40 to +150","Yes","MP","ETQP4M3R3YFN","https://industrial.panasonic.com/ww/products/pt/automotive-inductors/models/ETQP4M3R3YFN"]
[null,null,null,null,null,null,null,null,null,null,null,null,null,null,null,null,null,null,null,null,null,null,null,null,null,null,null,null,null,null,null,null,null,null,null,null,null,null,null,null,null,5,4.0999999999999996,8.6,6.15,31.3,34.430000000000007,"5.5  x  5",3,"-40 to +150","Yes","MP","ETQP3M3R3YFP","https://industrial.panasonic.com/ww/products/pt/automotive-inductors/models/ETQP3M3R3YFP"]
[null,null,null,null,null,null,null,null,null,null,null,null,null,null,null,null,null,null,null,null,null,null,null,null,null,null,null,null,null,null,null,null,null,null,null,null,null,null,null,null,null,15.7,13.1,22.7,16.27,7.1,7.81,"10.7  x  10",5.4,"-40 to +150","Yes","MP","ETQP5M3R3YFC","https://industrial.panasonic.com/ww/products/pt/automotive-inductors/models/ETQP5M3R3YFC"]
[null,null,null,null,null,null,null,null,null,null,null,null,null,null,null,null,null,null,null,null,null,null,null,null,null,null,null,null,null,null,null,null,null,null,null,null,null,null,null,null,null,null,null,null,17.5,7.1,7.81,"10.9  x  10",5.4,"-40 to +150","Yes","MP","ETQP5M3R3YTC","https://industrial.panasonic.com/ww/products/pt/automotive-inductors/models/ETQP5M3R3YTC"]
[null,null,null,null,null,null,null,null,null,null,null,null,null,null,null,null,null,null,null,null,null,null,null,null,null,null,null,null,null,null,null,null,null,null,null,null,null,null,null,null,null,17,14.2,26.3,19.690000000000001,6,6.6000000000000005,"10.9  x  10",6,"-40 to +150","Yes","MP","ETQP6M3R3YLC","https://industrial.panasonic.com/ww/products/pt/automotive-inductors/models/ETQP6M3R3YLC"]
[null,null,null,null,null,null,null,null,null,null,null,null,null,null,null,null,null,null,null,null,null,null,null,null,null,null,null,null,null,null,null,null,null,null,null,null,null,null,null,null,null,23.6,19.600000000000001,27.6,19.78,3.6,3.9600000000000004,"12.6  x  13.1",8,"-40 to +160","Yes","MP","ETQP8M3R3JFA","https://industrial.panasonic.com/ww/products/pt/automotive-inductors/models/ETQP8M3R3JFA"]
[null,null,null,null,null,null,null,null,null,null,null,null,null,null,null,null,null,null,null,null,null,null,null,null,null,null,null,null,null,null,null,null,null,null,null,null,null,null,null,null,null,5.4,4.4000000000000004,8,5.81,27.3,30.030000000000005,"5.5  x  5",3,"-55 to +155","Yes","MP","ETQP3M3R3KVP","https://industrial.panasonic.com/ww/products/pt/automotive-inductors/models/ETQP3M3R3KVP"]
[null,null,null,null,null,null,null,null,null,null,null,null,null,null,null,null,null,null,null,null,null,null,null,null,null,null,null,null,null,null,null,null,null,null,null,null,null,null,null,null,null,6.1,5,11.5,7.3,24.1,26.510000000000005,"6.4  x  6",3,"-55 to +155","Yes","MP","ETQP3M3R3KVN","https://industrial.panasonic.com/ww/products/pt/automotive-inductors/models/ETQP3M3R3KVN"]
[null,null,null,null,null,null,null,null,null,null,null,null,null,null,null,null,null,null,null,null,null,null,null,null,null,null,null,null,null,null,null,null,null,null,null,null,null,null,null,null,null,8.9,7.6,17.399999999999999,11.71,14.1,15.51,"8.5  x  8",4,"-55 to +155","Yes","MP","ETQP4M3R3KVK","https://industrial.panasonic.com/ww/products/pt/automotive-inductors/models/ETQP4M3R3KVK"]
[null,null,null,null,null,null,null,null,null,null,null,null,null,null,null,null,null,null,null,null,null,null,null,null,null,null,null,null,null,null,null,null,null,null,null,null,null,null,null,null,null,12.6,10.3,17.100000000000001,12.66,9.4,10.340000000000002,"10.7  x  10",4,"-55 to +155","Yes","MP","ETQP4M3R3KVC","https://industrial.panasonic.com/ww/products/pt/automotive-inductors/models/ETQP4M3R3KVC"]
[null,null,null,null,null,null,null,null,null,null,null,null,null,null,null,null,null,null,null,null,null,null,null,null,null,null,null,null,null,null,null,null,null,null,null,null,null,null,null,null,null,9.1999999999999993,7.2,12,8.9,13.1,14.41,"6.4  x  6",4.8,"-40 to +150","Yes","MP","ETQP4M3R3KFN","https://industrial.panasonic.com/ww/products/pt/automotive-inductors/models/ETQP4M3R3KFN"]
[null,null,null,null,null,null,null,null,null,null,null,null,null,null,null,null,null,null,null,null,null,null,null,null,null,null,null,null,null,null,null,null,null,null,null,null,null,null,null,null,null,10.4,8.3000000000000007,14.4,10.34,11.9,13.090000000000002,"7.5  x  7",5.4,"-40 to +150","Yes","MP","ETQP5M3R3YFM","https://industrial.panasonic.com/ww/products/pt/automotive-inductors/models/ETQP5M3R3YFM"]
[null,null,null,null,null,null,null,null,null,null,null,null,null,null,null,null,null,null,null,null,null,null,null,null,null,null,null,null,null,null,null,null,null,null,null,null,null,null,null,null,null,12.5,10.7,17.899999999999999,12.96,9.5,10.450000000000001,"8.5  x  8",5.4,"-40 to +150","Yes","MP","ETQP5M3R3YFK","https://industrial.panasonic.com/ww/products/pt/automotive-inductors/models/ETQP5M3R3YFK"]
[null,null,null,null,null,null,null,null,null,null,null,null,null,null,null,null,null,null,null,null,null,null,null,null,null,null,null,null,null,null,null,null,null,null,null,null,null,null,null,null,null,14.7,11.8,23.4,16.63,7.1,7.81,"10.7  x  10",5,"-40 to +150","Yes","MP","ETQP5M3R3YGC","https://industrial.panasonic.com/ww/products/pt/automotive-inductors/models/ETQP5M3R3YGC"]
[null,null,null,null,null,null,null,null,null,null,null,null,null,null,null,null,null,null,null,null,null,null,null,null,null,null,null,null,null,null,null,null,null,null,null,null,null,null,null,null,null,35,29,37,26.1,2.4,2.64,"15.6  x  17.2",10.5,"-40 to +160","Yes","MP","ETQPAM3R3JFW","https://industrial.panasonic.com/ww/products/pt/automotive-inductors/models/ETQPAM3R3JFW"]
[null,null,null,null,null,null,null,null,null,null,null,null,null,null,null,null,null,null,null,null,null,null,null,null,null,null,null,null,null,null,null,null,null,null,null,null,null,null,null,4.7,0.2,4.8,4,7.7,5.6,36,39.6,"5.5  x  5",4,"-40 to +150","Yes","MP","ETQP4M4R7YFP","https://industrial.panasonic.com/ww/products/pt/automotive-inductors/models/ETQP4M4R7YFP"]
[null,null,null,null,null,null,null,null,null,null,null,null,null,null,null,null,null,null,null,null,null,null,null,null,null,null,null,null,null,null,null,null,null,null,null,null,null,null,null,null,null,13.1,10.9,20,14.75,10.199999999999999,11.3,"10.7  x  10",5.4,"-40 to +150","Yes","MP","ETQP5M4R7YFC","https://industrial.panasonic.com/ww/products/pt/automotive-inductors/models/ETQP5M4R7YFC"]
[null,null,null,null,null,null,null,null,null,null,null,null,null,null,null,null,null,null,null,null,null,null,null,null,null,null,null,null,null,null,null,null,null,null,null,null,null,null,null,null,null,8,6.3,13.1,9.4499999999999993,20.399999999999999,22.5,"7.5  x  7",5.4,"-40 to +150","Yes","MP","ETQP5M4R7YFM","https://industrial.panasonic.com/ww/products/pt/automotive-inductors/models/ETQP5M4R7YFM"]
[null,null,null,null,null,null,null,null,null,null,null,null,null,null,null,null,null,null,null,null,null,null,null,null,null,null,null,null,null,null,null,null,null,null,null,null,null,null,null,null,null,14.1,11.8,22.5,15.17,8.6999999999999993,9.57,"10.9  x  10",6,"-40 to +150","Yes","MP","ETQP6M4R7YLC","https://industrial.panasonic.com/ww/products/pt/automotive-inductors/models/ETQP6M4R7YLC"]
[null,null,null,null,null,null,null,null,null,null,null,null,null,null,null,null,null,null,null,null,null,null,null,null,null,null,null,null,null,null,null,null,null,null,null,null,null,null,null,null,null,20.2,16.8,24.7,17.600000000000001,4.9000000000000004,5.39,"12.6  x  13.1",8,"-40 to +160","Yes","MP","ETQP8M4R7JFA","https://industrial.panasonic.com/ww/products/pt/automotive-inductors/models/ETQP8M4R7JFA"]
[null,null,null,null,null,null,null,null,null,null,null,null,null,null,null,null,null,null,null,null,null,null,null,null,null,null,null,null,null,null,null,null,null,null,null,null,null,null,null,null,null,4.0999999999999996,3.4,6.7,5.4,45.6,50.160000000000004,"5.5  x  5",3,"-55 to +155","Yes","MP","ETQP3M4R7KVP","https://industrial.panasonic.com/ww/products/pt/automotive-inductors/models/ETQP3M4R7KVP"]
[null,null,null,null,null,null,null,null,null,null,null,null,null,null,null,null,null,null,null,null,null,null,null,null,null,null,null,null,null,null,null,null,null,null,null,null,null,null,null,null,null,5.6,4.5999999999999996,9.8000000000000007,7.19,29,31.900000000000002,"6.4  x  6",3,"-55 to +155","Yes","MP","ETQP3M4R7KVN","https://industrial.panasonic.com/ww/products/pt/automotive-inductors/models/ETQP3M4R7KVN"]
[null,null,null,null,null,null,null,null,null,null,null,null,null,null,null,null,null,null,null,null,null,null,null,null,null,null,null,null,null,null,null,null,null,null,null,null,null,null,null,null,null,8.3000000000000007,7.1,15.1,9.24,16.100000000000001,17.71,"8.5  x  8",4,"-55 to +155","Yes","MP","ETQP4M4R7KVK","https://industrial.panasonic.com/ww/products/pt/automotive-inductors/models/ETQP4M4R7KVK"]
[null,null,null,null,null,null,null,null,null,null,null,null,null,null,null,null,null,null,null,null,null,null,null,null,null,null,null,null,null,null,null,null,null,null,null,null,null,null,null,null,null,11.2,9.1999999999999993,13.9,10.58,12.3,13.53,"10.7  x  10",4,"-55 to +155","Yes","MP","ETQP4M4R7KVC","https://industrial.panasonic.com/ww/products/pt/automotive-inductors/models/ETQP4M4R7KVC"]
[null,null,null,null,null,null,null,null,null,null,null,null,null,null,null,null,null,null,null,null,null,null,null,null,null,null,null,null,null,null,null,null,null,null,null,null,null,null,null,null,null,7.3,5.7,10.199999999999999,7.31,20.7,22.77,"6.4  x  6",4.8,"-40 to +150","Yes","MP","ETQP4M4R7KFN","https://industrial.panasonic.com/ww/products/pt/automotive-inductors/models/ETQP4M4R7KFN"]
[null,null,null,null,null,null,null,null,null,null,null,null,null,null,null,null,null,null,null,null,null,null,null,null,null,null,null,null,null,null,null,null,null,null,null,null,null,null,null,null,null,8.8000000000000007,6.5,10.7,7.7,16.8,18.48,"7.4  x  7",4.8,"-40 to +150","Yes","MP","ETQP4M4R7KFM","https://industrial.panasonic.com/ww/products/pt/automotive-inductors/models/ETQP4M4R7KFM"]
[null,null,null,null,null,null,null,null,null,null,null,null,null,null,null,null,null,null,null,null,null,null,null,null,null,null,null,null,null,null,null,null,null,null,null,null,null,null,null,null,null,31,26,30,21.1,3.1,3.41,"15.6  x  17.2",10.5,"-40 to +160","Yes","MP","ETQPAM4R7JFW","https://industrial.panasonic.com/ww/products/pt/automotive-inductors/models/ETQPAM4R7JFW"]
[null,null,null,null,null,null,null,null,null,null,null,null,null,null,null,null,null,null,null,null,null,null,null,null,null,null,null,null,null,null,null,null,null,null,null,null,null,null,null,6.8,0.2,5.2,4.0999999999999996,10,7.2,39.299999999999997,43.23,"6.5  x  6",4.5,"-40 to +150","Yes","MP","ETQP4M6R8YFN","https://industrial.panasonic.com/ww/products/pt/automotive-inductors/models/ETQP4M6R8YFN"]
[null,null,null,null,null,null,null,null,null,null,null,null,null,null,null,null,null,null,null,null,null,null,null,null,null,null,null,null,null,null,null,null,null,null,null,null,null,null,null,null,null,4.5,3.6,8.1,5.48,45.6,50.16,"6.4  x  6",3,"-55 to +155","Yes","MP","ETQP3M6R8KVN","https://industrial.panasonic.com/ww/products/pt/automotive-inductors/models/ETQP3M6R8KVN"]
[null,null,null,null,null,null,null,null,null,null,null,null,null,null,null,null,null,null,null,null,null,null,null,null,null,null,null,null,null,null,null,null,null,null,null,null,null,null,null,null,null,6.9,5.5,12.1,8.6,26.7,29.4,"7.5  x  7",5.4,"-40 to +150","Yes","MP","ETQP5M6R8YFM","https://industrial.panasonic.com/ww/products/pt/automotive-inductors/models/ETQP5M6R8YFM"]
[null,null,null,null,null,null,null,null,null,null,null,null,null,null,null,null,null,null,null,null,null,null,null,null,null,null,null,null,null,null,null,null,null,null,null,null,null,null,null,null,null,null,5.9,11,7.59,23.5,25.85,"8.5  x  8",4,"-55 to +155","Yes","MP","ETQP4M6R8KVK","https://industrial.panasonic.com/ww/products/pt/automotive-inductors/models/ETQP4M6R8KVK"]
[null,null,null,null,null,null,null,null,null,null,null,null,null,null,null,null,null,null,null,null,null,null,null,null,null,null,null,null,null,null,null,null,null,null,null,null,null,null,null,null,null,3.5,2.9,6.1,4.54,65.7,72.27000000000001,"5.5  x  5",3,"-55 to +155","Yes","MP","ETQP3M6R8KVP","https://industrial.panasonic.com/ww/products/pt/automotive-inductors/models/ETQP3M6R8KVP"]
[null,null,null,null,null,null,null,null,null,null,null,null,null,null,null,null,null,null,null,null,null,null,null,null,null,null,null,null,null,null,null,null,null,null,null,null,null,null,null,null,null,8.9,7.4,12.1,8.92,18.5,20.350000000000001,"10.7  x  10",4,"-55 to +155","Yes","MP","ETQP4M6R8KVC","https://industrial.panasonic.com/ww/products/pt/automotive-inductors/models/ETQP4M6R8KVC"]
[null,null,null,null,null,null,null,null,null,null,null,null,null,null,null,null,null,null,null,null,null,null,null,null,null,null,null,null,null,null,null,null,null,null,null,null,null,null,null,null,null,5.9,4.5999999999999996,9.9,7.1,32.1,35.31,"6.4  x  6",4.8,"-40 to +150","Yes","MP","ETQP4M6R8KFN","https://industrial.panasonic.com/ww/products/pt/automotive-inductors/models/ETQP4M6R8KFN"]
[null,null,null,null,null,null,null,null,null,null,null,null,null,null,null,null,null,null,null,null,null,null,null,null,null,null,null,null,null,null,null,null,null,null,null,null,null,null,null,10,0.2,5.2,4.0999999999999996,8.1,6.6,40.4,44.44,"6.4  x  6",4.8,"-40 to +150","Yes","MP","ETQP4M100KFN","https://industrial.panasonic.com/ww/products/pt/automotive-inductors/models/ETQP4M100KFN"]
[null,null,null,null,null,null,null,null,null,null,null,null,null,null,null,null,null,null,null,null,null,null,null,null,null,null,null,null,null,null,null,null,null,null,null,null,null,null,null,null,null,null,4.4000000000000004,9.1,6.79,41.6,45.760000000000005,"8.5  x  8",4,"-55 to +155","Yes","MP","ETQP4M100KVK","https://industrial.panasonic.com/ww/products/pt/automotive-inductors/models/ETQP4M100KVK"]
[null,null,null,null,null,null,null,null,null,null,null,null,null,null,null,null,null,null,null,null,null,null,null,null,null,null,null,null,null,null,null,null,null,null,null,null,null,null,null,null,null,4.5,3.5,8.3000000000000007,5.77,54.2,59.620000000000005,"6.5  x  6",4.5,"-40 to +150","Yes","MP","ETQP4M100YFN","https://industrial.panasonic.com/ww/products/pt/automotive-inductors/models/ETQP4M100YFN"]
[null,null,null,null,null,null,null,null,null,null,null,null,null,null,null,null,null,null,null,null,null,null,null,null,null,null,null,null,null,null,null,null,null,null,null,null,null,null,null,null,null,2.9,2.4,4.2,3.35,96,105.6,"5.5  x  5",3,"-55 to +155","Yes","MP","ETQP3M100KVP","https://industrial.panasonic.com/ww/products/pt/automotive-inductors/models/ETQP3M100KVP"]
[null,null,null,null,null,null,null,null,null,null,null,null,null,null,null,null,null,null,null,null,null,null,null,null,null,null,null,null,null,null,null,null,null,null,null,null,null,null,null,null,null,8.5,7.1,10.7,8.8000000000000007,23.8,26.2,"10.7  x  10",5.4,"-40 to +150","Yes","MP","ETQP5M100YFC","https://industrial.panasonic.com/ww/products/pt/automotive-inductors/models/ETQP5M100YFC"]
[null,null,null,null,null,null,null,null,null,null,null,null,null,null,null,null,null,null,null,null,null,null,null,null,null,null,null,null,null,null,null,null,null,null,null,null,null,null,null,null,null,3.6,2.9,5.8,4.22,71,78.099999999999994,"6.4  x  6",3,"-55 to +155","Yes","MP","ETQP3M100KVN","https://industrial.panasonic.com/ww/products/pt/automotive-inductors/models/ETQP3M100KVN"]
[null,null,null,null,null,null,null,null,null,null,null,null,null,null,null,null,null,null,null,null,null,null,null,null,null,null,null,null,null,null,null,null,null,null,null,null,null,null,null,null,null,6.7,5.7,13,8.0399999999999991,33.4,36.799999999999997,"8.5  x  8",5.4,"-40 to +150","Yes","MP","ETQP5M100YFK","https://industrial.panasonic.com/ww/products/pt/automotive-inductors/models/ETQP5M100YFK"]
[null,null,null,null,null,null,null,null,null,null,null,null,null,null,null,null,null,null,null,null,null,null,null,null,null,null,null,null,null,null,null,null,null,null,null,null,null,null,null,null,null,6.9,5.9,11.1,7.7,31.5,34.65,"8.5  x  8",5.4,"-40 to +150","Yes","MP","ETQP5M100GAK","https://industrial.panasonic.com/ww/products/pt/automotive-inductors/models/ETQP5M100GAK"]
[null,null,null,null,null,null,null,null,null,null,null,null,null,null,null,null,null,null,null,null,null,null,null,null,null,null,null,null,null,null,null,null,null,null,null,null,null,null,null,null,null,5.7,4.7,10.6,7.56,37.6,41.3,"7.5  x  7",5.4,"-40 to +150","Yes","MP","ETQP5M100YFM","https://industrial.panasonic.com/ww/products/pt/automotive-inductors/models/ETQP5M100YFM"]
[null,null,null,null,null,null,null,null,null,null,null,null,null,null,null,null,null,null,null,null,null,null,null,null,null,null,null,null,null,null,null,null,null,null,null,null,null,null,null,null,null,3.7,3,5.5,3.8,68,74.8,"6.5  x  6",3,"-40 to +150","Yes","MP","ETQP3M100HFN","https://industrial.panasonic.com/ww/products/pt/automotive-inductors/models/ETQP3M100HFN"]
[null,null,null,null,null,null,null,null,null,null,null,null,null,null,null,null,null,null,null,null,null,null,null,null,null,null,null,null,null,null,null,null,null,null,null,null,null,null,null,null,null,3,2.5,3.9,2.75,95,104.5,"5.5  x  5",4,"-40 to +150","Yes","MP","ETQP4M100YFP","https://industrial.panasonic.com/ww/products/pt/automotive-inductors/models/ETQP4M100YFP"]
[null,null,null,null,null,null,null,null,null,null,null,null,null,null,null,null,null,null,null,null,null,null,null,null,null,null,null,null,null,null,null,null,null,null,null,null,null,null,null,null,null,7.6,6.3,10.8,8.09,25.4,27.94,"10.7  x  10",4,"-55 to +155","Yes","MP","ETQP4M100KVC","https://industrial.panasonic.com/ww/products/pt/automotive-inductors/models/ETQP4M100KVC"]
[null,null,null,null,null,null,null,null,null,null,null,null,null,null,null,null,null,null,null,null,null,null,null,null,null,null,null,null,null,null,null,null,null,null,null,null,null,null,null,null,null,6,4.5,9.6,6.7,36,39.6,"7.4  x  7",4.8,"-40 to +150","Yes","MP","ETQP4M100KFM","https://industrial.panasonic.com/ww/products/pt/automotive-inductors/models/ETQP4M100KFM"]
[null,null,null,null,null,null,null,null,null,null,null,null,null,null,null,null,null,null,null,null,null,null,null,null,null,null,null,null,null,null,null,null,null,null,null,null,null,null,null,14,0.2,7.9,6.5,11.2,8,28,30.800000000000004,"10.9  x  10",6,"-40 to +150","Yes","MP","ETQP6M150KLC","https://industrial.panasonic.com/ww/products/pt/automotive-inductors/models/ETQP6M150KLC"]
[null,null,null,null,null,null,null,null,null,null,null,null,null,null,null,null,null,null,null,null,null,null,null,null,null,null,null,null,null,null,null,null,null,null,null,null,null,null,null,15,0.2,4.5,3.8,7.6,5.82,55,60.500000000000007,"8.5  x  8",4,"-55 to +155","Yes","MP","ETQP4M150KVK","https://industrial.panasonic.com/ww/products/pt/automotive-inductors/models/ETQP4M150KVK"]
[null,null,null,null,null,null,null,null,null,null,null,null,null,null,null,null,null,null,null,null,null,null,null,null,null,null,null,null,null,null,null,null,null,null,null,null,null,null,null,null,null,7,5.8,12,7.33,35.6,39.159999999999997,"10.7  x  10",5.4,"-40 to +150","Yes","MP","ETQP5M150YFC","https://industrial.panasonic.com/ww/products/pt/automotive-inductors/models/ETQP5M150YFC"]
[null,null,null,null,null,null,null,null,null,null,null,null,null,null,null,null,null,null,null,null,null,null,null,null,null,null,null,null,null,null,null,null,null,null,null,null,null,null,null,null,null,4.2,3.3,6.7,5,63.8,70.180000000000007,"6.4  x  6",4.8,"-40 to +150","Yes","MP","ETQP4M150KFN","https://industrial.panasonic.com/ww/products/pt/automotive-inductors/models/ETQP4M150KFN"]
[null,null,null,null,null,null,null,null,null,null,null,null,null,null,null,null,null,null,null,null,null,null,null,null,null,null,null,null,null,null,null,null,null,null,null,null,null,null,null,null,null,5.5,4.7,7.2,5.58,48.2,53.1,"8.5  x  8",5.4,"-40 to +150","Yes","MP","ETQP5M150YFK","https://industrial.panasonic.com/ww/products/pt/automotive-inductors/models/ETQP5M150YFK"]
[null,null,null,null,null,null,null,null,null,null,null,null,null,null,null,null,null,null,null,null,null,null,null,null,null,null,null,null,null,null,null,null,null,null,null,null,null,null,null,null,null,6.3,5.2,9.1999999999999993,5.96,37,40.700000000000003,"10.7  x  10",4,"-55 to +155","Yes","MP","ETQP4M150KVC","https://industrial.panasonic.com/ww/products/pt/automotive-inductors/models/ETQP4M150KVC"]
[null,null,null,null,null,null,null,null,null,null,null,null,null,null,null,null,null,null,null,null,null,null,null,null,null,null,null,null,null,null,null,null,null,null,null,null,null,null,null,null,null,3,2.5,5.0999999999999996,3.45,99.2,109.12000000000002,"6.4  x  6",3,"-55 to +155","Yes","MP","ETQP3M150KVN","https://industrial.panasonic.com/ww/products/pt/automotive-inductors/models/ETQP3M150KVN"]
[null,null,null,null,null,null,null,null,null,null,null,null,null,null,null,null,null,null,null,null,null,null,null,null,null,null,null,null,null,null,null,null,null,null,null,null,null,null,null,null,null,4.5999999999999996,3.4,7.2,5.2,60.7,66.77,"7.4  x  7",4.8,"-40 to +150","Yes","MP","ETQP4M150KFM","https://industrial.panasonic.com/ww/products/pt/automotive-inductors/models/ETQP4M150KFM"]
[null,null,null,null,null,null,null,null,null,null,null,null,null,null,null,null,null,null,null,null,null,null,null,null,null,null,null,null,null,null,null,null,null,null,null,null,null,null,null,20,0.2,6.2,5.2,7.9,5.5,45.5,50.05,"10.9  x  10",5.6,"-40 to +150","Yes","MP","ETQP5M220YSC","https://industrial.panasonic.com/ww/products/pt/automotive-inductors/models/ETQP5M220YSC"]
[null,null,null,null,null,null,null,null,null,null,null,null,null,null,null,null,null,null,null,null,null,null,null,null,null,null,null,null,null,null,null,null,null,null,null,null,null,null,null,22,0.2,2.9,2.2999999999999998,6,3.94,126,138.6,"6.5  x  6",4.5,"-40 to +150","Yes","MP","ETQP4M220YFN","https://industrial.panasonic.com/ww/products/pt/automotive-inductors/models/ETQP4M220YFN"]
[null,null,null,null,null,null,null,null,null,null,null,null,null,null,null,null,null,null,null,null,null,null,null,null,null,null,null,null,null,null,null,null,null,null,null,null,null,null,null,null,null,2.5,2.1,4,2.9,144,158.4,"6.5  x  6",3,"-40 to +150","Yes","MP","ETQP3M220HFN","https://industrial.panasonic.com/ww/products/pt/automotive-inductors/models/ETQP3M220HFN"]
[null,null,null,null,null,null,null,null,null,null,null,null,null,null,null,null,null,null,null,null,null,null,null,null,null,null,null,null,null,null,null,null,null,null,null,null,null,null,null,null,null,2.2000000000000002,1.8,2.8,1.9,165,181.5,"5.5  x  5",3,"-55 to +155","Yes","MP","ETQP3M220KVP","https://industrial.panasonic.com/ww/products/pt/automotive-inductors/models/ETQP3M220KVP"]
[null,null,null,null,null,null,null,null,null,null,null,null,null,null,null,null,null,null,null,null,null,null,null,null,null,null,null,null,null,null,null,null,null,null,null,null,null,null,null,null,null,5,4.0999999999999996,7.4,5.63,60,66,"10.7  x  10",4,"-55 to +155","Yes","MP","ETQP4M220KVC","https://industrial.panasonic.com/ww/products/pt/automotive-inductors/models/ETQP4M220KVC",null,{"$f":"IFERROR(_xlfn.IMAGE(BC117,\"--\"),\"--\")","v":"--"}]
[null,null,null,null,null,null,null,null,null,null,null,null,null,null,null,null,null,null,null,null,null,null,null,null,null,null,null,null,null,null,null,null,null,null,null,null,null,null,null,null,null,4.8,4.0999999999999996,6.9,4.92,63,70,"8.5  x  8",5.4,"-40 to +150","Yes","MP","ETQP5M220YFK","https://industrial.panasonic.com/ww/products/pt/automotive-inductors/models/ETQP5M220YFK",null,"--"]
[null,null,null,null,null,null,null,null,null,null,null,null,null,null,null,null,null,null,null,null,null,null,null,null,null,null,null,null,null,null,null,null,null,null,null,null,null,null,null,null,null,2.2999999999999998,1.9,3.1,2.35,163,179,"5.5  x  5",4,"-40 to +150","Yes","MP","ETQP4M220YFP","https://industrial.panasonic.com/ww/products/pt/automotive-inductors/models/ETQP4M220YFP",null,"--"]
[null,null,null,null,null,null,null,null,null,null,null,null,null,null,null,null,null,null,null,null,null,null,null,null,null,null,null,null,null,null,null,null,null,null,null,null,null,null,null,null,null,6.2,5.2,9.1999999999999993,6.64,45,50,"10.7  x  10",5.4,"-40 to +150","Yes","MP","ETQP5M220YFC","https://industrial.panasonic.com/ww/products/pt/automotive-inductors/models/ETQP5M220YFC",null,"--"]
[null,null,null,null,null,null,null,null,null,null,null,null,null,null,null,null,null,null,null,null,null,null,null,null,null,null,null,null,null,null,null,null,null,null,null,null,null,null,null,null,null,2.7,2.2000000000000002,4.3,2.79,128,140.80000000000001,"6.4  x  6",3,"-55 to +155","Yes","MP","ETQP3M220KVN","https://industrial.panasonic.com/ww/products/pt/automotive-inductors/models/ETQP3M220KVN",null,"--"]
[null,null,null,null,null,null,null,null,null,null,null,null,null,null,null,null,null,null,null,null,null,null,null,null,null,null,null,null,null,null,null,null,null,null,null,null,null,null,null,null,null,3.7,3,5.8,3.97,92,102,"7.5  x  7",5.4,"-40 to +150","Yes","MP","ETQP5M220YFM","https://industrial.panasonic.com/ww/products/pt/automotive-inductors/models/ETQP5M220YFM",null,"--"]
[null,null,null,null,null,null,null,null,null,null,null,null,null,null,null,null,null,null,null,null,null,null,null,null,null,null,null,null,null,null,null,null,null,null,null,null,null,null,null,null,null,3.1,2.4,4.0999999999999996,2.9,113,124.3,"6.4  x  6",4.8,"-40 to +150","Yes","MP","ETQP4M220KFN","https://industrial.panasonic.com/ww/products/pt/automotive-inductors/models/ETQP4M220KFN",null,"--"]
[null,null,null,null,null,null,null,null,null,null,null,null,null,null,null,null,null,null,null,null,null,null,null,null,null,null,null,null,null,null,null,null,null,null,null,null,null,null,null,null,null,3.8,3.2,6,5,78.400000000000006,86.24,"8.5  x  8",4,"-55 to +155","Yes","MP","ETQP4M220KVK","https://industrial.panasonic.com/ww/products/pt/automotive-inductors/models/ETQP4M220KVK",null,"--"]
[null,null,null,null,null,null,null,null,null,null,null,null,null,null,null,null,null,null,null,null,null,null,null,null,null,null,null,null,null,null,null,null,null,null,null,null,null,null,null,null,null,3.9,2.9,4.5999999999999996,3.7,84.1,92.51,"7.4  x  7",4.8,"-40 to +150","Yes","MP","ETQP4M220KFM","https://industrial.panasonic.com/ww/products/pt/automotive-inductors/models/ETQP4M220KFM",null,"--"]
[null,null,null,null,null,null,null,null,null,null,null,null,null,null,null,null,null,null,null,null,null,null,null,null,null,null,null,null,null,null,null,null,null,null,null,null,null,null,null,33,0.2,2.5,2,4.0999999999999996,2.98,172,189.2,"6.5  x  6",4.5,"-40 to +150","Yes","MP","ETQP4M330YFN","https://industrial.panasonic.com/ww/products/pt/automotive-inductors/models/ETQP4M330YFN",null,"--"]
[null,null,null,null,null,null,null,null,null,null,null,null,null,null,null,null,null,null,null,null,null,null,null,null,null,null,null,null,null,null,null,null,null,null,null,null,null,null,null,null,null,5,4.2,7.6,5.48,68.5,75.400000000000006,"10.7  x  10",5.4,"-40 to +150","Yes","MP","ETQP5M330YFC","https://industrial.panasonic.com/ww/products/pt/automotive-inductors/models/ETQP5M330YFC",null,"--"]
[null,null,null,null,null,null,null,null,null,null,null,null,null,null,null,null,null,null,null,null,null,null,null,null,null,null,null,null,null,null,null,null,null,null,null,null,null,null,null,null,null,4.2,3.4,5.6,4.0599999999999996,84.6,93.06,"10.7  x  10",4,"-55 to +155","Yes","MP","ETQP4M330KVC","https://industrial.panasonic.com/ww/products/pt/automotive-inductors/models/ETQP4M330KVC",null,"--"]
[null,null,null,null,null,null,null,null,null,null,null,null,null,null,null,null,null,null,null,null,null,null,null,null,null,null,null,null,null,null,null,null,null,null,null,null,null,null,null,null,null,3.4,2.5,4.2,3.1,115,126.5,"7.4  x  7",4.8,"-40 to +150","Yes","MP","ETQP4M330KFM","https://industrial.panasonic.com/ww/products/pt/automotive-inductors/models/ETQP4M330KFM",null,"--"]
[null,null,null,null,null,null,null,null,null,null,null,null,null,null,null,null,null,null,null,null,null,null,null,null,null,null,null,null,null,null,null,null,null,null,null,null,null,null,null,null,null,2.1,1.7,3,2.1,206,226.6,"6.4  x  6",3,"-55 to +155","Yes","MP","ETQP3M330KVN","https://industrial.panasonic.com/ww/products/pt/automotive-inductors/models/ETQP3M330KVN",null,"--"]
[null,null,null,null,null,null,null,null,null,null,null,null,null,null,null,null,null,null,null,null,null,null,null,null,null,null,null,null,null,null,null,null,null,null,null,null,null,null,null,null,null,3.3,2.6,4.8,3.4,120,132,"7.5  x  7",5.4,"-40 to +150","Yes","MP","ETQP5M330YFM","https://industrial.panasonic.com/ww/products/pt/automotive-inductors/models/ETQP5M330YFM",null,"--"]
[null,null,null,null,null,null,null,null,null,null,null,null,null,null,null,null,null,null,null,null,null,null,null,null,null,null,null,null,null,null,null,null,null,null,null,null,null,null,null,null,null,3.1,2.6,4.7,3.74,118,129.80000000000001,"8.5  x  8",4,"-55 to +155","Yes","MP","ETQP4M330KVK","https://industrial.panasonic.com/ww/products/pt/automotive-inductors/models/ETQP4M330KVK",null,"--"]
[null,null,null,null,null,null,null,null,null,null,null,null,null,null,null,null,null,null,null,null,null,null,null,null,null,null,null,null,null,null,null,null,null,null,null,null,null,null,null,36,0.3,"(空白)",6.9,"(空白)","-",25.8,"-","14  x  14",13.1,"-40 to +150","Yes","MP","ETQPDH240DTV","https://industrial.panasonic.com/ww/products/pt/automotive-inductors/models/ETQPDH240DTV",null,"--"]
[null,null,null,null,null,null,null,null,null,null,null,null,null,null,null,null,null,null,null,null,null,null,null,null,null,null,null,null,null,null,null,null,null,null,null,null,null,null,null,44,0.2,4.0999999999999996,3.4,5.6,4.5,102,112.2,"10.9  x  10",5.4,"-40 to +150","Yes","MP","ETQP5M470YSC","https://industrial.panasonic.com/ww/products/pt/automotive-inductors/models/ETQP5M470YSC",null,"--"]
[null,null,null,null,null,null,null,null,null,null,null,null,null,null,null,null,null,null,null,null,null,null,null,null,null,null,null,null,null,null,null,null,null,null,null,null,null,null,null,47,0.2,2.9,2.2000000000000002,3.7,2.7,148.6,163.46,"7.4  x  7",4.8,"-40 to +150","Yes","MP","ETQP4M470KFM","https://industrial.panasonic.com/ww/products/pt/automotive-inductors/models/ETQP4M470KFM",null,"--"]
[null,null,null,null,null,null,null,null,null,null,null,null,null,null,null,null,null,null,null,null,null,null,null,null,null,null,null,null,null,null,null,null,null,null,null,null,null,null,null,null,null,2.2000000000000002,1.8,3.8,2.6,210,231.00000000000003,"6.5  x  6",4.5,"-40 to +150","Yes","MP","ETQP4M470YFN","https://industrial.panasonic.com/ww/products/pt/automotive-inductors/models/ETQP4M470YFN",null,{"$f":"IFERROR(_xlfn.IMAGE(BC136,\"--\"),\"--\")","v":"--"}]
[null,null,null,null,null,null,null,null,null,null,null,null,null,null,null,null,null,null,null,null,null,null,null,null,null,null,null,null,null,null,null,null,null,null,null,null,null,null,null,null,null,4.2,3.5,6.8,4.87,99,108.9,"10.7  x  10",5.4,"-40 to +150","Yes","MP","ETQP5M470YFC","https://industrial.panasonic.com/ww/products/pt/automotive-inductors/models/ETQP5M470YFC",null,"--"]
[null,null,null,null,null,null,null,null,null,null,null,null,null,null,null,null,null,null,null,null,null,null,null,null,null,null,null,null,null,null,null,null,null,null,null,null,null,null,null,null,null,3.4,2.8,4.7,3.34,132,145.20000000000002,"10.7  x  10",4,"-55 to +155","Yes","MP","ETQP4M470KVC","https://industrial.panasonic.com/ww/products/pt/automotive-inductors/models/ETQP4M470KVC",null,"--"]
[null,null,null,null,null,null,null,null,null,null,null,null,null,null,null,null,null,null,null,null,null,null,null,null,null,null,null,null,null,null,null,null,null,null,null,null,null,null,null,48,0.2,2.9,2.2999999999999998,4.0999999999999996,2.94,156,172,"7.5  x  7",5.4,"-40 to +150","Yes","MP","ETQP5M470YFM","https://industrial.panasonic.com/ww/products/pt/automotive-inductors/models/ETQP5M470YFM",null,"--"]
[null,null,null,null,null,null,null,null,null,null,null,null,null,null,null,null,null,null,null,null,null,null,null,null,null,null,null,null,null,null,null,null,null,null,null,null,null,null,null,null,null,3.4,2.9,5.4,3.96,125,138,"8.5  x  8",5.4,"-40 to +150","Yes","MP","ETQP5M470YFK","https://industrial.panasonic.com/ww/products/pt/automotive-inductors/models/ETQP5M470YFK",null,"--"]
[null,null,null,null,null,null,null,null,null,null,null,null,null,null,null,null,null,null,null,null,null,null,null,null,null,null,null,null,null,null,null,null,null,null,null,null,null,null,null,66,0.2,3.6,3,4.9000000000000004,3.75,136,149.6,"10.7  x  10",5.4,"-40 to +150","Yes","MP","ETQP5M680YFC","https://industrial.panasonic.com/ww/products/pt/automotive-inductors/models/ETQP5M680YFC",null,"--"]
[null,null,null,null,null,null,null,null,null,null,null,null,null,null,null,null,null,null,null,null,null,null,null,null,null,null,null,null,null,null,null,null,null,null,null,null,null,null,null,68,0.2,2.9,2.4,4.7,3.35,178.4,196.24,"10.7  x  10",4,"-55 to +155","Yes","MP","ETQP4M680KVC","https://industrial.panasonic.com/ww/products/pt/automotive-inductors/models/ETQP4M680KVC",null,"--"]
[null,null,null,null,null,null,null,null,null,null,null,null,null,null,null,null,null,null,null,null,null,null,null,null,null,null,null,null,null,null,null,null,null,null,null,null,null,null,null,null,null,2.2999999999999998,1.9,3.9,2.75,251,276.10000000000002,"7.5  x  7",5.4,"-40 to +150","Yes","MP","ETQP5M680YFM","https://industrial.panasonic.com/ww/products/pt/automotive-inductors/models/ETQP5M680YFM"]
[null,null,null,null,null,null,null,null,null,null,null,null,null,null,null,null,null,null,null,null,null,null,null,null,null,null,null,null,null,null,null,null,null,null,null,null,null,null,null,82,0.2,2.8,2.2000000000000002,4.3,3.1,194,213.4,"10.7  x  10",5,"-40 to +150","Yes","MP","ETQP5M820YGC","https://industrial.panasonic.com/ww/products/pt/automotive-inductors/models/ETQP5M820YGC"]
[null,null,null,null,null,null,null,null,null,null,null,null,null,null,null,null,null,null,null,null,null,null,null,null,null,null,null,null,null,null,null,null,null,null,null,null,null,null,null,95,0.2,1.9,1.4,3.1,2.4700000000000002,348,382.8,"7.5  x  7",5,"-40 to +150","Yes","MP","ETQP5M101YGM","https://industrial.panasonic.com/ww/products/pt/automotive-inductors/models/ETQP5M101YGM"]
[null,null,null,null,null,null,null,null,null,null,null,null,null,null,null,null,null,null,null,null,null,null,null,null,null,null,null,null,null,null,null,null,null,null,null,null,null,null,null,97,0.2,2.7,2.2000000000000002,3,2.1800000000000002,208,229,"10.7  x  10",5,"-40 to +150","Yes","MP","ETQP5M101YGC","https://industrial.panasonic.com/ww/products/pt/automotive-inductors/models/ETQP5M101YGC"]
[null,null,null,null,null,null,null,null,null,null,null,null,null,null,null,null,null,null,null,null,null,null,null,null,null,null,null,null,null,null,null,null,null,null,null,null,null,null,null,100,0.2,2.5,2,3.5,2.5,242,266.2,"10.7  x  10",4,"-55 to +155","Yes","MP","ETQP4M101KVC","https://industrial.panasonic.com/ww/products/pt/automotive-inductors/models/ETQP4M101KVC"]
[null,null,null,null,null,null,null,null,null,null,null,null,null,null,null,null,null,null,null,null,null,null,null,null,null,null,null,null,null,null,null,null,null,null,null,null,null,null,null,null,null,2.1,1.7,3,1.98,302,333,"8.5  x  8",5,"-40 to +150","Yes","MP","ETQP5M101YGK","https://industrial.panasonic.com/ww/products/pt/automotive-inductors/models/ETQP5M101YGK"]

{"sheet":"Non Auto","index":2,"n_rows":21,"n_cols":57,"rows_kept":21,"cut":false,"hidden":false,"merged":[]}
[null,null,null,null,null,null,null,null,null,null,null,null,null,null,null,null,null,null,null,null,null,null,null,null,null,null,null,null,null,null,null,null,null,null,null,null,"Panasonic Non-Automotive Inductor Quick Search"]
[]
[]
[]
[]
[null,null,null,null,null,null,null,null,null,null,null,null,null,null,null,null,null,null,null,null,null,null,null,null,null,null,null,null,null,null,null,null,null,null,null,null,null,"-","Status","Lo (uH)","Lo Tol. (%)","Method B \ntyp (A)","Method A typ (A)","⊿L=-30% \ntyp (A)","⊿L=-20% \ntyp (A)","DCR Typ (mOhm)","DCR Max (mOhm)","Size (mm)","Max Height (mm)","Temp Range (deg.C)","Automotive Grade","Status","Part Number","L1 (uH)",null,null,"URL"]
[null,null,null,null,null,null,null,null,null,null,null,null,null,null,null,null,null,null,null,null,null,null,null,null,null,null,null,null,null,null,null,null,null,null,null,null,null,null,"NRND",0.15,0.2,"-",29,40,30,"0.614 (+/-7%)",0.66,"8.7  x  7",3,"-40 to +130","No","MP","ETQP3LR15CFM","-",null,null,"https://industrial.panasonic.com/ww/products/pt/inductors-for-consumer/models/ETQP3LR15CFM"]
[null,null,null,null,null,null,null,null,null,null,null,null,null,null,null,null,null,null,null,null,null,null,null,null,null,null,null,null,null,null,null,null,null,null,null,null,null,null,"NRND",0.15,0.2,"-",29,45,34,"0.66 (+/-7%)",0.70620000000000005,"8.7  x  7",4,"-40 to +130","No","MP","ETQP4LR15AFM","-",null,null,"https://industrial.panasonic.com/ww/products/pt/inductors-for-consumer/models/ETQP4LR15AFM"]
[null,null,null,null,null,null,null,null,null,null,null,null,null,null,null,null,null,null,null,null,null,null,null,null,null,null,null,null,null,null,null,null,null,null,null,null,null,null,"NRND",0.15,0.2,"-",42,70,50,"0.41 (+/-7%)",0.45,"11.7  x  10",4,"-40 to +130","No","MP","ETQP4LR15AFC",0.13,null,null,"https://industrial.panasonic.com/ww/products/pt/inductors-for-consumer/models/ETQP4LR15AFC"]
[null,null,null,null,null,null,null,null,null,null,null,null,null,null,null,null,null,null,null,null,null,null,null,null,null,null,null,null,null,null,null,null,null,null,null,null,null,null,"NRND",0.2,0.2,38,28,68,50,"0.7 (+/-10%)",0.77,"11.5  x  10",4,"-40 to +130","No","MP","ETQP4LR19WFC",0.19,null,null,"https://industrial.panasonic.com/ww/products/pt/inductors-for-consumer/models/ETQP4LR19WFC"]
[null,null,null,null,null,null,null,null,null,null,null,null,null,null,null,null,null,null,null,null,null,null,null,null,null,null,null,null,null,null,null,null,null,null,null,null,null,null,"NRND",0.24,0.2,35,22,30,22,"1.12 (+/-7%)",1.1984000000000001,"8.7  x  7",3,"-40 to +130","No","MP","ETQP3LR24CFM",0.19,null,null,"https://industrial.panasonic.com/ww/products/pt/inductors-for-consumer/models/ETQP3LR24CFM"]
[null,null,null,null,null,null,null,null,null,null,null,null,null,null,null,null,null,null,null,null,null,null,null,null,null,null,null,null,null,null,null,null,null,null,null,null,null,null,"NRND",0.24,0.2,35.5,24,35,27,"1 (+/-7%)",1.07,"8.7  x  7",4,"-40 to +130","No","MP","ETQP4LR24AFM",0.2,null,null,"https://industrial.panasonic.com/ww/products/pt/inductors-for-consumer/models/ETQP4LR24AFM"]
[null,null,null,null,null,null,null,null,null,null,null,null,null,null,null,null,null,null,null,null,null,null,null,null,null,null,null,null,null,null,null,null,null,null,null,null,null,null,"NRND",0.36,0.2,31,20,35,25,"1.35 (+/-7%)",1.4445000000000001,"8.7  x  7",4,"-40 to +130","No","MP","ETQP4LR36AFM",0.3,null,null,"https://industrial.panasonic.com/ww/products/pt/inductors-for-consumer/models/ETQP4LR36AFM"]
[null,null,null,null,null,null,null,null,null,null,null,null,null,null,null,null,null,null,null,null,null,null,null,null,null,null,null,null,null,null,null,null,null,null,null,null,null,null,"NRND",0.36,0.2,40,30,46,35,"0.76 (+/-5%)",0.79800000000000004,"11.7  x  10",4,"-40 to +130","No","MP","ETQP4LR36AFC",0.28999999999999998,null,null,"https://industrial.panasonic.com/ww/products/pt/inductors-for-consumer/models/ETQP4LR36AFC"]
[null,null,null,null,null,null,null,null,null,null,null,null,null,null,null,null,null,null,null,null,null,null,null,null,null,null,null,null,null,null,null,null,null,null,null,null,null,null,"NRND",0.37,0.2,33,24,50,34,"1.1 (+/-5%)",1.1550000000000002,"11.5  x  10",4,"-40 to +130","No","MP","ETQP4LR36WFC",0.36,null,null,"https://industrial.panasonic.com/ww/products/pt/inductors-for-consumer/models/ETQP4LR36WFC"]
[null,null,null,null,null,null,null,null,null,null,null,null,null,null,null,null,null,null,null,null,null,null,null,null,null,null,null,null,null,null,null,null,null,null,null,null,null,null,"NRND",0.42,0.2,28.5,17,26,20,"1.5 (+/-7%)",1.605,"8.7  x  7",4,"-40 to +130","No","MP","ETQP4LR42AFM",0.35,null,null,"https://industrial.panasonic.com/ww/products/pt/inductors-for-consumer/models/ETQP4LR42AFM"]
[null,null,null,null,null,null,null,null,null,null,null,null,null,null,null,null,null,null,null,null,null,null,null,null,null,null,null,null,null,null,null,null,null,null,null,null,null,null,"NRND",0.45,"+20%, -25%",33,25,40,28,"1.1 (+/-5%)",1.1550000000000002,"11.5  x  10",4,"-40 to +130","No","MP","ETQP4LR45XFC",0.34,null,null,"https://industrial.panasonic.com/ww/products/pt/inductors-for-consumer/models/ETQP4LR45XFC"]
[null,null,null,null,null,null,null,null,null,null,null,null,null,null,null,null,null,null,null,null,null,null,null,null,null,null,null,null,null,null,null,null,null,null,null,null,null,null,"NRND",0.5,0.2,"-",30,"-","42  (-10%)","0.80 (+/-7%)",0.85599999999999998,"14.5 x 12.5",4,"-40 to +130","No","MP","ETQP5LR50XFA",0.34,null,null,"https://industrial.panasonic.com/jp/products/pt/inductors-for-consumer/models/ETQP5LR50XFA"]
[null,null,null,null,null,null,null,null,null,null,null,null,null,null,null,null,null,null,null,null,null,null,null,null,null,null,null,null,null,null,null,null,null,null,null,null,null,null,"NRND",0.6,0.2,28,21,42,28,"1.56 (+/-5%)",1.6380000000000001,"11.5  x  10",4,"-40 to +130","No","MP","ETQP4LR56WFC",0.56000000000000005,null,null,"https://industrial.panasonic.com/ww/products/pt/inductors-for-consumer/models/ETQP4LR56WFC"]
[null,null,null,null,null,null,null,null,null,null,null,null,null,null,null,null,null,null,null,null,null,null,null,null,null,null,null,null,null,null,null,null,null,null,null,null,null,null,"NRND",0.6,0.2,"-",30,"-","54  (-10%)","1.10 (+/-5%)",1.155,"14.5 x 12.5",5,"-40 to +130","No","MP","ETQP5LR60XFA",null,null,null,"https://industrial.panasonic.com/jp/products/pt/inductors-for-consumer/models/ETQP5LR60XFA"]
[null,null,null,null,null,null,null,null,null,null,null,null,null,null,null,null,null,null,null,null,null,null,null,null,null,null,null,null,null,null,null,null,null,null,null,null,null,null,"NRND",0.68,0.2,28,21,"-",26,"1.58 (+/-5%)",1.6590000000000003,"11.7  x  10",4,"-40 to +130","No","MP","ETQP4LR68XFC",0.59,null,null,"https://industrial.panasonic.com/ww/products/pt/inductors-for-consumer/models/ETQP4LR68XFC"]

{"sheet":"PN->Parameter","index":3,"n_rows":106,"n_cols":21,"rows_kept":106,"cut":false,"hidden":false,"merged":[]}
[null,"Panasonic Inductor Quick Search"]
[]
[]
[]
[]
[null,"v","check","Status","#","Part Number","Automotive Grade","Lo (uH)","Size (mm)","Height (mm)","I Method B typ (A)","I Method A typ (A)","Isat ⊿L=-30% \ntyp (A) ","Isat ⊿L=-20% \ntyp (A) ","DCR \ntyp (mΩ)","DCR \nmax (mΩ)","Temp. Range","Core","Feature","URL","Summary"]
[null,null,null,{"$f":"IF(F7=\"\",\"\",INDEX('All Data'!$F:$F,MATCH(F7,'All Data'!$O:$O,0)))","v":"MP"},{"$f":"IF(F7<>\"\",COUNTIF($F$7:F7,\"*\")&\".\",\"\")","v":"1."},"ETQP3MR10KVP",{"$f":"IF(F7=\"\",\"\",INDEX('All Data'!$N:$N,MATCH(F7,'All Data'!$O:$O,0)))","v":"Yes"},{"$f":"IF(F7=\"\",\"\",INDEX('All Data'!$Q:$Q,MATCH(F7,'All Data'!$O:$O,0)))","v":0.105},{"$f":"IF(F7=\"\",\"\",INDEX('All Data'!$AF:$AF,MATCH(F7,'All Data'!$O:$O,0)))","v":"5.5  x  5"},{"$f":"IF(F7=\"\",\"\",INDEX('All Data'!$AD:$AD,MATCH(F7,'All Data'!$O:$O,0)))","v":3},{"$f":"IF(F7=\"\",\"\",INDEX('All Data'!$X:$X,MATCH(F7,'All Data'!$O:$O,0)))","v":22.7},{"$f":"IF(F7=\"\",\"\",INDEX('All Data'!$Y:$Y,MATCH(F7,'All Data'!$O:$O,0)))","v":18.899999999999999},{"$f":"IF(F7=\"\",\"\",INDEX('All Data'!$Z:$Z,MATCH(F7,'All Data'!$O:$O,0)))","v":37.299999999999997},{"$f":"IF(F7=\"\",\"\",INDEX('All Data'!$AA:$AA,MATCH(F7,'All Data'!$O:$O,0)))","v":25.5},{"$f":"IF(F7=\"\",\"\",INDEX('All Data'!$U:$U,MATCH(F7,'All Data'!$O:$O,0)))","v":1.52},{"$f":"IF(F7=\"\",\"\",INDEX('All Data'!$V:$V,MATCH(F7,'All Data'!$O:$O,0)))","v":1.67},{"$f":"IF(F7=\"\",\"\",INDEX('All Data'!$AK:$AK,MATCH(F7,'All Data'!$O:$O,0)))","v":"-55 to +155"},{"$f":"IF(F7=\"\",\"\",INDEX('All Data'!$I:$I,MATCH(F7,'All Data'!$O:$O,0)))","v":"Metal Composite"},{"$f":"IF(F7=\"\",\"\",INDEX('All Data'!$K:$K,MATCH(F7,'All Data'!$O:$O,0)))","v":"LP (Low Profile)"},{"$f":"IF(F7=\"\",\"\",INDEX('All Data'!$AS:$AS,MATCH(F7,'All Data'!$O:$O,0)))","v":"https://industrial.panasonic.com/ww/products/pt/automotive-inductors/models/ETQP3MR10KVP"},{"$f":"IF(F7=\"\",\"\",H7&\"uH, \"&I7&\" x \"&J7&\"mm, \"&K7&\"A(40C), \"&M7&\"A(L-30%), \"&P7&\"mΩ max\")","v":"0.105uH, 5.5  x  5 x 3mm, 22.7A(40C), 37.3A(L-30%), 1.67mΩ max"}]
[null,null,null,{"$f":"IF(F8=\"\",\"\",INDEX('All Data'!$F:$F,MATCH(F8,'All Data'!$O:$O,0)))","v":""},{"$f":"IF(F8<>\"\",COUNTIF($F$7:F8,\"*\")&\".\",\"\")","v":""},null,{"$f":"IF(F8=\"\",\"\",INDEX('All Data'!$N:$N,MATCH(F8,'All Data'!$O:$O,0)))","v":""},{"$f":"IF(F8=\"\",\"\",INDEX('All Data'!$Q:$Q,MATCH(F8,'All Data'!$O:$O,0)))","v":""},{"$f":"IF(F8=\"\",\"\",INDEX('All Data'!$AF:$AF,MATCH(F8,'All Data'!$O:$O,0)))","v":""},{"$f":"IF(F8=\"\",\"\",INDEX('All Data'!$AD:$AD,MATCH(F8,'All Data'!$O:$O,0)))","v":""},{"$f":"IF(F8=\"\",\"\",INDEX('All Data'!$X:$X,MATCH(F8,'All Data'!$O:$O,0)))","v":""},{"$f":"IF(F8=\"\",\"\",INDEX('All Data'!$Y:$Y,MATCH(F8,'All Data'!$O:$O,0)))","v":""},{"$f":"IF(F8=\"\",\"\",INDEX('All Data'!$Z:$Z,MATCH(F8,'All Data'!$O:$O,0)))","v":""},{"$f":"IF(F8=\"\",\"\",INDEX('All Data'!$AA:$AA,MATCH(F8,'All Data'!$O:$O,0)))","v":""},{"$f":"IF(F8=\"\",\"\",INDEX('All Data'!$U:$U,MATCH(F8,'All Data'!$O:$O,0)))","v":""},{"$f":"IF(F8=\"\",\"\",INDEX('All Data'!$V:$V,MATCH(F8,'All Data'!$O:$O,0)))","v":""},{"$f":"IF(F8=\"\",\"\",INDEX('All Data'!$AK:$AK,MATCH(F8,'All Data'!$O:$O,0)))","v":""},{"$f":"IF(F8=\"\",\"\",INDEX('All Data'!$I:$I,MATCH(F8,'All Data'!$O:$O,0)))","v":""},{"$f":"IF(F8=\"\",\"\",INDEX('All Data'!$K:$K,MATCH(F8,'All Data'!$O:$O,0)))","v":""},{"$f":"IF(F8=\"\",\"\",INDEX('All Data'!$AS:$AS,MATCH(F8,'All Data'!$O:$O,0)))","v":""},""]
[null,null,null,{"$f":"IF(F9=\"\",\"\",INDEX('All Data'!$F:$F,MATCH(F9,'All Data'!$O:$O,0)))","v":""},{"$f":"IF(F9<>\"\",COUNTIF($F$7:F9,\"*\")&\".\",\"\")","v":""},null,{"$f":"IF(F9=\"\",\"\",INDEX('All Data'!$N:$N,MATCH(F9,'All Data'!$O:$O,0)))","v":""},{"$f":"IF(F9=\"\",\"\",INDEX('All Data'!$Q:$Q,MATCH(F9,'All Data'!$O:$O,0)))","v":""},{"$f":"IF(F9=\"\",\"\",INDEX('All Data'!$AF:$AF,MATCH(F9,'All Data'!$O:$O,0)))","v":""},{"$f":"IF(F9=\"\",\"\",INDEX('All Data'!$AD:$AD,MATCH(F9,'All Data'!$O:$O,0)))","v":""},{"$f":"IF(F9=\"\",\"\",INDEX('All Data'!$X:$X,MATCH(F9,'All Data'!$O:$O,0)))","v":""},{"$f":"IF(F9=\"\",\"\",INDEX('All Data'!$Y:$Y,MATCH(F9,'All Data'!$O:$O,0)))","v":""},{"$f":"IF(F9=\"\",\"\",INDEX('All Data'!$Z:$Z,MATCH(F9,'All Data'!$O:$O,0)))","v":""},{"$f":"IF(F9=\"\",\"\",INDEX('All Data'!$AA:$AA,MATCH(F9,'All Data'!$O:$O,0)))","v":""},{"$f":"IF(F9=\"\",\"\",INDEX('All Data'!$U:$U,MATCH(F9,'All Data'!$O:$O,0)))","v":""},{"$f":"IF(F9=\"\",\"\",INDEX('All Data'!$V:$V,MATCH(F9,'All Data'!$O:$O,0)))","v":""},{"$f":"IF(F9=\"\",\"\",INDEX('All Data'!$AK:$AK,MATCH(F9,'All Data'!$O:$O,0)))","v":""},{"$f":"IF(F9=\"\",\"\",INDEX('All Data'!$I:$I,MATCH(F9,'All Data'!$O:$O,0)))","v":""},{"$f":"IF(F9=\"\",\"\",INDEX('All Data'!$K:$K,MATCH(F9,'All Data'!$O:$O,0)))","v":""},{"$f":"IF(F9=\"\",\"\",INDEX('All Data'!$AS:$AS,MATCH(F9,'All Data'!$O:$O,0)))","v":""},""]
[null,null,null,{"$f":"IF(F10=\"\",\"\",INDEX('All Data'!$F:$F,MATCH(F10,'All Data'!$O:$O,0)))","v":""},{"$f":"IF(F10<>\"\",COUNTIF($F$7:F10,\"*\")&\".\",\"\")","v":""},null,{"$f":"IF(F10=\"\",\"\",INDEX('All Data'!$N:$N,MATCH(F10,'All Data'!$O:$O,0)))","v":""},{"$f":"IF(F10=\"\",\"\",INDEX('All Data'!$Q:$Q,MATCH(F10,'All Data'!$O:$O,0)))","v":""},{"$f":"IF(F10=\"\",\"\",INDEX('All Data'!$AF:$AF,MATCH(F10,'All Data'!$O:$O,0)))","v":""},{"$f":"IF(F10=\"\",\"\",INDEX('All Data'!$AD:$AD,MATCH(F10,'All Data'!$O:$O,0)))","v":""},{"$f":"IF(F10=\"\",\"\",INDEX('All Data'!$X:$X,MATCH(F10,'All Data'!$O:$O,0)))","v":""},{"$f":"IF(F10=\"\",\"\",INDEX('All Data'!$Y:$Y,MATCH(F10,'All Data'!$O:$O,0)))","v":""},{"$f":"IF(F10=\"\",\"\",INDEX('All Data'!$Z:$Z,MATCH(F10,'All Data'!$O:$O,0)))","v":""},{"$f":"IF(F10=\"\",\"\",INDEX('All Data'!$AA:$AA,MATCH(F10,'All Data'!$O:$O,0)))","v":""},{"$f":"IF(F10=\"\",\"\",INDEX('All Data'!$U:$U,MATCH(F10,'All Data'!$O:$O,0)))","v":""},{"$f":"IF(F10=\"\",\"\",INDEX('All Data'!$V:$V,MATCH(F10,'All Data'!$O:$O,0)))","v":""},{"$f":"IF(F10=\"\",\"\",INDEX('All Data'!$AK:$AK,MATCH(F10,'All Data'!$O:$O,0)))","v":""},{"$f":"IF(F10=\"\",\"\",INDEX('All Data'!$I:$I,MATCH(F10,'All Data'!$O:$O,0)))","v":""},{"$f":"IF(F10=\"\",\"\",INDEX('All Data'!$K:$K,MATCH(F10,'All Data'!$O:$O,0)))","v":""},{"$f":"IF(F10=\"\",\"\",INDEX('All Data'!$AS:$AS,MATCH(F10,'All Data'!$O:$O,0)))","v":""},""]
[null,null,null,{"$f":"IF(F11=\"\",\"\",INDEX('All Data'!$F:$F,MATCH(F11,'All Data'!$O:$O,0)))","v":""},{"$f":"IF(F11<>\"\",COUNTIF($F$7:F11,\"*\")&\".\",\"\")","v":""},null,{"$f":"IF(F11=\"\",\"\",INDEX('All Data'!$N:$N,MATCH(F11,'All Data'!$O:$O,0)))","v":""},{"$f":"IF(F11=\"\",\"\",INDEX('All Data'!$Q:$Q,MATCH(F11,'All Data'!$O:$O,0)))","v":""},{"$f":"IF(F11=\"\",\"\",INDEX('All Data'!$AF:$AF,MATCH(F11,'All Data'!$O:$O,0)))","v":""},{"$f":"IF(F11=\"\",\"\",INDEX('All Data'!$AD:$AD,MATCH(F11,'All Data'!$O:$O,0)))","v":""},{"$f":"IF(F11=\"\",\"\",INDEX('All Data'!$X:$X,MATCH(F11,'All Data'!$O:$O,0)))","v":""},{"$f":"IF(F11=\"\",\"\",INDEX('All Data'!$Y:$Y,MATCH(F11,'All Data'!$O:$O,0)))","v":""},{"$f":"IF(F11=\"\",\"\",INDEX('All Data'!$Z:$Z,MATCH(F11,'All Data'!$O:$O,0)))","v":""},{"$f":"IF(F11=\"\",\"\",INDEX('All Data'!$AA:$AA,MATCH(F11,'All Data'!$O:$O,0)))","v":""},{"$f":"IF(F11=\"\",\"\",INDEX('All Data'!$U:$U,MATCH(F11,'All Data'!$O:$O,0)))","v":""},{"$f":"IF(F11=\"\",\"\",INDEX('All Data'!$V:$V,MATCH(F11,'All Data'!$O:$O,0)))","v":""},{"$f":"IF(F11=\"\",\"\",INDEX('All Data'!$AK:$AK,MATCH(F11,'All Data'!$O:$O,0)))","v":""},{"$f":"IF(F11=\"\",\"\",INDEX('All Data'!$I:$I,MATCH(F11,'All Data'!$O:$O,0)))","v":""},{"$f":"IF(F11=\"\",\"\",INDEX('All Data'!$K:$K,MATCH(F11,'All Data'!$O:$O,0)))","v":""},{"$f":"IF(F11=\"\",\"\",INDEX('All Data'!$AS:$AS,MATCH(F11,'All Data'!$O:$O,0)))","v":""},""]
[null,null,null,{"$f":"IF(F12=\"\",\"\",INDEX('All Data'!$F:$F,MATCH(F12,'All Data'!$O:$O,0)))","v":""},{"$f":"IF(F12<>\"\",COUNTIF($F$7:F12,\"*\")&\".\",\"\")","v":""},null,{"$f":"IF(F12=\"\",\"\",INDEX('All Data'!$N:$N,MATCH(F12,'All Data'!$O:$O,0)))","v":""},{"$f":"IF(F12=\"\",\"\",INDEX('All Data'!$Q:$Q,MATCH(F12,'All Data'!$O:$O,0)))","v":""},{"$f":"IF(F12=\"\",\"\",INDEX('All Data'!$AF:$AF,MATCH(F12,'All Data'!$O:$O,0)))","v":""},{"$f":"IF(F12=\"\",\"\",INDEX('All Data'!$AD:$AD,MATCH(F12,'All Data'!$O:$O,0)))","v":""},{"$f":"IF(F12=\"\",\"\",INDEX('All Data'!$X:$X,MATCH(F12,'All Data'!$O:$O,0)))","v":""},{"$f":"IF(F12=\"\",\"\",INDEX('All Data'!$Y:$Y,MATCH(F12,'All Data'!$O:$O,0)))","v":""},{"$f":"IF(F12=\"\",\"\",INDEX('All Data'!$Z:$Z,MATCH(F12,'All Data'!$O:$O,0)))","v":""},{"$f":"IF(F12=\"\",\"\",INDEX('All Data'!$AA:$AA,MATCH(F12,'All Data'!$O:$O,0)))","v":""},{"$f":"IF(F12=\"\",\"\",INDEX('All Data'!$U:$U,MATCH(F12,'All Data'!$O:$O,0)))","v":""},{"$f":"IF(F12=\"\",\"\",INDEX('All Data'!$V:$V,MATCH(F12,'All Data'!$O:$O,0)))","v":""},{"$f":"IF(F12=\"\",\"\",INDEX('All Data'!$AK:$AK,MATCH(F12,'All Data'!$O:$O,0)))","v":""},{"$f":"IF(F12=\"\",\"\",INDEX('All Data'!$I:$I,MATCH(F12,'All Data'!$O:$O,0)))","v":""},{"$f":"IF(F12=\"\",\"\",INDEX('All Data'!$K:$K,MATCH(F12,'All Data'!$O:$O,0)))","v":""},{"$f":"IF(F12=\"\",\"\",INDEX('All Data'!$AS:$AS,MATCH(F12,'All Data'!$O:$O,0)))","v":""},""]
[null,null,null,{"$f":"IF(F13=\"\",\"\",INDEX('All Data'!$F:$F,MATCH(F13,'All Data'!$O:$O,0)))","v":""},{"$f":"IF(F13<>\"\",COUNTIF($F$7:F13,\"*\")&\".\",\"\")","v":""},null,{"$f":"IF(F13=\"\",\"\",INDEX('All Data'!$N:$N,MATCH(F13,'All Data'!$O:$O,0)))","v":""},{"$f":"IF(F13=\"\",\"\",INDEX('All Data'!$Q:$Q,MATCH(F13,'All Data'!$O:$O,0)))","v":""},{"$f":"IF(F13=\"\",\"\",INDEX('All Data'!$AF:$AF,MATCH(F13,'All Data'!$O:$O,0)))","v":""},{"$f":"IF(F13=\"\",\"\",INDEX('All Data'!$AD:$AD,MATCH(F13,'All Data'!$O:$O,0)))","v":""},{"$f":"IF(F13=\"\",\"\",INDEX('All Data'!$X:$X,MATCH(F13,'All Data'!$O:$O,0)))","v":""},{"$f":"IF(F13=\"\",\"\",INDEX('All Data'!$Y:$Y,MATCH(F13,'All Data'!$O:$O,0)))","v":""},{"$f":"IF(F13=\"\",\"\",INDEX('All Data'!$Z:$Z,MATCH(F13,'All Data'!$O:$O,0)))","v":""},{"$f":"IF(F13=\"\",\"\",INDEX('All Data'!$AA:$AA,MATCH(F13,'All Data'!$O:$O,0)))","v":""},{"$f":"IF(F13=\"\",\"\",INDEX('All Data'!$U:$U,MATCH(F13,'All Data'!$O:$O,0)))","v":""},{"$f":"IF(F13=\"\",\"\",INDEX('All Data'!$V:$V,MATCH(F13,'All Data'!$O:$O,0)))","v":""},{"$f":"IF(F13=\"\",\"\",INDEX('All Data'!$AK:$AK,MATCH(F13,'All Data'!$O:$O,0)))","v":""},{"$f":"IF(F13=\"\",\"\",INDEX('All Data'!$I:$I,MATCH(F13,'All Data'!$O:$O,0)))","v":""},{"$f":"IF(F13=\"\",\"\",INDEX('All Data'!$K:$K,MATCH(F13,'All Data'!$O:$O,0)))","v":""},{"$f":"IF(F13=\"\",\"\",INDEX('All Data'!$AS:$AS,MATCH(F13,'All Data'!$O:$O,0)))","v":""},""]
[null,null,null,{"$f":"IF(F14=\"\",\"\",INDEX('All Data'!$F:$F,MATCH(F14,'All Data'!$O:$O,0)))","v":""},{"$f":"IF(F14<>\"\",COUNTIF($F$7:F14,\"*\")&\".\",\"\")","v":""},null,{"$f":"IF(F14=\"\",\"\",INDEX('All Data'!$N:$N,MATCH(F14,'All Data'!$O:$O,0)))","v":""},{"$f":"IF(F14=\"\",\"\",INDEX('All Data'!$Q:$Q,MATCH(F14,'All Data'!$O:$O,0)))","v":""},{"$f":"IF(F14=\"\",\"\",INDEX('All Data'!$AF:$AF,MATCH(F14,'All Data'!$O:$O,0)))","v":""},{"$f":"IF(F14=\"\",\"\",INDEX('All Data'!$AD:$AD,MATCH(F14,'All Data'!$O:$O,0)))","v":""},{"$f":"IF(F14=\"\",\"\",INDEX('All Data'!$X:$X,MATCH(F14,'All Data'!$O:$O,0)))","v":""},{"$f":"IF(F14=\"\",\"\",INDEX('All Data'!$Y:$Y,MATCH(F14,'All Data'!$O:$O,0)))","v":""},{"$f":"IF(F14=\"\",\"\",INDEX('All Data'!$Z:$Z,MATCH(F14,'All Data'!$O:$O,0)))","v":""},{"$f":"IF(F14=\"\",\"\",INDEX('All Data'!$AA:$AA,MATCH(F14,'All Data'!$O:$O,0)))","v":""},{"$f":"IF(F14=\"\",\"\",INDEX('All Data'!$U:$U,MATCH(F14,'All Data'!$O:$O,0)))","v":""},{"$f":"IF(F14=\"\",\"\",INDEX('All Data'!$V:$V,MATCH(F14,'All Data'!$O:$O,0)))","v":""},{"$f":"IF(F14=\"\",\"\",INDEX('All Data'!$AK:$AK,MATCH(F14,'All Data'!$O:$O,0)))","v":""},{"$f":"IF(F14=\"\",\"\",INDEX('All Data'!$I:$I,MATCH(F14,'All Data'!$O:$O,0)))","v":""},{"$f":"IF(F14=\"\",\"\",INDEX('All Data'!$K:$K,MATCH(F14,'All Data'!$O:$O,0)))","v":""},{"$f":"IF(F14=\"\",\"\",INDEX('All Data'!$AS:$AS,MATCH(F14,'All Data'!$O:$O,0)))","v":""},""]
[null,null,null,{"$f":"IF(F15=\"\",\"\",INDEX('All Data'!$F:$F,MATCH(F15,'All Data'!$O:$O,0)))","v":""},{"$f":"IF(F15<>\"\",COUNTIF($F$7:F15,\"*\")&\".\",\"\")","v":""},null,{"$f":"IF(F15=\"\",\"\",INDEX('All Data'!$N:$N,MATCH(F15,'All Data'!$O:$O,0)))","v":""},{"$f":"IF(F15=\"\",\"\",INDEX('All Data'!$Q:$Q,MATCH(F15,'All Data'!$O:$O,0)))","v":""},{"$f":"IF(F15=\"\",\"\",INDEX('All Data'!$AF:$AF,MATCH(F15,'All Data'!$O:$O,0)))","v":""},{"$f":"IF(F15=\"\",\"\",INDEX('All Data'!$AD:$AD,MATCH(F15,'All Data'!$O:$O,0)))","v":""},{"$f":"IF(F15=\"\",\"\",INDEX('All Data'!$X:$X,MATCH(F15,'All Data'!$O:$O,0)))","v":""},{"$f":"IF(F15=\"\",\"\",INDEX('All Data'!$Y:$Y,MATCH(F15,'All Data'!$O:$O,0)))","v":""},{"$f":"IF(F15=\"\",\"\",INDEX('All Data'!$Z:$Z,MATCH(F15,'All Data'!$O:$O,0)))","v":""},{"$f":"IF(F15=\"\",\"\",INDEX('All Data'!$AA:$AA,MATCH(F15,'All Data'!$O:$O,0)))","v":""},{"$f":"IF(F15=\"\",\"\",INDEX('All Data'!$U:$U,MATCH(F15,'All Data'!$O:$O,0)))","v":""},{"$f":"IF(F15=\"\",\"\",INDEX('All Data'!$V:$V,MATCH(F15,'All Data'!$O:$O,0)))","v":""},{"$f":"IF(F15=\"\",\"\",INDEX('All Data'!$AK:$AK,MATCH(F15,'All Data'!$O:$O,0)))","v":""},{"$f":"IF(F15=\"\",\"\",INDEX('All Data'!$I:$I,MATCH(F15,'All Data'!$O:$O,0)))","v":""},{"$f":"IF(F15=\"\",\"\",INDEX('All Data'!$K:$K,MATCH(F15,'All Data'!$O:$O,0)))","v":""},{"$f":"IF(F15=\"\",\"\",INDEX('All Data'!$AS:$AS,MATCH(F15,'All Data'!$O:$O,0)))","v":""},""]
[null,null,null,{"$f":"IF(F16=\"\",\"\",INDEX('All Data'!$F:$F,MATCH(F16,'All Data'!$O:$O,0)))","v":""},{"$f":"IF(F16<>\"\",COUNTIF($F$7:F16,\"*\")&\".\",\"\")","v":""},null,{"$f":"IF(F16=\"\",\"\",INDEX('All Data'!$N:$N,MATCH(F16,'All Data'!$O:$O,0)))","v":""},{"$f":"IF(F16=\"\",\"\",INDEX('All Data'!$Q:$Q,MATCH(F16,'All Data'!$O:$O,0)))","v":""},{"$f":"IF(F16=\"\",\"\",INDEX('All Data'!$AF:$AF,MATCH(F16,'All Data'!$O:$O,0)))","v":""},{"$f":"IF(F16=\"\",\"\",INDEX('All Data'!$AD:$AD,MATCH(F16,'All Data'!$O:$O,0)))","v":""},{"$f":"IF(F16=\"\",\"\",INDEX('All Data'!$X:$X,MATCH(F16,'All Data'!$O:$O,0)))","v":""},{"$f":"IF(F16=\"\",\"\",INDEX('All Data'!$Y:$Y,MATCH(F16,'All Data'!$O:$O,0)))","v":""},{"$f":"IF(F16=\"\",\"\",INDEX('All Data'!$Z:$Z,MATCH(F16,'All Data'!$O:$O,0)))","v":""},{"$f":"IF(F16=\"\",\"\",INDEX('All Data'!$AA:$AA,MATCH(F16,'All Data'!$O:$O,0)))","v":""},{"$f":"IF(F16=\"\",\"\",INDEX('All Data'!$U:$U,MATCH(F16,'All Data'!$O:$O,0)))","v":""},{"$f":"IF(F16=\"\",\"\",INDEX('All Data'!$V:$V,MATCH(F16,'All Data'!$O:$O,0)))","v":""},{"$f":"IF(F16=\"\",\"\",INDEX('All Data'!$AK:$AK,MATCH(F16,'All Data'!$O:$O,0)))","v":""},{"$f":"IF(F16=\"\",\"\",INDEX('All Data'!$I:$I,MATCH(F16,'All Data'!$O:$O,0)))","v":""},{"$f":"IF(F16=\"\",\"\",INDEX('All Data'!$K:$K,MATCH(F16,'All Data'!$O:$O,0)))","v":""},{"$f":"IF(F16=\"\",\"\",INDEX('All Data'!$AS:$AS,MATCH(F16,'All Data'!$O:$O,0)))","v":""},""]
[null,null,null,{"$f":"IF(F17=\"\",\"\",INDEX('All Data'!$F:$F,MATCH(F17,'All Data'!$O:$O,0)))","v":""},{"$f":"IF(F17<>\"\",COUNTIF($F$7:F17,\"*\")&\".\",\"\")","v":""},null,{"$f":"IF(F17=\"\",\"\",INDEX('All Data'!$N:$N,MATCH(F17,'All Data'!$O:$O,0)))","v":""},{"$f":"IF(F17=\"\",\"\",INDEX('All Data'!$Q:$Q,MATCH(F17,'All Data'!$O:$O,0)))","v":""},{"$f":"IF(F17=\"\",\"\",INDEX('All Data'!$AF:$AF,MATCH(F17,'All Data'!$O:$O,0)))","v":""},{"$f":"IF(F17=\"\",\"\",INDEX('All Data'!$AD:$AD,MATCH(F17,'All Data'!$O:$O,0)))","v":""},{"$f":"IF(F17=\"\",\"\",INDEX('All Data'!$X:$X,MATCH(F17,'All Data'!$O:$O,0)))","v":""},{"$f":"IF(F17=\"\",\"\",INDEX('All Data'!$Y:$Y,MATCH(F17,'All Data'!$O:$O,0)))","v":""},{"$f":"IF(F17=\"\",\"\",INDEX('All Data'!$Z:$Z,MATCH(F17,'All Data'!$O:$O,0)))","v":""},{"$f":"IF(F17=\"\",\"\",INDEX('All Data'!$AA:$AA,MATCH(F17,'All Data'!$O:$O,0)))","v":""},{"$f":"IF(F17=\"\",\"\",INDEX('All Data'!$U:$U,MATCH(F17,'All Data'!$O:$O,0)))","v":""},{"$f":"IF(F17=\"\",\"\",INDEX('All Data'!$V:$V,MATCH(F17,'All Data'!$O:$O,0)))","v":""},{"$f":"IF(F17=\"\",\"\",INDEX('All Data'!$AK:$AK,MATCH(F17,'All Data'!$O:$O,0)))","v":""},{"$f":"IF(F17=\"\",\"\",INDEX('All Data'!$I:$I,MATCH(F17,'All Data'!$O:$O,0)))","v":""},{"$f":"IF(F17=\"\",\"\",INDEX('All Data'!$K:$K,MATCH(F17,'All Data'!$O:$O,0)))","v":""},{"$f":"IF(F17=\"\",\"\",INDEX('All Data'!$AS:$AS,MATCH(F17,'All Data'!$O:$O,0)))","v":""},""]
[null,null,null,{"$f":"IF(F18=\"\",\"\",INDEX('All Data'!$F:$F,MATCH(F18,'All Data'!$O:$O,0)))","v":""},{"$f":"IF(F18<>\"\",COUNTIF($F$7:F18,\"*\")&\".\",\"\")","v":""},null,{"$f":"IF(F18=\"\",\"\",INDEX('All Data'!$N:$N,MATCH(F18,'All Data'!$O:$O,0)))","v":""},{"$f":"IF(F18=\"\",\"\",INDEX('All Data'!$Q:$Q,MATCH(F18,'All Data'!$O:$O,0)))","v":""},{"$f":"IF(F18=\"\",\"\",INDEX('All Data'!$AF:$AF,MATCH(F18,'All Data'!$O:$O,0)))","v":""},{"$f":"IF(F18=\"\",\"\",INDEX('All Data'!$AD:$AD,MATCH(F18,'All Data'!$O:$O,0)))","v":""},{"$f":"IF(F18=\"\",\"\",INDEX('All Data'!$X:$X,MATCH(F18,'All Data'!$O:$O,0)))","v":""},{"$f":"IF(F18=\"\",\"\",INDEX('All Data'!$Y:$Y,MATCH(F18,'All Data'!$O:$O,0)))","v":""},{"$f":"IF(F18=\"\",\"\",INDEX('All Data'!$Z:$Z,MATCH(F18,'All Data'!$O:$O,0)))","v":""},{"$f":"IF(F18=\"\",\"\",INDEX('All Data'!$AA:$AA,MATCH(F18,'All Data'!$O:$O,0)))","v":""},{"$f":"IF(F18=\"\",\"\",INDEX('All Data'!$U:$U,MATCH(F18,'All Data'!$O:$O,0)))","v":""},{"$f":"IF(F18=\"\",\"\",INDEX('All Data'!$V:$V,MATCH(F18,'All Data'!$O:$O,0)))","v":""},{"$f":"IF(F18=\"\",\"\",INDEX('All Data'!$AK:$AK,MATCH(F18,'All Data'!$O:$O,0)))","v":""},{"$f":"IF(F18=\"\",\"\",INDEX('All Data'!$I:$I,MATCH(F18,'All Data'!$O:$O,0)))","v":""},{"$f":"IF(F18=\"\",\"\",INDEX('All Data'!$K:$K,MATCH(F18,'All Data'!$O:$O,0)))","v":""},{"$f":"IF(F18=\"\",\"\",INDEX('All Data'!$AS:$AS,MATCH(F18,'All Data'!$O:$O,0)))","v":""},""]
[null,null,null,{"$f":"IF(F19=\"\",\"\",INDEX('All Data'!$F:$F,MATCH(F19,'All Data'!$O:$O,0)))","v":""},{"$f":"IF(F19<>\"\",COUNTIF($F$7:F19,\"*\")&\".\",\"\")","v":""},null,{"$f":"IF(F19=\"\",\"\",INDEX('All Data'!$N:$N,MATCH(F19,'All Data'!$O:$O,0)))","v":""},{"$f":"IF(F19=\"\",\"\",INDEX('All Data'!$Q:$Q,MATCH(F19,'All Data'!$O:$O,0)))","v":""},{"$f":"IF(F19=\"\",\"\",INDEX('All Data'!$AF:$AF,MATCH(F19,'All Data'!$O:$O,0)))","v":""},{"$f":"IF(F19=\"\",\"\",INDEX('All Data'!$AD:$AD,MATCH(F19,'All Data'!$O:$O,0)))","v":""},{"$f":"IF(F19=\"\",\"\",INDEX('All Data'!$X:$X,MATCH(F19,'All Data'!$O:$O,0)))","v":""},{"$f":"IF(F19=\"\",\"\",INDEX('All Data'!$Y:$Y,MATCH(F19,'All Data'!$O:$O,0)))","v":""},{"$f":"IF(F19=\"\",\"\",INDEX('All Data'!$Z:$Z,MATCH(F19,'All Data'!$O:$O,0)))","v":""},{"$f":"IF(F19=\"\",\"\",INDEX('All Data'!$AA:$AA,MATCH(F19,'All Data'!$O:$O,0)))","v":""},{"$f":"IF(F19=\"\",\"\",INDEX('All Data'!$U:$U,MATCH(F19,'All Data'!$O:$O,0)))","v":""},{"$f":"IF(F19=\"\",\"\",INDEX('All Data'!$V:$V,MATCH(F19,'All Data'!$O:$O,0)))","v":""},{"$f":"IF(F19=\"\",\"\",INDEX('All Data'!$AK:$AK,MATCH(F19,'All Data'!$O:$O,0)))","v":""},{"$f":"IF(F19=\"\",\"\",INDEX('All Data'!$I:$I,MATCH(F19,'All Data'!$O:$O,0)))","v":""},{"$f":"IF(F19=\"\",\"\",INDEX('All Data'!$K:$K,MATCH(F19,'All Data'!$O:$O,0)))","v":""},{"$f":"IF(F19=\"\",\"\",INDEX('All Data'!$AS:$AS,MATCH(F19,'All Data'!$O:$O,0)))","v":""},""]
[null,null,null,{"$f":"IF(F20=\"\",\"\",INDEX('All Data'!$F:$F,MATCH(F20,'All Data'!$O:$O,0)))","v":""},{"$f":"IF(F20<>\"\",COUNTIF($F$7:F20,\"*\")&\".\",\"\")","v":""},null,{"$f":"IF(F20=\"\",\"\",INDEX('All Data'!$N:$N,MATCH(F20,'All Data'!$O:$O,0)))","v":""},{"$f":"IF(F20=\"\",\"\",INDEX('All Data'!$Q:$Q,MATCH(F20,'All Data'!$O:$O,0)))","v":""},{"$f":"IF(F20=\"\",\"\",INDEX('All Data'!$AF:$AF,MATCH(F20,'All Data'!$O:$O,0)))","v":""},{"$f":"IF(F20=\"\",\"\",INDEX('All Data'!$AD:$AD,MATCH(F20,'All Data'!$O:$O,0)))","v":""},{"$f":"IF(F20=\"\",\"\",INDEX('All Data'!$X:$X,MATCH(F20,'All Data'!$O:$O,0)))","v":""},{"$f":"IF(F20=\"\",\"\",INDEX('All Data'!$Y:$Y,MATCH(F20,'All Data'!$O:$O,0)))","v":""},{"$f":"IF(F20=\"\",\"\",INDEX('All Data'!$Z:$Z,MATCH(F20,'All Data'!$O:$O,0)))","v":""},{"$f":"IF(F20=\"\",\"\",INDEX('All Data'!$AA:$AA,MATCH(F20,'All Data'!$O:$O,0)))","v":""},{"$f":"IF(F20=\"\",\"\",INDEX('All Data'!$U:$U,MATCH(F20,'All Data'!$O:$O,0)))","v":""},{"$f":"IF(F20=\"\",\"\",INDEX('All Data'!$V:$V,MATCH(F20,'All Data'!$O:$O,0)))","v":""},{"$f":"IF(F20=\"\",\"\",INDEX('All Data'!$AK:$AK,MATCH(F20,'All Data'!$O:$O,0)))","v":""},{"$f":"IF(F20=\"\",\"\",INDEX('All Data'!$I:$I,MATCH(F20,'All Data'!$O:$O,0)))","v":""},{"$f":"IF(F20=\"\",\"\",INDEX('All Data'!$K:$K,MATCH(F20,'All Data'!$O:$O,0)))","v":""},{"$f":"IF(F20=\"\",\"\",INDEX('All Data'!$AS:$AS,MATCH(F20,'All Data'!$O:$O,0)))","v":""},""]
[null,null,null,{"$f":"IF(F21=\"\",\"\",INDEX('All Data'!$F:$F,MATCH(F21,'All Data'!$O:$O,0)))","v":""},{"$f":"IF(F21<>\"\",COUNTIF($F$7:F21,\"*\")&\".\",\"\")","v":""},null,{"$f":"IF(F21=\"\",\"\",INDEX('All Data'!$N:$N,MATCH(F21,'All Data'!$O:$O,0)))","v":""},{"$f":"IF(F21=\"\",\"\",INDEX('All Data'!$Q:$Q,MATCH(F21,'All Data'!$O:$O,0)))","v":""},{"$f":"IF(F21=\"\",\"\",INDEX('All Data'!$AF:$AF,MATCH(F21,'All Data'!$O:$O,0)))","v":""},{"$f":"IF(F21=\"\",\"\",INDEX('All Data'!$AD:$AD,MATCH(F21,'All Data'!$O:$O,0)))","v":""},{"$f":"IF(F21=\"\",\"\",INDEX('All Data'!$X:$X,MATCH(F21,'All Data'!$O:$O,0)))","v":""},{"$f":"IF(F21=\"\",\"\",INDEX('All Data'!$Y:$Y,MATCH(F21,'All Data'!$O:$O,0)))","v":""},{"$f":"IF(F21=\"\",\"\",INDEX('All Data'!$Z:$Z,MATCH(F21,'All Data'!$O:$O,0)))","v":""},{"$f":"IF(F21=\"\",\"\",INDEX('All Data'!$AA:$AA,MATCH(F21,'All Data'!$O:$O,0)))","v":""},{"$f":"IF(F21=\"\",\"\",INDEX('All Data'!$U:$U,MATCH(F21,'All Data'!$O:$O,0)))","v":""},{"$f":"IF(F21=\"\",\"\",INDEX('All Data'!$V:$V,MATCH(F21,'All Data'!$O:$O,0)))","v":""},{"$f":"IF(F21=\"\",\"\",INDEX('All Data'!$AK:$AK,MATCH(F21,'All Data'!$O:$O,0)))","v":""},{"$f":"IF(F21=\"\",\"\",INDEX('All Data'!$I:$I,MATCH(F21,'All Data'!$O:$O,0)))","v":""},{"$f":"IF(F21=\"\",\"\",INDEX('All Data'!$K:$K,MATCH(F21,'All Data'!$O:$O,0)))","v":""},{"$f":"IF(F21=\"\",\"\",INDEX('All Data'!$AS:$AS,MATCH(F21,'All Data'!$O:$O,0)))","v":""},""]
[null,null,null,{"$f":"IF(F22=\"\",\"\",INDEX('All Data'!$F:$F,MATCH(F22,'All Data'!$O:$O,0)))","v":""},{"$f":"IF(F22<>\"\",COUNTIF($F$7:F22,\"*\")&\".\",\"\")","v":""},null,{"$f":"IF(F22=\"\",\"\",INDEX('All Data'!$N:$N,MATCH(F22,'All Data'!$O:$O,0)))","v":""},{"$f":"IF(F22=\"\",\"\",INDEX('All Data'!$Q:$Q,MATCH(F22,'All Data'!$O:$O,0)))","v":""},{"$f":"IF(F22=\"\",\"\",INDEX('All Data'!$AF:$AF,MATCH(F22,'All Data'!$O:$O,0)))","v":""},{"$f":"IF(F22=\"\",\"\",INDEX('All Data'!$AD:$AD,MATCH(F22,'All Data'!$O:$O,0)))","v":""},{"$f":"IF(F22=\"\",\"\",INDEX('All Data'!$X:$X,MATCH(F22,'All Data'!$O:$O,0)))","v":""},{"$f":"IF(F22=\"\",\"\",INDEX('All Data'!$Y:$Y,MATCH(F22,'All Data'!$O:$O,0)))","v":""},{"$f":"IF(F22=\"\",\"\",INDEX('All Data'!$Z:$Z,MATCH(F22,'All Data'!$O:$O,0)))","v":""},{"$f":"IF(F22=\"\",\"\",INDEX('All Data'!$AA:$AA,MATCH(F22,'All Data'!$O:$O,0)))","v":""},{"$f":"IF(F22=\"\",\"\",INDEX('All Data'!$U:$U,MATCH(F22,'All Data'!$O:$O,0)))","v":""},{"$f":"IF(F22=\"\",\"\",INDEX('All Data'!$V:$V,MATCH(F22,'All Data'!$O:$O,0)))","v":""},{"$f":"IF(F22=\"\",\"\",INDEX('All Data'!$AK:$AK,MATCH(F22,'All Data'!$O:$O,0)))","v":""},{"$f":"IF(F22=\"\",\"\",INDEX('All Data'!$I:$I,MATCH(F22,'All Data'!$O:$O,0)))","v":""},{"$f":"IF(F22=\"\",\"\",INDEX('All Data'!$K:$K,MATCH(F22,'All Data'!$O:$O,0)))","v":""},{"$f":"IF(F22=\"\",\"\",INDEX('All Data'!$AS:$AS,MATCH(F22,'All Data'!$O:$O,0)))","v":""},""]
[null,null,null,{"$f":"IF(F23=\"\",\"\",INDEX('All Data'!$F:$F,MATCH(F23,'All Data'!$O:$O,0)))","v":""},{"$f":"IF(F23<>\"\",COUNTIF($F$7:F23,\"*\")&\".\",\"\")","v":""},null,{"$f":"IF(F23=\"\",\"\",INDEX('All Data'!$N:$N,MATCH(F23,'All Data'!$O:$O,0)))","v":""},{"$f":"IF(F23=\"\",\"\",INDEX('All Data'!$Q:$Q,MATCH(F23,'All Data'!$O:$O,0)))","v":""},{"$f":"IF(F23=\"\",\"\",INDEX('All Data'!$AF:$AF,MATCH(F23,'All Data'!$O:$O,0)))","v":""},{"$f":"IF(F23=\"\",\"\",INDEX('All Data'!$AD:$AD,MATCH(F23,'All Data'!$O:$O,0)))","v":""},{"$f":"IF(F23=\"\",\"\",INDEX('All Data'!$X:$X,MATCH(F23,'All Data'!$O:$O,0)))","v":""},{"$f":"IF(F23=\"\",\"\",INDEX('All Data'!$Y:$Y,MATCH(F23,'All Data'!$O:$O,0)))","v":""},{"$f":"IF(F23=\"\",\"\",INDEX('All Data'!$Z:$Z,MATCH(F23,'All Data'!$O:$O,0)))","v":""},{"$f":"IF(F23=\"\",\"\",INDEX('All Data'!$AA:$AA,MATCH(F23,'All Data'!$O:$O,0)))","v":""},{"$f":"IF(F23=\"\",\"\",INDEX('All Data'!$U:$U,MATCH(F23,'All Data'!$O:$O,0)))","v":""},{"$f":"IF(F23=\"\",\"\",INDEX('All Data'!$V:$V,MATCH(F23,'All Data'!$O:$O,0)))","v":""},{"$f":"IF(F23=\"\",\"\",INDEX('All Data'!$AK:$AK,MATCH(F23,'All Data'!$O:$O,0)))","v":""},{"$f":"IF(F23=\"\",\"\",INDEX('All Data'!$I:$I,MATCH(F23,'All Data'!$O:$O,0)))","v":""},{"$f":"IF(F23=\"\",\"\",INDEX('All Data'!$K:$K,MATCH(F23,'All Data'!$O:$O,0)))","v":""},{"$f":"IF(F23=\"\",\"\",INDEX('All Data'!$AS:$AS,MATCH(F23,'All Data'!$O:$O,0)))","v":""},""]
[null,null,null,{"$f":"IF(F24=\"\",\"\",INDEX('All Data'!$F:$F,MATCH(F24,'All Data'!$O:$O,0)))","v":""},{"$f":"IF(F24<>\"\",COUNTIF($F$7:F24,\"*\")&\".\",\"\")","v":""},null,{"$f":"IF(F24=\"\",\"\",INDEX('All Data'!$N:$N,MATCH(F24,'All Data'!$O:$O,0)))","v":""},{"$f":"IF(F24=\"\",\"\",INDEX('All Data'!$Q:$Q,MATCH(F24,'All Data'!$O:$O,0)))","v":""},{"$f":"IF(F24=\"\",\"\",INDEX('All Data'!$AF:$AF,MATCH(F24,'All Data'!$O:$O,0)))","v":""},{"$f":"IF(F24=\"\",\"\",INDEX('All Data'!$AD:$AD,MATCH(F24,'All Data'!$O:$O,0)))","v":""},{"$f":"IF(F24=\"\",\"\",INDEX('All Data'!$X:$X,MATCH(F24,'All Data'!$O:$O,0)))","v":""},{"$f":"IF(F24=\"\",\"\",INDEX('All Data'!$Y:$Y,MATCH(F24,'All Data'!$O:$O,0)))","v":""},{"$f":"IF(F24=\"\",\"\",INDEX('All Data'!$Z:$Z,MATCH(F24,'All Data'!$O:$O,0)))","v":""},{"$f":"IF(F24=\"\",\"\",INDEX('All Data'!$AA:$AA,MATCH(F24,'All Data'!$O:$O,0)))","v":""},{"$f":"IF(F24=\"\",\"\",INDEX('All Data'!$U:$U,MATCH(F24,'All Data'!$O:$O,0)))","v":""},{"$f":"IF(F24=\"\",\"\",INDEX('All Data'!$V:$V,MATCH(F24,'All Data'!$O:$O,0)))","v":""},{"$f":"IF(F24=\"\",\"\",INDEX('All Data'!$AK:$AK,MATCH(F24,'All Data'!$O:$O,0)))","v":""},{"$f":"IF(F24=\"\",\"\",INDEX('All Data'!$I:$I,MATCH(F24,'All Data'!$O:$O,0)))","v":""},{"$f":"IF(F24=\"\",\"\",INDEX('All Data'!$K:$K,MATCH(F24,'All Data'!$O:$O,0)))","v":""},{"$f":"IF(F24=\"\",\"\",INDEX('All Data'!$AS:$AS,MATCH(F24,'All Data'!$O:$O,0)))","v":""},""]
[null,null,null,{"$f":"IF(F25=\"\",\"\",INDEX('All Data'!$F:$F,MATCH(F25,'All Data'!$O:$O,0)))","v":""},{"$f":"IF(F25<>\"\",COUNTIF($F$7:F25,\"*\")&\".\",\"\")","v":""},null,{"$f":"IF(F25=\"\",\"\",INDEX('All Data'!$N:$N,MATCH(F25,'All Data'!$O:$O,0)))","v":""},{"$f":"IF(F25=\"\",\"\",INDEX('All Data'!$Q:$Q,MATCH(F25,'All Data'!$O:$O,0)))","v":""},{"$f":"IF(F25=\"\",\"\",INDEX('All Data'!$AF:$AF,MATCH(F25,'All Data'!$O:$O,0)))","v":""},{"$f":"IF(F25=\"\",\"\",INDEX('All Data'!$AD:$AD,MATCH(F25,'All Data'!$O:$O,0)))","v":""},{"$f":"IF(F25=\"\",\"\",INDEX('All Data'!$X:$X,MATCH(F25,'All Data'!$O:$O,0)))","v":""},{"$f":"IF(F25=\"\",\"\",INDEX('All Data'!$Y:$Y,MATCH(F25,'All Data'!$O:$O,0)))","v":""},{"$f":"IF(F25=\"\",\"\",INDEX('All Data'!$Z:$Z,MATCH(F25,'All Data'!$O:$O,0)))","v":""},{"$f":"IF(F25=\"\",\"\",INDEX('All Data'!$AA:$AA,MATCH(F25,'All Data'!$O:$O,0)))","v":""},{"$f":"IF(F25=\"\",\"\",INDEX('All Data'!$U:$U,MATCH(F25,'All Data'!$O:$O,0)))","v":""},{"$f":"IF(F25=\"\",\"\",INDEX('All Data'!$V:$V,MATCH(F25,'All Data'!$O:$O,0)))","v":""},{"$f":"IF(F25=\"\",\"\",INDEX('All Data'!$AK:$AK,MATCH(F25,'All Data'!$O:$O,0)))","v":""},{"$f":"IF(F25=\"\",\"\",INDEX('All Data'!$I:$I,MATCH(F25,'All Data'!$O:$O,0)))","v":""},{"$f":"IF(F25=\"\",\"\",INDEX('All Data'!$K:$K,MATCH(F25,'All Data'!$O:$O,0)))","v":""},{"$f":"IF(F25=\"\",\"\",INDEX('All Data'!$AS:$AS,MATCH(F25,'All Data'!$O:$O,0)))","v":""},""]
[null,null,null,{"$f":"IF(F26=\"\",\"\",INDEX('All Data'!$F:$F,MATCH(F26,'All Data'!$O:$O,0)))","v":""},{"$f":"IF(F26<>\"\",COUNTIF($F$7:F26,\"*\")&\".\",\"\")","v":""},null,{"$f":"IF(F26=\"\",\"\",INDEX('All Data'!$N:$N,MATCH(F26,'All Data'!$O:$O,0)))","v":""},{"$f":"IF(F26=\"\",\"\",INDEX('All Data'!$Q:$Q,MATCH(F26,'All Data'!$O:$O,0)))","v":""},{"$f":"IF(F26=\"\",\"\",INDEX('All Data'!$AF:$AF,MATCH(F26,'All Data'!$O:$O,0)))","v":""},{"$f":"IF(F26=\"\",\"\",INDEX('All Data'!$AD:$AD,MATCH(F26,'All Data'!$O:$O,0)))","v":""},{"$f":"IF(F26=\"\",\"\",INDEX('All Data'!$X:$X,MATCH(F26,'All Data'!$O:$O,0)))","v":""},{"$f":"IF(F26=\"\",\"\",INDEX('All Data'!$Y:$Y,MATCH(F26,'All Data'!$O:$O,0)))","v":""},{"$f":"IF(F26=\"\",\"\",INDEX('All Data'!$Z:$Z,MATCH(F26,'All Data'!$O:$O,0)))","v":""},{"$f":"IF(F26=\"\",\"\",INDEX('All Data'!$AA:$AA,MATCH(F26,'All Data'!$O:$O,0)))","v":""},{"$f":"IF(F26=\"\",\"\",INDEX('All Data'!$U:$U,MATCH(F26,'All Data'!$O:$O,0)))","v":""},{"$f":"IF(F26=\"\",\"\",INDEX('All Data'!$V:$V,MATCH(F26,'All Data'!$O:$O,0)))","v":""},{"$f":"IF(F26=\"\",\"\",INDEX('All Data'!$AK:$AK,MATCH(F26,'All Data'!$O:$O,0)))","v":""},{"$f":"IF(F26=\"\",\"\",INDEX('All Data'!$I:$I,MATCH(F26,'All Data'!$O:$O,0)))","v":""},{"$f":"IF(F26=\"\",\"\",INDEX('All Data'!$K:$K,MATCH(F26,'All Data'!$O:$O,0)))","v":""},{"$f":"IF(F26=\"\",\"\",INDEX('All Data'!$AS:$AS,MATCH(F26,'All Data'!$O:$O,0)))","v":""},""]
[null,null,null,{"$f":"IF(F27=\"\",\"\",INDEX('All Data'!$F:$F,MATCH(F27,'All Data'!$O:$O,0)))","v":""},{"$f":"IF(F27<>\"\",COUNTIF($F$7:F27,\"*\")&\".\",\"\")","v":""},null,{"$f":"IF(F27=\"\",\"\",INDEX('All Data'!$N:$N,MATCH(F27,'All Data'!$O:$O,0)))","v":""},{"$f":"IF(F27=\"\",\"\",INDEX('All Data'!$Q:$Q,MATCH(F27,'All Data'!$O:$O,0)))","v":""},{"$f":"IF(F27=\"\",\"\",INDEX('All Data'!$AF:$AF,MATCH(F27,'All Data'!$O:$O,0)))","v":""},{"$f":"IF(F27=\"\",\"\",INDEX('All Data'!$AD:$AD,MATCH(F27,'All Data'!$O:$O,0)))","v":""},{"$f":"IF(F27=\"\",\"\",INDEX('All Data'!$X:$X,MATCH(F27,'All Data'!$O:$O,0)))","v":""},{"$f":"IF(F27=\"\",\"\",INDEX('All Data'!$Y:$Y,MATCH(F27,'All Data'!$O:$O,0)))","v":""},{"$f":"IF(F27=\"\",\"\",INDEX('All Data'!$Z:$Z,MATCH(F27,'All Data'!$O:$O,0)))","v":""},{"$f":"IF(F27=\"\",\"\",INDEX('All Data'!$AA:$AA,MATCH(F27,'All Data'!$O:$O,0)))","v":""},{"$f":"IF(F27=\"\",\"\",INDEX('All Data'!$U:$U,MATCH(F27,'All Data'!$O:$O,0)))","v":""},{"$f":"IF(F27=\"\",\"\",INDEX('All Data'!$V:$V,MATCH(F27,'All Data'!$O:$O,0)))","v":""},{"$f":"IF(F27=\"\",\"\",INDEX('All Data'!$AK:$AK,MATCH(F27,'All Data'!$O:$O,0)))","v":""},{"$f":"IF(F27=\"\",\"\",INDEX('All Data'!$I:$I,MATCH(F27,'All Data'!$O:$O,0)))","v":""},{"$f":"IF(F27=\"\",\"\",INDEX('All Data'!$K:$K,MATCH(F27,'All Data'!$O:$O,0)))","v":""},{"$f":"IF(F27=\"\",\"\",INDEX('All Data'!$AS:$AS,MATCH(F27,'All Data'!$O:$O,0)))","v":""},""]
[null,null,null,{"$f":"IF(F28=\"\",\"\",INDEX('All Data'!$F:$F,MATCH(F28,'All Data'!$O:$O,0)))","v":""},{"$f":"IF(F28<>\"\",COUNTIF($F$7:F28,\"*\")&\".\",\"\")","v":""},null,{"$f":"IF(F28=\"\",\"\",INDEX('All Data'!$N:$N,MATCH(F28,'All Data'!$O:$O,0)))","v":""},{"$f":"IF(F28=\"\",\"\",INDEX('All Data'!$Q:$Q,MATCH(F28,'All Data'!$O:$O,0)))","v":""},{"$f":"IF(F28=\"\",\"\",INDEX('All Data'!$AF:$AF,MATCH(F28,'All Data'!$O:$O,0)))","v":""},{"$f":"IF(F28=\"\",\"\",INDEX('All Data'!$AD:$AD,MATCH(F28,'All Data'!$O:$O,0)))","v":""},{"$f":"IF(F28=\"\",\"\",INDEX('All Data'!$X:$X,MATCH(F28,'All Data'!$O:$O,0)))","v":""},{"$f":"IF(F28=\"\",\"\",INDEX('All Data'!$Y:$Y,MATCH(F28,'All Data'!$O:$O,0)))","v":""},{"$f":"IF(F28=\"\",\"\",INDEX('All Data'!$Z:$Z,MATCH(F28,'All Data'!$O:$O,0)))","v":""},{"$f":"IF(F28=\"\",\"\",INDEX('All Data'!$AA:$AA,MATCH(F28,'All Data'!$O:$O,0)))","v":""},{"$f":"IF(F28=\"\",\"\",INDEX('All Data'!$U:$U,MATCH(F28,'All Data'!$O:$O,0)))","v":""},{"$f":"IF(F28=\"\",\"\",INDEX('All Data'!$V:$V,MATCH(F28,'All Data'!$O:$O,0)))","v":""},{"$f":"IF(F28=\"\",\"\",INDEX('All Data'!$AK:$AK,MATCH(F28,'All Data'!$O:$O,0)))","v":""},{"$f":"IF(F28=\"\",\"\",INDEX('All Data'!$I:$I,MATCH(F28,'All Data'!$O:$O,0)))","v":""},{"$f":"IF(F28=\"\",\"\",INDEX('All Data'!$K:$K,MATCH(F28,'All Data'!$O:$O,0)))","v":""},{"$f":"IF(F28=\"\",\"\",INDEX('All Data'!$AS:$AS,MATCH(F28,'All Data'!$O:$O,0)))","v":""},""]
[null,null,null,{"$f":"IF(F29=\"\",\"\",INDEX('All Data'!$F:$F,MATCH(F29,'All Data'!$O:$O,0)))","v":""},{"$f":"IF(F29<>\"\",COUNTIF($F$7:F29,\"*\")&\".\",\"\")","v":""},null,{"$f":"IF(F29=\"\",\"\",INDEX('All Data'!$N:$N,MATCH(F29,'All Data'!$O:$O,0)))","v":""},{"$f":"IF(F29=\"\",\"\",INDEX('All Data'!$Q:$Q,MATCH(F29,'All Data'!$O:$O,0)))","v":""},{"$f":"IF(F29=\"\",\"\",INDEX('All Data'!$AF:$AF,MATCH(F29,'All Data'!$O:$O,0)))","v":""},{"$f":"IF(F29=\"\",\"\",INDEX('All Data'!$AD:$AD,MATCH(F29,'All Data'!$O:$O,0)))","v":""},{"$f":"IF(F29=\"\",\"\",INDEX('All Data'!$X:$X,MATCH(F29,'All Data'!$O:$O,0)))","v":""},{"$f":"IF(F29=\"\",\"\",INDEX('All Data'!$Y:$Y,MATCH(F29,'All Data'!$O:$O,0)))","v":""},{"$f":"IF(F29=\"\",\"\",INDEX('All Data'!$Z:$Z,MATCH(F29,'All Data'!$O:$O,0)))","v":""},{"$f":"IF(F29=\"\",\"\",INDEX('All Data'!$AA:$AA,MATCH(F29,'All Data'!$O:$O,0)))","v":""},{"$f":"IF(F29=\"\",\"\",INDEX('All Data'!$U:$U,MATCH(F29,'All Data'!$O:$O,0)))","v":""},{"$f":"IF(F29=\"\",\"\",INDEX('All Data'!$V:$V,MATCH(F29,'All Data'!$O:$O,0)))","v":""},{"$f":"IF(F29=\"\",\"\",INDEX('All Data'!$AK:$AK,MATCH(F29,'All Data'!$O:$O,0)))","v":""},{"$f":"IF(F29=\"\",\"\",INDEX('All Data'!$I:$I,MATCH(F29,'All Data'!$O:$O,0)))","v":""},{"$f":"IF(F29=\"\",\"\",INDEX('All Data'!$K:$K,MATCH(F29,'All Data'!$O:$O,0)))","v":""},{"$f":"IF(F29=\"\",\"\",INDEX('All Data'!$AS:$AS,MATCH(F29,'All Data'!$O:$O,0)))","v":""},""]
[null,null,null,{"$f":"IF(F30=\"\",\"\",INDEX('All Data'!$F:$F,MATCH(F30,'All Data'!$O:$O,0)))","v":""},{"$f":"IF(F30<>\"\",COUNTIF($F$7:F30,\"*\")&\".\",\"\")","v":""},null,{"$f":"IF(F30=\"\",\"\",INDEX('All Data'!$N:$N,MATCH(F30,'All Data'!$O:$O,0)))","v":""},{"$f":"IF(F30=\"\",\"\",INDEX('All Data'!$Q:$Q,MATCH(F30,'All Data'!$O:$O,0)))","v":""},{"$f":"IF(F30=\"\",\"\",INDEX('All Data'!$AF:$AF,MATCH(F30,'All Data'!$O:$O,0)))","v":""},{"$f":"IF(F30=\"\",\"\",INDEX('All Data'!$AD:$AD,MATCH(F30,'All Data'!$O:$O,0)))","v":""},{"$f":"IF(F30=\"\",\"\",INDEX('All Data'!$X:$X,MATCH(F30,'All Data'!$O:$O,0)))","v":""},{"$f":"IF(F30=\"\",\"\",INDEX('All Data'!$Y:$Y,MATCH(F30,'All Data'!$O:$O,0)))","v":""},{"$f":"IF(F30=\"\",\"\",INDEX('All Data'!$Z:$Z,MATCH(F30,'All Data'!$O:$O,0)))","v":""},{"$f":"IF(F30=\"\",\"\",INDEX('All Data'!$AA:$AA,MATCH(F30,'All Data'!$O:$O,0)))","v":""},{"$f":"IF(F30=\"\",\"\",INDEX('All Data'!$U:$U,MATCH(F30,'All Data'!$O:$O,0)))","v":""},{"$f":"IF(F30=\"\",\"\",INDEX('All Data'!$V:$V,MATCH(F30,'All Data'!$O:$O,0)))","v":""},{"$f":"IF(F30=\"\",\"\",INDEX('All Data'!$AK:$AK,MATCH(F30,'All Data'!$O:$O,0)))","v":""},{"$f":"IF(F30=\"\",\"\",INDEX('All Data'!$I:$I,MATCH(F30,'All Data'!$O:$O,0)))","v":""},{"$f":"IF(F30=\"\",\"\",INDEX('All Data'!$K:$K,MATCH(F30,'All Data'!$O:$O,0)))","v":""},{"$f":"IF(F30=\"\",\"\",INDEX('All Data'!$AS:$AS,MATCH(F30,'All Data'!$O:$O,0)))","v":""},""]
[null,null,null,{"$f":"IF(F31=\"\",\"\",INDEX('All Data'!$F:$F,MATCH(F31,'All Data'!$O:$O,0)))","v":""},{"$f":"IF(F31<>\"\",COUNTIF($F$7:F31,\"*\")&\".\",\"\")","v":""},null,{"$f":"IF(F31=\"\",\"\",INDEX('All Data'!$N:$N,MATCH(F31,'All Data'!$O:$O,0)))","v":""},{"$f":"IF(F31=\"\",\"\",INDEX('All Data'!$Q:$Q,MATCH(F31,'All Data'!$O:$O,0)))","v":""},{"$f":"IF(F31=\"\",\"\",INDEX('All Data'!$AF:$AF,MATCH(F31,'All Data'!$O:$O,0)))","v":""},{"$f":"IF(F31=\"\",\"\",INDEX('All Data'!$AD:$AD,MATCH(F31,'All Data'!$O:$O,0)))","v":""},{"$f":"IF(F31=\"\",\"\",INDEX('All Data'!$X:$X,MATCH(F31,'All Data'!$O:$O,0)))","v":""},{"$f":"IF(F31=\"\",\"\",INDEX('All Data'!$Y:$Y,MATCH(F31,'All Data'!$O:$O,0)))","v":""},{"$f":"IF(F31=\"\",\"\",INDEX('All Data'!$Z:$Z,MATCH(F31,'All Data'!$O:$O,0)))","v":""},{"$f":"IF(F31=\"\",\"\",INDEX('All Data'!$AA:$AA,MATCH(F31,'All Data'!$O:$O,0)))","v":""},{"$f":"IF(F31=\"\",\"\",INDEX('All Data'!$U:$U,MATCH(F31,'All Data'!$O:$O,0)))","v":""},{"$f":"IF(F31=\"\",\"\",INDEX('All Data'!$V:$V,MATCH(F31,'All Data'!$O:$O,0)))","v":""},{"$f":"IF(F31=\"\",\"\",INDEX('All Data'!$AK:$AK,MATCH(F31,'All Data'!$O:$O,0)))","v":""},{"$f":"IF(F31=\"\",\"\",INDEX('All Data'!$I:$I,MATCH(F31,'All Data'!$O:$O,0)))","v":""},{"$f":"IF(F31=\"\",\"\",INDEX('All Data'!$K:$K,MATCH(F31,'All Data'!$O:$O,0)))","v":""},{"$f":"IF(F31=\"\",\"\",INDEX('All Data'!$AS:$AS,MATCH(F31,'All Data'!$O:$O,0)))","v":""},""]
[null,null,null,{"$f":"IF(F32=\"\",\"\",INDEX('All Data'!$F:$F,MATCH(F32,'All Data'!$O:$O,0)))","v":""},{"$f":"IF(F32<>\"\",COUNTIF($F$7:F32,\"*\")&\".\",\"\")","v":""},null,{"$f":"IF(F32=\"\",\"\",INDEX('All Data'!$N:$N,MATCH(F32,'All Data'!$O:$O,0)))","v":""},{"$f":"IF(F32=\"\",\"\",INDEX('All Data'!$Q:$Q,MATCH(F32,'All Data'!$O:$O,0)))","v":""},{"$f":"IF(F32=\"\",\"\",INDEX('All Data'!$AF:$AF,MATCH(F32,'All Data'!$O:$O,0)))","v":""},{"$f":"IF(F32=\"\",\"\",INDEX('All Data'!$AD:$AD,MATCH(F32,'All Data'!$O:$O,0)))","v":""},{"$f":"IF(F32=\"\",\"\",INDEX('All Data'!$X:$X,MATCH(F32,'All Data'!$O:$O,0)))","v":""},{"$f":"IF(F32=\"\",\"\",INDEX('All Data'!$Y:$Y,MATCH(F32,'All Data'!$O:$O,0)))","v":""},{"$f":"IF(F32=\"\",\"\",INDEX('All Data'!$Z:$Z,MATCH(F32,'All Data'!$O:$O,0)))","v":""},{"$f":"IF(F32=\"\",\"\",INDEX('All Data'!$AA:$AA,MATCH(F32,'All Data'!$O:$O,0)))","v":""},{"$f":"IF(F32=\"\",\"\",INDEX('All Data'!$U:$U,MATCH(F32,'All Data'!$O:$O,0)))","v":""},{"$f":"IF(F32=\"\",\"\",INDEX('All Data'!$V:$V,MATCH(F32,'All Data'!$O:$O,0)))","v":""},{"$f":"IF(F32=\"\",\"\",INDEX('All Data'!$AK:$AK,MATCH(F32,'All Data'!$O:$O,0)))","v":""},{"$f":"IF(F32=\"\",\"\",INDEX('All Data'!$I:$I,MATCH(F32,'All Data'!$O:$O,0)))","v":""},{"$f":"IF(F32=\"\",\"\",INDEX('All Data'!$K:$K,MATCH(F32,'All Data'!$O:$O,0)))","v":""},{"$f":"IF(F32=\"\",\"\",INDEX('All Data'!$AS:$AS,MATCH(F32,'All Data'!$O:$O,0)))","v":""},""]
[null,null,null,{"$f":"IF(F33=\"\",\"\",INDEX('All Data'!$F:$F,MATCH(F33,'All Data'!$O:$O,0)))","v":""},{"$f":"IF(F33<>\"\",COUNTIF($F$7:F33,\"*\")&\".\",\"\")","v":""},null,{"$f":"IF(F33=\"\",\"\",INDEX('All Data'!$N:$N,MATCH(F33,'All Data'!$O:$O,0)))","v":""},{"$f":"IF(F33=\"\",\"\",INDEX('All Data'!$Q:$Q,MATCH(F33,'All Data'!$O:$O,0)))","v":""},{"$f":"IF(F33=\"\",\"\",INDEX('All Data'!$AF:$AF,MATCH(F33,'All Data'!$O:$O,0)))","v":""},{"$f":"IF(F33=\"\",\"\",INDEX('All Data'!$AD:$AD,MATCH(F33,'All Data'!$O:$O,0)))","v":""},{"$f":"IF(F33=\"\",\"\",INDEX('All Data'!$X:$X,MATCH(F33,'All Data'!$O:$O,0)))","v":""},{"$f":"IF(F33=\"\",\"\",INDEX('All Data'!$Y:$Y,MATCH(F33,'All Data'!$O:$O,0)))","v":""},{"$f":"IF(F33=\"\",\"\",INDEX('All Data'!$Z:$Z,MATCH(F33,'All Data'!$O:$O,0)))","v":""},{"$f":"IF(F33=\"\",\"\",INDEX('All Data'!$AA:$AA,MATCH(F33,'All Data'!$O:$O,0)))","v":""},{"$f":"IF(F33=\"\",\"\",INDEX('All Data'!$U:$U,MATCH(F33,'All Data'!$O:$O,0)))","v":""},{"$f":"IF(F33=\"\",\"\",INDEX('All Data'!$V:$V,MATCH(F33,'All Data'!$O:$O,0)))","v":""},{"$f":"IF(F33=\"\",\"\",INDEX('All Data'!$AK:$AK,MATCH(F33,'All Data'!$O:$O,0)))","v":""},{"$f":"IF(F33=\"\",\"\",INDEX('All Data'!$I:$I,MATCH(F33,'All Data'!$O:$O,0)))","v":""},{"$f":"IF(F33=\"\",\"\",INDEX('All Data'!$K:$K,MATCH(F33,'All Data'!$O:$O,0)))","v":""},{"$f":"IF(F33=\"\",\"\",INDEX('All Data'!$AS:$AS,MATCH(F33,'All Data'!$O:$O,0)))","v":""},""]
[null,null,null,{"$f":"IF(F34=\"\",\"\",INDEX('All Data'!$F:$F,MATCH(F34,'All Data'!$O:$O,0)))","v":""},{"$f":"IF(F34<>\"\",COUNTIF($F$7:F34,\"*\")&\".\",\"\")","v":""},null,{"$f":"IF(F34=\"\",\"\",INDEX('All Data'!$N:$N,MATCH(F34,'All Data'!$O:$O,0)))","v":""},{"$f":"IF(F34=\"\",\"\",INDEX('All Data'!$Q:$Q,MATCH(F34,'All Data'!$O:$O,0)))","v":""},{"$f":"IF(F34=\"\",\"\",INDEX('All Data'!$AF:$AF,MATCH(F34,'All Data'!$O:$O,0)))","v":""},{"$f":"IF(F34=\"\",\"\",INDEX('All Data'!$AD:$AD,MATCH(F34,'All Data'!$O:$O,0)))","v":""},{"$f":"IF(F34=\"\",\"\",INDEX('All Data'!$X:$X,MATCH(F34,'All Data'!$O:$O,0)))","v":""},{"$f":"IF(F34=\"\",\"\",INDEX('All Data'!$Y:$Y,MATCH(F34,'All Data'!$O:$O,0)))","v":""},{"$f":"IF(F34=\"\",\"\",INDEX('All Data'!$Z:$Z,MATCH(F34,'All Data'!$O:$O,0)))","v":""},{"$f":"IF(F34=\"\",\"\",INDEX('All Data'!$AA:$AA,MATCH(F34,'All Data'!$O:$O,0)))","v":""},{"$f":"IF(F34=\"\",\"\",INDEX('All Data'!$U:$U,MATCH(F34,'All Data'!$O:$O,0)))","v":""},{"$f":"IF(F34=\"\",\"\",INDEX('All Data'!$V:$V,MATCH(F34,'All Data'!$O:$O,0)))","v":""},{"$f":"IF(F34=\"\",\"\",INDEX('All Data'!$AK:$AK,MATCH(F34,'All Data'!$O:$O,0)))","v":""},{"$f":"IF(F34=\"\",\"\",INDEX('All Data'!$I:$I,MATCH(F34,'All Data'!$O:$O,0)))","v":""},{"$f":"IF(F34=\"\",\"\",INDEX('All Data'!$K:$K,MATCH(F34,'All Data'!$O:$O,0)))","v":""},{"$f":"IF(F34=\"\",\"\",INDEX('All Data'!$AS:$AS,MATCH(F34,'All Data'!$O:$O,0)))","v":""},""]
[null,null,null,{"$f":"IF(F35=\"\",\"\",INDEX('All Data'!$F:$F,MATCH(F35,'All Data'!$O:$O,0)))","v":""},{"$f":"IF(F35<>\"\",COUNTIF($F$7:F35,\"*\")&\".\",\"\")","v":""},null,{"$f":"IF(F35=\"\",\"\",INDEX('All Data'!$N:$N,MATCH(F35,'All Data'!$O:$O,0)))","v":""},{"$f":"IF(F35=\"\",\"\",INDEX('All Data'!$Q:$Q,MATCH(F35,'All Data'!$O:$O,0)))","v":""},{"$f":"IF(F35=\"\",\"\",INDEX('All Data'!$AF:$AF,MATCH(F35,'All Data'!$O:$O,0)))","v":""},{"$f":"IF(F35=\"\",\"\",INDEX('All Data'!$AD:$AD,MATCH(F35,'All Data'!$O:$O,0)))","v":""},{"$f":"IF(F35=\"\",\"\",INDEX('All Data'!$X:$X,MATCH(F35,'All Data'!$O:$O,0)))","v":""},{"$f":"IF(F35=\"\",\"\",INDEX('All Data'!$Y:$Y,MATCH(F35,'All Data'!$O:$O,0)))","v":""},{"$f":"IF(F35=\"\",\"\",INDEX('All Data'!$Z:$Z,MATCH(F35,'All Data'!$O:$O,0)))","v":""},{"$f":"IF(F35=\"\",\"\",INDEX('All Data'!$AA:$AA,MATCH(F35,'All Data'!$O:$O,0)))","v":""},{"$f":"IF(F35=\"\",\"\",INDEX('All Data'!$U:$U,MATCH(F35,'All Data'!$O:$O,0)))","v":""},{"$f":"IF(F35=\"\",\"\",INDEX('All Data'!$V:$V,MATCH(F35,'All Data'!$O:$O,0)))","v":""},{"$f":"IF(F35=\"\",\"\",INDEX('All Data'!$AK:$AK,MATCH(F35,'All Data'!$O:$O,0)))","v":""},{"$f":"IF(F35=\"\",\"\",INDEX('All Data'!$I:$I,MATCH(F35,'All Data'!$O:$O,0)))","v":""},{"$f":"IF(F35=\"\",\"\",INDEX('All Data'!$K:$K,MATCH(F35,'All Data'!$O:$O,0)))","v":""},{"$f":"IF(F35=\"\",\"\",INDEX('All Data'!$AS:$AS,MATCH(F35,'All Data'!$O:$O,0)))","v":""},""]
[null,null,null,{"$f":"IF(F36=\"\",\"\",INDEX('All Data'!$F:$F,MATCH(F36,'All Data'!$O:$O,0)))","v":""},{"$f":"IF(F36<>\"\",COUNTIF($F$7:F36,\"*\")&\".\",\"\")","v":""},null,{"$f":"IF(F36=\"\",\"\",INDEX('All Data'!$N:$N,MATCH(F36,'All Data'!$O:$O,0)))","v":""},{"$f":"IF(F36=\"\",\"\",INDEX('All Data'!$Q:$Q,MATCH(F36,'All Data'!$O:$O,0)))","v":""},{"$f":"IF(F36=\"\",\"\",INDEX('All Data'!$AF:$AF,MATCH(F36,'All Data'!$O:$O,0)))","v":""},{"$f":"IF(F36=\"\",\"\",INDEX('All Data'!$AD:$AD,MATCH(F36,'All Data'!$O:$O,0)))","v":""},{"$f":"IF(F36=\"\",\"\",INDEX('All Data'!$X:$X,MATCH(F36,'All Data'!$O:$O,0)))","v":""},{"$f":"IF(F36=\"\",\"\",INDEX('All Data'!$Y:$Y,MATCH(F36,'All Data'!$O:$O,0)))","v":""},{"$f":"IF(F36=\"\",\"\",INDEX('All Data'!$Z:$Z,MATCH(F36,'All Data'!$O:$O,0)))","v":""},{"$f":"IF(F36=\"\",\"\",INDEX('All Data'!$AA:$AA,MATCH(F36,'All Data'!$O:$O,0)))","v":""},{"$f":"IF(F36=\"\",\"\",INDEX('All Data'!$U:$U,MATCH(F36,'All Data'!$O:$O,0)))","v":""},{"$f":"IF(F36=\"\",\"\",INDEX('All Data'!$V:$V,MATCH(F36,'All Data'!$O:$O,0)))","v":""},{"$f":"IF(F36=\"\",\"\",INDEX('All Data'!$AK:$AK,MATCH(F36,'All Data'!$O:$O,0)))","v":""},{"$f":"IF(F36=\"\",\"\",INDEX('All Data'!$I:$I,MATCH(F36,'All Data'!$O:$O,0)))","v":""},{"$f":"IF(F36=\"\",\"\",INDEX('All Data'!$K:$K,MATCH(F36,'All Data'!$O:$O,0)))","v":""},{"$f":"IF(F36=\"\",\"\",INDEX('All Data'!$AS:$AS,MATCH(F36,'All Data'!$O:$O,0)))","v":""},""]
[null,null,null,{"$f":"IF(F37=\"\",\"\",INDEX('All Data'!$F:$F,MATCH(F37,'All Data'!$O:$O,0)))","v":""},{"$f":"IF(F37<>\"\",COUNTIF($F$7:F37,\"*\")&\".\",\"\")","v":""},null,{"$f":"IF(F37=\"\",\"\",INDEX('All Data'!$N:$N,MATCH(F37,'All Data'!$O:$O,0)))","v":""},{"$f":"IF(F37=\"\",\"\",INDEX('All Data'!$Q:$Q,MATCH(F37,'All Data'!$O:$O,0)))","v":""},{"$f":"IF(F37=\"\",\"\",INDEX('All Data'!$AF:$AF,MATCH(F37,'All Data'!$O:$O,0)))","v":""},{"$f":"IF(F37=\"\",\"\",INDEX('All Data'!$AD:$AD,MATCH(F37,'All Data'!$O:$O,0)))","v":""},{"$f":"IF(F37=\"\",\"\",INDEX('All Data'!$X:$X,MATCH(F37,'All Data'!$O:$O,0)))","v":""},{"$f":"IF(F37=\"\",\"\",INDEX('All Data'!$Y:$Y,MATCH(F37,'All Data'!$O:$O,0)))","v":""},{"$f":"IF(F37=\"\",\"\",INDEX('All Data'!$Z:$Z,MATCH(F37,'All Data'!$O:$O,0)))","v":""},{"$f":"IF(F37=\"\",\"\",INDEX('All Data'!$AA:$AA,MATCH(F37,'All Data'!$O:$O,0)))","v":""},{"$f":"IF(F37=\"\",\"\",INDEX('All Data'!$U:$U,MATCH(F37,'All Data'!$O:$O,0)))","v":""},{"$f":"IF(F37=\"\",\"\",INDEX('All Data'!$V:$V,MATCH(F37,'All Data'!$O:$O,0)))","v":""},{"$f":"IF(F37=\"\",\"\",INDEX('All Data'!$AK:$AK,MATCH(F37,'All Data'!$O:$O,0)))","v":""},{"$f":"IF(F37=\"\",\"\",INDEX('All Data'!$I:$I,MATCH(F37,'All Data'!$O:$O,0)))","v":""},{"$f":"IF(F37=\"\",\"\",INDEX('All Data'!$K:$K,MATCH(F37,'All Data'!$O:$O,0)))","v":""},{"$f":"IF(F37=\"\",\"\",INDEX('All Data'!$AS:$AS,MATCH(F37,'All Data'!$O:$O,0)))","v":""},""]
[null,null,null,{"$f":"IF(F38=\"\",\"\",INDEX('All Data'!$F:$F,MATCH(F38,'All Data'!$O:$O,0)))","v":""},{"$f":"IF(F38<>\"\",COUNTIF($F$7:F38,\"*\")&\".\",\"\")","v":""},null,{"$f":"IF(F38=\"\",\"\",INDEX('All Data'!$N:$N,MATCH(F38,'All Data'!$O:$O,0)))","v":""},{"$f":"IF(F38=\"\",\"\",INDEX('All Data'!$Q:$Q,MATCH(F38,'All Data'!$O:$O,0)))","v":""},{"$f":"IF(F38=\"\",\"\",INDEX('All Data'!$AF:$AF,MATCH(F38,'All Data'!$O:$O,0)))","v":""},{"$f":"IF(F38=\"\",\"\",INDEX('All Data'!$AD:$AD,MATCH(F38,'All Data'!$O:$O,0)))","v":""},{"$f":"IF(F38=\"\",\"\",INDEX('All Data'!$X:$X,MATCH(F38,'All Data'!$O:$O,0)))","v":""},{"$f":"IF(F38=\"\",\"\",INDEX('All Data'!$Y:$Y,MATCH(F38,'All Data'!$O:$O,0)))","v":""},{"$f":"IF(F38=\"\",\"\",INDEX('All Data'!$Z:$Z,MATCH(F38,'All Data'!$O:$O,0)))","v":""},{"$f":"IF(F38=\"\",\"\",INDEX('All Data'!$AA:$AA,MATCH(F38,'All Data'!$O:$O,0)))","v":""},{"$f":"IF(F38=\"\",\"\",INDEX('All Data'!$U:$U,MATCH(F38,'All Data'!$O:$O,0)))","v":""},{"$f":"IF(F38=\"\",\"\",INDEX('All Data'!$V:$V,MATCH(F38,'All Data'!$O:$O,0)))","v":""},{"$f":"IF(F38=\"\",\"\",INDEX('All Data'!$AK:$AK,MATCH(F38,'All Data'!$O:$O,0)))","v":""},{"$f":"IF(F38=\"\",\"\",INDEX('All Data'!$I:$I,MATCH(F38,'All Data'!$O:$O,0)))","v":""},{"$f":"IF(F38=\"\",\"\",INDEX('All Data'!$K:$K,MATCH(F38,'All Data'!$O:$O,0)))","v":""},{"$f":"IF(F38=\"\",\"\",INDEX('All Data'!$AS:$AS,MATCH(F38,'All Data'!$O:$O,0)))","v":""},""]
[null,null,null,{"$f":"IF(F39=\"\",\"\",INDEX('All Data'!$F:$F,MATCH(F39,'All Data'!$O:$O,0)))","v":""},{"$f":"IF(F39<>\"\",COUNTIF($F$7:F39,\"*\")&\".\",\"\")","v":""},null,{"$f":"IF(F39=\"\",\"\",INDEX('All Data'!$N:$N,MATCH(F39,'All Data'!$O:$O,0)))","v":""},{"$f":"IF(F39=\"\",\"\",INDEX('All Data'!$Q:$Q,MATCH(F39,'All Data'!$O:$O,0)))","v":""},{"$f":"IF(F39=\"\",\"\",INDEX('All Data'!$AF:$AF,MATCH(F39,'All Data'!$O:$O,0)))","v":""},{"$f":"IF(F39=\"\",\"\",INDEX('All Data'!$AD:$AD,MATCH(F39,'All Data'!$O:$O,0)))","v":""},{"$f":"IF(F39=\"\",\"\",INDEX('All Data'!$X:$X,MATCH(F39,'All Data'!$O:$O,0)))","v":""},{"$f":"IF(F39=\"\",\"\",INDEX('All Data'!$Y:$Y,MATCH(F39,'All Data'!$O:$O,0)))","v":""},{"$f":"IF(F39=\"\",\"\",INDEX('All Data'!$Z:$Z,MATCH(F39,'All Data'!$O:$O,0)))","v":""},{"$f":"IF(F39=\"\",\"\",INDEX('All Data'!$AA:$AA,MATCH(F39,'All Data'!$O:$O,0)))","v":""},{"$f":"IF(F39=\"\",\"\",INDEX('All Data'!$U:$U,MATCH(F39,'All Data'!$O:$O,0)))","v":""},{"$f":"IF(F39=\"\",\"\",INDEX('All Data'!$V:$V,MATCH(F39,'All Data'!$O:$O,0)))","v":""},{"$f":"IF(F39=\"\",\"\",INDEX('All Data'!$AK:$AK,MATCH(F39,'All Data'!$O:$O,0)))","v":""},{"$f":"IF(F39=\"\",\"\",INDEX('All Data'!$I:$I,MATCH(F39,'All Data'!$O:$O,0)))","v":""},{"$f":"IF(F39=\"\",\"\",INDEX('All Data'!$K:$K,MATCH(F39,'All Data'!$O:$O,0)))","v":""},{"$f":"IF(F39=\"\",\"\",INDEX('All Data'!$AS:$AS,MATCH(F39,'All Data'!$O:$O,0)))","v":""},""]
[null,null,null,{"$f":"IF(F40=\"\",\"\",INDEX('All Data'!$F:$F,MATCH(F40,'All Data'!$O:$O,0)))","v":""},{"$f":"IF(F40<>\"\",COUNTIF($F$7:F40,\"*\")&\".\",\"\")","v":""},null,{"$f":"IF(F40=\"\",\"\",INDEX('All Data'!$N:$N,MATCH(F40,'All Data'!$O:$O,0)))","v":""},{"$f":"IF(F40=\"\",\"\",INDEX('All Data'!$Q:$Q,MATCH(F40,'All Data'!$O:$O,0)))","v":""},{"$f":"IF(F40=\"\",\"\",INDEX('All Data'!$AF:$AF,MATCH(F40,'All Data'!$O:$O,0)))","v":""},{"$f":"IF(F40=\"\",\"\",INDEX('All Data'!$AD:$AD,MATCH(F40,'All Data'!$O:$O,0)))","v":""},{"$f":"IF(F40=\"\",\"\",INDEX('All Data'!$X:$X,MATCH(F40,'All Data'!$O:$O,0)))","v":""},{"$f":"IF(F40=\"\",\"\",INDEX('All Data'!$Y:$Y,MATCH(F40,'All Data'!$O:$O,0)))","v":""},{"$f":"IF(F40=\"\",\"\",INDEX('All Data'!$Z:$Z,MATCH(F40,'All Data'!$O:$O,0)))","v":""},{"$f":"IF(F40=\"\",\"\",INDEX('All Data'!$AA:$AA,MATCH(F40,'All Data'!$O:$O,0)))","v":""},{"$f":"IF(F40=\"\",\"\",INDEX('All Data'!$U:$U,MATCH(F40,'All Data'!$O:$O,0)))","v":""},{"$f":"IF(F40=\"\",\"\",INDEX('All Data'!$V:$V,MATCH(F40,'All Data'!$O:$O,0)))","v":""},{"$f":"IF(F40=\"\",\"\",INDEX('All Data'!$AK:$AK,MATCH(F40,'All Data'!$O:$O,0)))","v":""},{"$f":"IF(F40=\"\",\"\",INDEX('All Data'!$I:$I,MATCH(F40,'All Data'!$O:$O,0)))","v":""},{"$f":"IF(F40=\"\",\"\",INDEX('All Data'!$K:$K,MATCH(F40,'All Data'!$O:$O,0)))","v":""},{"$f":"IF(F40=\"\",\"\",INDEX('All Data'!$AS:$AS,MATCH(F40,'All Data'!$O:$O,0)))","v":""},""]
[null,null,null,{"$f":"IF(F41=\"\",\"\",INDEX('All Data'!$F:$F,MATCH(F41,'All Data'!$O:$O,0)))","v":""},{"$f":"IF(F41<>\"\",COUNTIF($F$7:F41,\"*\")&\".\",\"\")","v":""},null,{"$f":"IF(F41=\"\",\"\",INDEX('All Data'!$N:$N,MATCH(F41,'All Data'!$O:$O,0)))","v":""},{"$f":"IF(F41=\"\",\"\",INDEX('All Data'!$Q:$Q,MATCH(F41,'All Data'!$O:$O,0)))","v":""},{"$f":"IF(F41=\"\",\"\",INDEX('All Data'!$AF:$AF,MATCH(F41,'All Data'!$O:$O,0)))","v":""},{"$f":"IF(F41=\"\",\"\",INDEX('All Data'!$AD:$AD,MATCH(F41,'All Data'!$O:$O,0)))","v":""},{"$f":"IF(F41=\"\",\"\",INDEX('All Data'!$X:$X,MATCH(F41,'All Data'!$O:$O,0)))","v":""},{"$f":"IF(F41=\"\",\"\",INDEX('All Data'!$Y:$Y,MATCH(F41,'All Data'!$O:$O,0)))","v":""},{"$f":"IF(F41=\"\",\"\",INDEX('All Data'!$Z:$Z,MATCH(F41,'All Data'!$O:$O,0)))","v":""},{"$f":"IF(F41=\"\",\"\",INDEX('All Data'!$AA:$AA,MATCH(F41,'All Data'!$O:$O,0)))","v":""},{"$f":"IF(F41=\"\",\"\",INDEX('All Data'!$U:$U,MATCH(F41,'All Data'!$O:$O,0)))","v":""},{"$f":"IF(F41=\"\",\"\",INDEX('All Data'!$V:$V,MATCH(F41,'All Data'!$O:$O,0)))","v":""},{"$f":"IF(F41=\"\",\"\",INDEX('All Data'!$AK:$AK,MATCH(F41,'All Data'!$O:$O,0)))","v":""},{"$f":"IF(F41=\"\",\"\",INDEX('All Data'!$I:$I,MATCH(F41,'All Data'!$O:$O,0)))","v":""},{"$f":"IF(F41=\"\",\"\",INDEX('All Data'!$K:$K,MATCH(F41,'All Data'!$O:$O,0)))","v":""},{"$f":"IF(F41=\"\",\"\",INDEX('All Data'!$AS:$AS,MATCH(F41,'All Data'!$O:$O,0)))","v":""},""]
[null,null,null,{"$f":"IF(F42=\"\",\"\",INDEX('All Data'!$F:$F,MATCH(F42,'All Data'!$O:$O,0)))","v":""},{"$f":"IF(F42<>\"\",COUNTIF($F$7:F42,\"*\")&\".\",\"\")","v":""},null,{"$f":"IF(F42=\"\",\"\",INDEX('All Data'!$N:$N,MATCH(F42,'All Data'!$O:$O,0)))","v":""},{"$f":"IF(F42=\"\",\"\",INDEX('All Data'!$Q:$Q,MATCH(F42,'All Data'!$O:$O,0)))","v":""},{"$f":"IF(F42=\"\",\"\",INDEX('All Data'!$AF:$AF,MATCH(F42,'All Data'!$O:$O,0)))","v":""},{"$f":"IF(F42=\"\",\"\",INDEX('All Data'!$AD:$AD,MATCH(F42,'All Data'!$O:$O,0)))","v":""},{"$f":"IF(F42=\"\",\"\",INDEX('All Data'!$X:$X,MATCH(F42,'All Data'!$O:$O,0)))","v":""},{"$f":"IF(F42=\"\",\"\",INDEX('All Data'!$Y:$Y,MATCH(F42,'All Data'!$O:$O,0)))","v":""},{"$f":"IF(F42=\"\",\"\",INDEX('All Data'!$Z:$Z,MATCH(F42,'All Data'!$O:$O,0)))","v":""},{"$f":"IF(F42=\"\",\"\",INDEX('All Data'!$AA:$AA,MATCH(F42,'All Data'!$O:$O,0)))","v":""},{"$f":"IF(F42=\"\",\"\",INDEX('All Data'!$U:$U,MATCH(F42,'All Data'!$O:$O,0)))","v":""},{"$f":"IF(F42=\"\",\"\",INDEX('All Data'!$V:$V,MATCH(F42,'All Data'!$O:$O,0)))","v":""},{"$f":"IF(F42=\"\",\"\",INDEX('All Data'!$AK:$AK,MATCH(F42,'All Data'!$O:$O,0)))","v":""},{"$f":"IF(F42=\"\",\"\",INDEX('All Data'!$I:$I,MATCH(F42,'All Data'!$O:$O,0)))","v":""},{"$f":"IF(F42=\"\",\"\",INDEX('All Data'!$K:$K,MATCH(F42,'All Data'!$O:$O,0)))","v":""},{"$f":"IF(F42=\"\",\"\",INDEX('All Data'!$AS:$AS,MATCH(F42,'All Data'!$O:$O,0)))","v":""},""]
[null,null,null,{"$f":"IF(F43=\"\",\"\",INDEX('All Data'!$F:$F,MATCH(F43,'All Data'!$O:$O,0)))","v":""},{"$f":"IF(F43<>\"\",COUNTIF($F$7:F43,\"*\")&\".\",\"\")","v":""},null,{"$f":"IF(F43=\"\",\"\",INDEX('All Data'!$N:$N,MATCH(F43,'All Data'!$O:$O,0)))","v":""},{"$f":"IF(F43=\"\",\"\",INDEX('All Data'!$Q:$Q,MATCH(F43,'All Data'!$O:$O,0)))","v":""},{"$f":"IF(F43=\"\",\"\",INDEX('All Data'!$AF:$AF,MATCH(F43,'All Data'!$O:$O,0)))","v":""},{"$f":"IF(F43=\"\",\"\",INDEX('All Data'!$AD:$AD,MATCH(F43,'All Data'!$O:$O,0)))","v":""},{"$f":"IF(F43=\"\",\"\",INDEX('All Data'!$X:$X,MATCH(F43,'All Data'!$O:$O,0)))","v":""},{"$f":"IF(F43=\"\",\"\",INDEX('All Data'!$Y:$Y,MATCH(F43,'All Data'!$O:$O,0)))","v":""},{"$f":"IF(F43=\"\",\"\",INDEX('All Data'!$Z:$Z,MATCH(F43,'All Data'!$O:$O,0)))","v":""},{"$f":"IF(F43=\"\",\"\",INDEX('All Data'!$AA:$AA,MATCH(F43,'All Data'!$O:$O,0)))","v":""},{"$f":"IF(F43=\"\",\"\",INDEX('All Data'!$U:$U,MATCH(F43,'All Data'!$O:$O,0)))","v":""},{"$f":"IF(F43=\"\",\"\",INDEX('All Data'!$V:$V,MATCH(F43,'All Data'!$O:$O,0)))","v":""},{"$f":"IF(F43=\"\",\"\",INDEX('All Data'!$AK:$AK,MATCH(F43,'All Data'!$O:$O,0)))","v":""},{"$f":"IF(F43=\"\",\"\",INDEX('All Data'!$I:$I,MATCH(F43,'All Data'!$O:$O,0)))","v":""},{"$f":"IF(F43=\"\",\"\",INDEX('All Data'!$K:$K,MATCH(F43,'All Data'!$O:$O,0)))","v":""},{"$f":"IF(F43=\"\",\"\",INDEX('All Data'!$AS:$AS,MATCH(F43,'All Data'!$O:$O,0)))","v":""},""]
[null,null,null,{"$f":"IF(F44=\"\",\"\",INDEX('All Data'!$F:$F,MATCH(F44,'All Data'!$O:$O,0)))","v":""},{"$f":"IF(F44<>\"\",COUNTIF($F$7:F44,\"*\")&\".\",\"\")","v":""},null,{"$f":"IF(F44=\"\",\"\",INDEX('All Data'!$N:$N,MATCH(F44,'All Data'!$O:$O,0)))","v":""},{"$f":"IF(F44=\"\",\"\",INDEX('All Data'!$Q:$Q,MATCH(F44,'All Data'!$O:$O,0)))","v":""},{"$f":"IF(F44=\"\",\"\",INDEX('All Data'!$AF:$AF,MATCH(F44,'All Data'!$O:$O,0)))","v":""},{"$f":"IF(F44=\"\",\"\",INDEX('All Data'!$AD:$AD,MATCH(F44,'All Data'!$O:$O,0)))","v":""},{"$f":"IF(F44=\"\",\"\",INDEX('All Data'!$X:$X,MATCH(F44,'All Data'!$O:$O,0)))","v":""},{"$f":"IF(F44=\"\",\"\",INDEX('All Data'!$Y:$Y,MATCH(F44,'All Data'!$O:$O,0)))","v":""},{"$f":"IF(F44=\"\",\"\",INDEX('All Data'!$Z:$Z,MATCH(F44,'All Data'!$O:$O,0)))","v":""},{"$f":"IF(F44=\"\",\"\",INDEX('All Data'!$AA:$AA,MATCH(F44,'All Data'!$O:$O,0)))","v":""},{"$f":"IF(F44=\"\",\"\",INDEX('All Data'!$U:$U,MATCH(F44,'All Data'!$O:$O,0)))","v":""},{"$f":"IF(F44=\"\",\"\",INDEX('All Data'!$V:$V,MATCH(F44,'All Data'!$O:$O,0)))","v":""},{"$f":"IF(F44=\"\",\"\",INDEX('All Data'!$AK:$AK,MATCH(F44,'All Data'!$O:$O,0)))","v":""},{"$f":"IF(F44=\"\",\"\",INDEX('All Data'!$I:$I,MATCH(F44,'All Data'!$O:$O,0)))","v":""},{"$f":"IF(F44=\"\",\"\",INDEX('All Data'!$K:$K,MATCH(F44,'All Data'!$O:$O,0)))","v":""},{"$f":"IF(F44=\"\",\"\",INDEX('All Data'!$AS:$AS,MATCH(F44,'All Data'!$O:$O,0)))","v":""},""]
[null,null,null,{"$f":"IF(F45=\"\",\"\",INDEX('All Data'!$F:$F,MATCH(F45,'All Data'!$O:$O,0)))","v":""},{"$f":"IF(F45<>\"\",COUNTIF($F$7:F45,\"*\")&\".\",\"\")","v":""},null,{"$f":"IF(F45=\"\",\"\",INDEX('All Data'!$N:$N,MATCH(F45,'All Data'!$O:$O,0)))","v":""},{"$f":"IF(F45=\"\",\"\",INDEX('All Data'!$Q:$Q,MATCH(F45,'All Data'!$O:$O,0)))","v":""},{"$f":"IF(F45=\"\",\"\",INDEX('All Data'!$AF:$AF,MATCH(F45,'All Data'!$O:$O,0)))","v":""},{"$f":"IF(F45=\"\",\"\",INDEX('All Data'!$AD:$AD,MATCH(F45,'All Data'!$O:$O,0)))","v":""},{"$f":"IF(F45=\"\",\"\",INDEX('All Data'!$X:$X,MATCH(F45,'All Data'!$O:$O,0)))","v":""},{"$f":"IF(F45=\"\",\"\",INDEX('All Data'!$Y:$Y,MATCH(F45,'All Data'!$O:$O,0)))","v":""},{"$f":"IF(F45=\"\",\"\",INDEX('All Data'!$Z:$Z,MATCH(F45,'All Data'!$O:$O,0)))","v":""},{"$f":"IF(F45=\"\",\"\",INDEX('All Data'!$AA:$AA,MATCH(F45,'All Data'!$O:$O,0)))","v":""},{"$f":"IF(F45=\"\",\"\",INDEX('All Data'!$U:$U,MATCH(F45,'All Data'!$O:$O,0)))","v":""},{"$f":"IF(F45=\"\",\"\",INDEX('All Data'!$V:$V,MATCH(F45,'All Data'!$O:$O,0)))","v":""},{"$f":"IF(F45=\"\",\"\",INDEX('All Data'!$AK:$AK,MATCH(F45,'All Data'!$O:$O,0)))","v":""},{"$f":"IF(F45=\"\",\"\",INDEX('All Data'!$I:$I,MATCH(F45,'All Data'!$O:$O,0)))","v":""},{"$f":"IF(F45=\"\",\"\",INDEX('All Data'!$K:$K,MATCH(F45,'All Data'!$O:$O,0)))","v":""},{"$f":"IF(F45=\"\",\"\",INDEX('All Data'!$AS:$AS,MATCH(F45,'All Data'!$O:$O,0)))","v":""},""]
[null,null,null,{"$f":"IF(F46=\"\",\"\",INDEX('All Data'!$F:$F,MATCH(F46,'All Data'!$O:$O,0)))","v":""},{"$f":"IF(F46<>\"\",COUNTIF($F$7:F46,\"*\")&\".\",\"\")","v":""},null,{"$f":"IF(F46=\"\",\"\",INDEX('All Data'!$N:$N,MATCH(F46,'All Data'!$O:$O,0)))","v":""},{"$f":"IF(F46=\"\",\"\",INDEX('All Data'!$Q:$Q,MATCH(F46,'All Data'!$O:$O,0)))","v":""},{"$f":"IF(F46=\"\",\"\",INDEX('All Data'!$AF:$AF,MATCH(F46,'All Data'!$O:$O,0)))","v":""},{"$f":"IF(F46=\"\",\"\",INDEX('All Data'!$AD:$AD,MATCH(F46,'All Data'!$O:$O,0)))","v":""},{"$f":"IF(F46=\"\",\"\",INDEX('All Data'!$X:$X,MATCH(F46,'All Data'!$O:$O,0)))","v":""},{"$f":"IF(F46=\"\",\"\",INDEX('All Data'!$Y:$Y,MATCH(F46,'All Data'!$O:$O,0)))","v":""},{"$f":"IF(F46=\"\",\"\",INDEX('All Data'!$Z:$Z,MATCH(F46,'All Data'!$O:$O,0)))","v":""},{"$f":"IF(F46=\"\",\"\",INDEX('All Data'!$AA:$AA,MATCH(F46,'All Data'!$O:$O,0)))","v":""},{"$f":"IF(F46=\"\",\"\",INDEX('All Data'!$U:$U,MATCH(F46,'All Data'!$O:$O,0)))","v":""},{"$f":"IF(F46=\"\",\"\",INDEX('All Data'!$V:$V,MATCH(F46,'All Data'!$O:$O,0)))","v":""},{"$f":"IF(F46=\"\",\"\",INDEX('All Data'!$AK:$AK,MATCH(F46,'All Data'!$O:$O,0)))","v":""},{"$f":"IF(F46=\"\",\"\",INDEX('All Data'!$I:$I,MATCH(F46,'All Data'!$O:$O,0)))","v":""},{"$f":"IF(F46=\"\",\"\",INDEX('All Data'!$K:$K,MATCH(F46,'All Data'!$O:$O,0)))","v":""},{"$f":"IF(F46=\"\",\"\",INDEX('All Data'!$AS:$AS,MATCH(F46,'All Data'!$O:$O,0)))","v":""},""]
[null,null,null,{"$f":"IF(F47=\"\",\"\",INDEX('All Data'!$F:$F,MATCH(F47,'All Data'!$O:$O,0)))","v":""},{"$f":"IF(F47<>\"\",COUNTIF($F$7:F47,\"*\")&\".\",\"\")","v":""},null,{"$f":"IF(F47=\"\",\"\",INDEX('All Data'!$N:$N,MATCH(F47,'All Data'!$O:$O,0)))","v":""},{"$f":"IF(F47=\"\",\"\",INDEX('All Data'!$Q:$Q,MATCH(F47,'All Data'!$O:$O,0)))","v":""},{"$f":"IF(F47=\"\",\"\",INDEX('All Data'!$AF:$AF,MATCH(F47,'All Data'!$O:$O,0)))","v":""},{"$f":"IF(F47=\"\",\"\",INDEX('All Data'!$AD:$AD,MATCH(F47,'All Data'!$O:$O,0)))","v":""},{"$f":"IF(F47=\"\",\"\",INDEX('All Data'!$X:$X,MATCH(F47,'All Data'!$O:$O,0)))","v":""},{"$f":"IF(F47=\"\",\"\",INDEX('All Data'!$Y:$Y,MATCH(F47,'All Data'!$O:$O,0)))","v":""},{"$f":"IF(F47=\"\",\"\",INDEX('All Data'!$Z:$Z,MATCH(F47,'All Data'!$O:$O,0)))","v":""},{"$f":"IF(F47=\"\",\"\",INDEX('All Data'!$AA:$AA,MATCH(F47,'All Data'!$O:$O,0)))","v":""},{"$f":"IF(F47=\"\",\"\",INDEX('All Data'!$U:$U,MATCH(F47,'All Data'!$O:$O,0)))","v":""},{"$f":"IF(F47=\"\",\"\",INDEX('All Data'!$V:$V,MATCH(F47,'All Data'!$O:$O,0)))","v":""},{"$f":"IF(F47=\"\",\"\",INDEX('All Data'!$AK:$AK,MATCH(F47,'All Data'!$O:$O,0)))","v":""},{"$f":"IF(F47=\"\",\"\",INDEX('All Data'!$I:$I,MATCH(F47,'All Data'!$O:$O,0)))","v":""},{"$f":"IF(F47=\"\",\"\",INDEX('All Data'!$K:$K,MATCH(F47,'All Data'!$O:$O,0)))","v":""},{"$f":"IF(F47=\"\",\"\",INDEX('All Data'!$AS:$AS,MATCH(F47,'All Data'!$O:$O,0)))","v":""},""]
[null,null,null,{"$f":"IF(F48=\"\",\"\",INDEX('All Data'!$F:$F,MATCH(F48,'All Data'!$O:$O,0)))","v":""},{"$f":"IF(F48<>\"\",COUNTIF($F$7:F48,\"*\")&\".\",\"\")","v":""},null,{"$f":"IF(F48=\"\",\"\",INDEX('All Data'!$N:$N,MATCH(F48,'All Data'!$O:$O,0)))","v":""},{"$f":"IF(F48=\"\",\"\",INDEX('All Data'!$Q:$Q,MATCH(F48,'All Data'!$O:$O,0)))","v":""},{"$f":"IF(F48=\"\",\"\",INDEX('All Data'!$AF:$AF,MATCH(F48,'All Data'!$O:$O,0)))","v":""},{"$f":"IF(F48=\"\",\"\",INDEX('All Data'!$AD:$AD,MATCH(F48,'All Data'!$O:$O,0)))","v":""},{"$f":"IF(F48=\"\",\"\",INDEX('All Data'!$X:$X,MATCH(F48,'All Data'!$O:$O,0)))","v":""},{"$f":"IF(F48=\"\",\"\",INDEX('All Data'!$Y:$Y,MATCH(F48,'All Data'!$O:$O,0)))","v":""},{"$f":"IF(F48=\"\",\"\",INDEX('All Data'!$Z:$Z,MATCH(F48,'All Data'!$O:$O,0)))","v":""},{"$f":"IF(F48=\"\",\"\",INDEX('All Data'!$AA:$AA,MATCH(F48,'All Data'!$O:$O,0)))","v":""},{"$f":"IF(F48=\"\",\"\",INDEX('All Data'!$U:$U,MATCH(F48,'All Data'!$O:$O,0)))","v":""},{"$f":"IF(F48=\"\",\"\",INDEX('All Data'!$V:$V,MATCH(F48,'All Data'!$O:$O,0)))","v":""},{"$f":"IF(F48=\"\",\"\",INDEX('All Data'!$AK:$AK,MATCH(F48,'All Data'!$O:$O,0)))","v":""},{"$f":"IF(F48=\"\",\"\",INDEX('All Data'!$I:$I,MATCH(F48,'All Data'!$O:$O,0)))","v":""},{"$f":"IF(F48=\"\",\"\",INDEX('All Data'!$K:$K,MATCH(F48,'All Data'!$O:$O,0)))","v":""},{"$f":"IF(F48=\"\",\"\",INDEX('All Data'!$AS:$AS,MATCH(F48,'All Data'!$O:$O,0)))","v":""},""]
[null,null,null,{"$f":"IF(F49=\"\",\"\",INDEX('All Data'!$F:$F,MATCH(F49,'All Data'!$O:$O,0)))","v":""},{"$f":"IF(F49<>\"\",COUNTIF($F$7:F49,\"*\")&\".\",\"\")","v":""},null,{"$f":"IF(F49=\"\",\"\",INDEX('All Data'!$N:$N,MATCH(F49,'All Data'!$O:$O,0)))","v":""},{"$f":"IF(F49=\"\",\"\",INDEX('All Data'!$Q:$Q,MATCH(F49,'All Data'!$O:$O,0)))","v":""},{"$f":"IF(F49=\"\",\"\",INDEX('All Data'!$AF:$AF,MATCH(F49,'All Data'!$O:$O,0)))","v":""},{"$f":"IF(F49=\"\",\"\",INDEX('All Data'!$AD:$AD,MATCH(F49,'All Data'!$O:$O,0)))","v":""},{"$f":"IF(F49=\"\",\"\",INDEX('All Data'!$X:$X,MATCH(F49,'All Data'!$O:$O,0)))","v":""},{"$f":"IF(F49=\"\",\"\",INDEX('All Data'!$Y:$Y,MATCH(F49,'All Data'!$O:$O,0)))","v":""},{"$f":"IF(F49=\"\",\"\",INDEX('All Data'!$Z:$Z,MATCH(F49,'All Data'!$O:$O,0)))","v":""},{"$f":"IF(F49=\"\",\"\",INDEX('All Data'!$AA:$AA,MATCH(F49,'All Data'!$O:$O,0)))","v":""},{"$f":"IF(F49=\"\",\"\",INDEX('All Data'!$U:$U,MATCH(F49,'All Data'!$O:$O,0)))","v":""},{"$f":"IF(F49=\"\",\"\",INDEX('All Data'!$V:$V,MATCH(F49,'All Data'!$O:$O,0)))","v":""},{"$f":"IF(F49=\"\",\"\",INDEX('All Data'!$AK:$AK,MATCH(F49,'All Data'!$O:$O,0)))","v":""},{"$f":"IF(F49=\"\",\"\",INDEX('All Data'!$I:$I,MATCH(F49,'All Data'!$O:$O,0)))","v":""},{"$f":"IF(F49=\"\",\"\",INDEX('All Data'!$K:$K,MATCH(F49,'All Data'!$O:$O,0)))","v":""},{"$f":"IF(F49=\"\",\"\",INDEX('All Data'!$AS:$AS,MATCH(F49,'All Data'!$O:$O,0)))","v":""},""]
[null,null,null,{"$f":"IF(F50=\"\",\"\",INDEX('All Data'!$F:$F,MATCH(F50,'All Data'!$O:$O,0)))","v":""},{"$f":"IF(F50<>\"\",COUNTIF($F$7:F50,\"*\")&\".\",\"\")","v":""},null,{"$f":"IF(F50=\"\",\"\",INDEX('All Data'!$N:$N,MATCH(F50,'All Data'!$O:$O,0)))","v":""},{"$f":"IF(F50=\"\",\"\",INDEX('All Data'!$Q:$Q,MATCH(F50,'All Data'!$O:$O,0)))","v":""},{"$f":"IF(F50=\"\",\"\",INDEX('All Data'!$AF:$AF,MATCH(F50,'All Data'!$O:$O,0)))","v":""},{"$f":"IF(F50=\"\",\"\",INDEX('All Data'!$AD:$AD,MATCH(F50,'All Data'!$O:$O,0)))","v":""},{"$f":"IF(F50=\"\",\"\",INDEX('All Data'!$X:$X,MATCH(F50,'All Data'!$O:$O,0)))","v":""},{"$f":"IF(F50=\"\",\"\",INDEX('All Data'!$Y:$Y,MATCH(F50,'All Data'!$O:$O,0)))","v":""},{"$f":"IF(F50=\"\",\"\",INDEX('All Data'!$Z:$Z,MATCH(F50,'All Data'!$O:$O,0)))","v":""},{"$f":"IF(F50=\"\",\"\",INDEX('All Data'!$AA:$AA,MATCH(F50,'All Data'!$O:$O,0)))","v":""},{"$f":"IF(F50=\"\",\"\",INDEX('All Data'!$U:$U,MATCH(F50,'All Data'!$O:$O,0)))","v":""},{"$f":"IF(F50=\"\",\"\",INDEX('All Data'!$V:$V,MATCH(F50,'All Data'!$O:$O,0)))","v":""},{"$f":"IF(F50=\"\",\"\",INDEX('All Data'!$AK:$AK,MATCH(F50,'All Data'!$O:$O,0)))","v":""},{"$f":"IF(F50=\"\",\"\",INDEX('All Data'!$I:$I,MATCH(F50,'All Data'!$O:$O,0)))","v":""},{"$f":"IF(F50=\"\",\"\",INDEX('All Data'!$K:$K,MATCH(F50,'All Data'!$O:$O,0)))","v":""},{"$f":"IF(F50=\"\",\"\",INDEX('All Data'!$AS:$AS,MATCH(F50,'All Data'!$O:$O,0)))","v":""},""]
[null,null,null,{"$f":"IF(F51=\"\",\"\",INDEX('All Data'!$F:$F,MATCH(F51,'All Data'!$O:$O,0)))","v":""},{"$f":"IF(F51<>\"\",COUNTIF($F$7:F51,\"*\")&\".\",\"\")","v":""},null,{"$f":"IF(F51=\"\",\"\",INDEX('All Data'!$N:$N,MATCH(F51,'All Data'!$O:$O,0)))","v":""},{"$f":"IF(F51=\"\",\"\",INDEX('All Data'!$Q:$Q,MATCH(F51,'All Data'!$O:$O,0)))","v":""},{"$f":"IF(F51=\"\",\"\",INDEX('All Data'!$AF:$AF,MATCH(F51,'All Data'!$O:$O,0)))","v":""},{"$f":"IF(F51=\"\",\"\",INDEX('All Data'!$AD:$AD,MATCH(F51,'All Data'!$O:$O,0)))","v":""},{"$f":"IF(F51=\"\",\"\",INDEX('All Data'!$X:$X,MATCH(F51,'All Data'!$O:$O,0)))","v":""},{"$f":"IF(F51=\"\",\"\",INDEX('All Data'!$Y:$Y,MATCH(F51,'All Data'!$O:$O,0)))","v":""},{"$f":"IF(F51=\"\",\"\",INDEX('All Data'!$Z:$Z,MATCH(F51,'All Data'!$O:$O,0)))","v":""},{"$f":"IF(F51=\"\",\"\",INDEX('All Data'!$AA:$AA,MATCH(F51,'All Data'!$O:$O,0)))","v":""},{"$f":"IF(F51=\"\",\"\",INDEX('All Data'!$U:$U,MATCH(F51,'All Data'!$O:$O,0)))","v":""},{"$f":"IF(F51=\"\",\"\",INDEX('All Data'!$V:$V,MATCH(F51,'All Data'!$O:$O,0)))","v":""},{"$f":"IF(F51=\"\",\"\",INDEX('All Data'!$AK:$AK,MATCH(F51,'All Data'!$O:$O,0)))","v":""},{"$f":"IF(F51=\"\",\"\",INDEX('All Data'!$I:$I,MATCH(F51,'All Data'!$O:$O,0)))","v":""},{"$f":"IF(F51=\"\",\"\",INDEX('All Data'!$K:$K,MATCH(F51,'All Data'!$O:$O,0)))","v":""},{"$f":"IF(F51=\"\",\"\",INDEX('All Data'!$AS:$AS,MATCH(F51,'All Data'!$O:$O,0)))","v":""},""]
[null,null,null,{"$f":"IF(F52=\"\",\"\",INDEX('All Data'!$F:$F,MATCH(F52,'All Data'!$O:$O,0)))","v":""},{"$f":"IF(F52<>\"\",COUNTIF($F$7:F52,\"*\")&\".\",\"\")","v":""},null,{"$f":"IF(F52=\"\",\"\",INDEX('All Data'!$N:$N,MATCH(F52,'All Data'!$O:$O,0)))","v":""},{"$f":"IF(F52=\"\",\"\",INDEX('All Data'!$Q:$Q,MATCH(F52,'All Data'!$O:$O,0)))","v":""},{"$f":"IF(F52=\"\",\"\",INDEX('All Data'!$AF:$AF,MATCH(F52,'All Data'!$O:$O,0)))","v":""},{"$f":"IF(F52=\"\",\"\",INDEX('All Data'!$AD:$AD,MATCH(F52,'All Data'!$O:$O,0)))","v":""},{"$f":"IF(F52=\"\",\"\",INDEX('All Data'!$X:$X,MATCH(F52,'All Data'!$O:$O,0)))","v":""},{"$f":"IF(F52=\"\",\"\",INDEX('All Data'!$Y:$Y,MATCH(F52,'All Data'!$O:$O,0)))","v":""},{"$f":"IF(F52=\"\",\"\",INDEX('All Data'!$Z:$Z,MATCH(F52,'All Data'!$O:$O,0)))","v":""},{"$f":"IF(F52=\"\",\"\",INDEX('All Data'!$AA:$AA,MATCH(F52,'All Data'!$O:$O,0)))","v":""},{"$f":"IF(F52=\"\",\"\",INDEX('All Data'!$U:$U,MATCH(F52,'All Data'!$O:$O,0)))","v":""},{"$f":"IF(F52=\"\",\"\",INDEX('All Data'!$V:$V,MATCH(F52,'All Data'!$O:$O,0)))","v":""},{"$f":"IF(F52=\"\",\"\",INDEX('All Data'!$AK:$AK,MATCH(F52,'All Data'!$O:$O,0)))","v":""},{"$f":"IF(F52=\"\",\"\",INDEX('All Data'!$I:$I,MATCH(F52,'All Data'!$O:$O,0)))","v":""},{"$f":"IF(F52=\"\",\"\",INDEX('All Data'!$K:$K,MATCH(F52,'All Data'!$O:$O,0)))","v":""},{"$f":"IF(F52=\"\",\"\",INDEX('All Data'!$AS:$AS,MATCH(F52,'All Data'!$O:$O,0)))","v":""},""]
[null,null,null,{"$f":"IF(F53=\"\",\"\",INDEX('All Data'!$F:$F,MATCH(F53,'All Data'!$O:$O,0)))","v":""},{"$f":"IF(F53<>\"\",COUNTIF($F$7:F53,\"*\")&\".\",\"\")","v":""},null,{"$f":"IF(F53=\"\",\"\",INDEX('All Data'!$N:$N,MATCH(F53,'All Data'!$O:$O,0)))","v":""},{"$f":"IF(F53=\"\",\"\",INDEX('All Data'!$Q:$Q,MATCH(F53,'All Data'!$O:$O,0)))","v":""},{"$f":"IF(F53=\"\",\"\",INDEX('All Data'!$AF:$AF,MATCH(F53,'All Data'!$O:$O,0)))","v":""},{"$f":"IF(F53=\"\",\"\",INDEX('All Data'!$AD:$AD,MATCH(F53,'All Data'!$O:$O,0)))","v":""},{"$f":"IF(F53=\"\",\"\",INDEX('All Data'!$X:$X,MATCH(F53,'All Data'!$O:$O,0)))","v":""},{"$f":"IF(F53=\"\",\"\",INDEX('All Data'!$Y:$Y,MATCH(F53,'All Data'!$O:$O,0)))","v":""},{"$f":"IF(F53=\"\",\"\",INDEX('All Data'!$Z:$Z,MATCH(F53,'All Data'!$O:$O,0)))","v":""},{"$f":"IF(F53=\"\",\"\",INDEX('All Data'!$AA:$AA,MATCH(F53,'All Data'!$O:$O,0)))","v":""},{"$f":"IF(F53=\"\",\"\",INDEX('All Data'!$U:$U,MATCH(F53,'All Data'!$O:$O,0)))","v":""},{"$f":"IF(F53=\"\",\"\",INDEX('All Data'!$V:$V,MATCH(F53,'All Data'!$O:$O,0)))","v":""},{"$f":"IF(F53=\"\",\"\",INDEX('All Data'!$AK:$AK,MATCH(F53,'All Data'!$O:$O,0)))","v":""},{"$f":"IF(F53=\"\",\"\",INDEX('All Data'!$I:$I,MATCH(F53,'All Data'!$O:$O,0)))","v":""},{"$f":"IF(F53=\"\",\"\",INDEX('All Data'!$K:$K,MATCH(F53,'All Data'!$O:$O,0)))","v":""},{"$f":"IF(F53=\"\",\"\",INDEX('All Data'!$AS:$AS,MATCH(F53,'All Data'!$O:$O,0)))","v":""},""]
[null,null,null,{"$f":"IF(F54=\"\",\"\",INDEX('All Data'!$F:$F,MATCH(F54,'All Data'!$O:$O,0)))","v":""},{"$f":"IF(F54<>\"\",COUNTIF($F$7:F54,\"*\")&\".\",\"\")","v":""},null,{"$f":"IF(F54=\"\",\"\",INDEX('All Data'!$N:$N,MATCH(F54,'All Data'!$O:$O,0)))","v":""},{"$f":"IF(F54=\"\",\"\",INDEX('All Data'!$Q:$Q,MATCH(F54,'All Data'!$O:$O,0)))","v":""},{"$f":"IF(F54=\"\",\"\",INDEX('All Data'!$AF:$AF,MATCH(F54,'All Data'!$O:$O,0)))","v":""},{"$f":"IF(F54=\"\",\"\",INDEX('All Data'!$AD:$AD,MATCH(F54,'All Data'!$O:$O,0)))","v":""},{"$f":"IF(F54=\"\",\"\",INDEX('All Data'!$X:$X,MATCH(F54,'All Data'!$O:$O,0)))","v":""},{"$f":"IF(F54=\"\",\"\",INDEX('All Data'!$Y:$Y,MATCH(F54,'All Data'!$O:$O,0)))","v":""},{"$f":"IF(F54=\"\",\"\",INDEX('All Data'!$Z:$Z,MATCH(F54,'All Data'!$O:$O,0)))","v":""},{"$f":"IF(F54=\"\",\"\",INDEX('All Data'!$AA:$AA,MATCH(F54,'All Data'!$O:$O,0)))","v":""},{"$f":"IF(F54=\"\",\"\",INDEX('All Data'!$U:$U,MATCH(F54,'All Data'!$O:$O,0)))","v":""},{"$f":"IF(F54=\"\",\"\",INDEX('All Data'!$V:$V,MATCH(F54,'All Data'!$O:$O,0)))","v":""},{"$f":"IF(F54=\"\",\"\",INDEX('All Data'!$AK:$AK,MATCH(F54,'All Data'!$O:$O,0)))","v":""},{"$f":"IF(F54=\"\",\"\",INDEX('All Data'!$I:$I,MATCH(F54,'All Data'!$O:$O,0)))","v":""},{"$f":"IF(F54=\"\",\"\",INDEX('All Data'!$K:$K,MATCH(F54,'All Data'!$O:$O,0)))","v":""},{"$f":"IF(F54=\"\",\"\",INDEX('All Data'!$AS:$AS,MATCH(F54,'All Data'!$O:$O,0)))","v":""},""]
[null,null,null,{"$f":"IF(F55=\"\",\"\",INDEX('All Data'!$F:$F,MATCH(F55,'All Data'!$O:$O,0)))","v":""},{"$f":"IF(F55<>\"\",COUNTIF($F$7:F55,\"*\")&\".\",\"\")","v":""},null,{"$f":"IF(F55=\"\",\"\",INDEX('All Data'!$N:$N,MATCH(F55,'All Data'!$O:$O,0)))","v":""},{"$f":"IF(F55=\"\",\"\",INDEX('All Data'!$Q:$Q,MATCH(F55,'All Data'!$O:$O,0)))","v":""},{"$f":"IF(F55=\"\",\"\",INDEX('All Data'!$AF:$AF,MATCH(F55,'All Data'!$O:$O,0)))","v":""},{"$f":"IF(F55=\"\",\"\",INDEX('All Data'!$AD:$AD,MATCH(F55,'All Data'!$O:$O,0)))","v":""},{"$f":"IF(F55=\"\",\"\",INDEX('All Data'!$X:$X,MATCH(F55,'All Data'!$O:$O,0)))","v":""},{"$f":"IF(F55=\"\",\"\",INDEX('All Data'!$Y:$Y,MATCH(F55,'All Data'!$O:$O,0)))","v":""},{"$f":"IF(F55=\"\",\"\",INDEX('All Data'!$Z:$Z,MATCH(F55,'All Data'!$O:$O,0)))","v":""},{"$f":"IF(F55=\"\",\"\",INDEX('All Data'!$AA:$AA,MATCH(F55,'All Data'!$O:$O,0)))","v":""},{"$f":"IF(F55=\"\",\"\",INDEX('All Data'!$U:$U,MATCH(F55,'All Data'!$O:$O,0)))","v":""},{"$f":"IF(F55=\"\",\"\",INDEX('All Data'!$V:$V,MATCH(F55,'All Data'!$O:$O,0)))","v":""},{"$f":"IF(F55=\"\",\"\",INDEX('All Data'!$AK:$AK,MATCH(F55,'All Data'!$O:$O,0)))","v":""},{"$f":"IF(F55=\"\",\"\",INDEX('All Data'!$I:$I,MATCH(F55,'All Data'!$O:$O,0)))","v":""},{"$f":"IF(F55=\"\",\"\",INDEX('All Data'!$K:$K,MATCH(F55,'All Data'!$O:$O,0)))","v":""},{"$f":"IF(F55=\"\",\"\",INDEX('All Data'!$AS:$AS,MATCH(F55,'All Data'!$O:$O,0)))","v":""},""]
[null,null,null,{"$f":"IF(F56=\"\",\"\",INDEX('All Data'!$F:$F,MATCH(F56,'All Data'!$O:$O,0)))","v":""},{"$f":"IF(F56<>\"\",COUNTIF($F$7:F56,\"*\")&\".\",\"\")","v":""},null,{"$f":"IF(F56=\"\",\"\",INDEX('All Data'!$N:$N,MATCH(F56,'All Data'!$O:$O,0)))","v":""},{"$f":"IF(F56=\"\",\"\",INDEX('All Data'!$Q:$Q,MATCH(F56,'All Data'!$O:$O,0)))","v":""},{"$f":"IF(F56=\"\",\"\",INDEX('All Data'!$AF:$AF,MATCH(F56,'All Data'!$O:$O,0)))","v":""},{"$f":"IF(F56=\"\",\"\",INDEX('All Data'!$AD:$AD,MATCH(F56,'All Data'!$O:$O,0)))","v":""},{"$f":"IF(F56=\"\",\"\",INDEX('All Data'!$X:$X,MATCH(F56,'All Data'!$O:$O,0)))","v":""},{"$f":"IF(F56=\"\",\"\",INDEX('All Data'!$Y:$Y,MATCH(F56,'All Data'!$O:$O,0)))","v":""},{"$f":"IF(F56=\"\",\"\",INDEX('All Data'!$Z:$Z,MATCH(F56,'All Data'!$O:$O,0)))","v":""},{"$f":"IF(F56=\"\",\"\",INDEX('All Data'!$AA:$AA,MATCH(F56,'All Data'!$O:$O,0)))","v":""},{"$f":"IF(F56=\"\",\"\",INDEX('All Data'!$U:$U,MATCH(F56,'All Data'!$O:$O,0)))","v":""},{"$f":"IF(F56=\"\",\"\",INDEX('All Data'!$V:$V,MATCH(F56,'All Data'!$O:$O,0)))","v":""},{"$f":"IF(F56=\"\",\"\",INDEX('All Data'!$AK:$AK,MATCH(F56,'All Data'!$O:$O,0)))","v":""},{"$f":"IF(F56=\"\",\"\",INDEX('All Data'!$I:$I,MATCH(F56,'All Data'!$O:$O,0)))","v":""},{"$f":"IF(F56=\"\",\"\",INDEX('All Data'!$K:$K,MATCH(F56,'All Data'!$O:$O,0)))","v":""},{"$f":"IF(F56=\"\",\"\",INDEX('All Data'!$AS:$AS,MATCH(F56,'All Data'!$O:$O,0)))","v":""},""]
[null,null,null,{"$f":"IF(F57=\"\",\"\",INDEX('All Data'!$F:$F,MATCH(F57,'All Data'!$O:$O,0)))","v":""},{"$f":"IF(F57<>\"\",COUNTIF($F$7:F57,\"*\")&\".\",\"\")","v":""},null,{"$f":"IF(F57=\"\",\"\",INDEX('All Data'!$N:$N,MATCH(F57,'All Data'!$O:$O,0)))","v":""},{"$f":"IF(F57=\"\",\"\",INDEX('All Data'!$Q:$Q,MATCH(F57,'All Data'!$O:$O,0)))","v":""},{"$f":"IF(F57=\"\",\"\",INDEX('All Data'!$AF:$AF,MATCH(F57,'All Data'!$O:$O,0)))","v":""},{"$f":"IF(F57=\"\",\"\",INDEX('All Data'!$AD:$AD,MATCH(F57,'All Data'!$O:$O,0)))","v":""},{"$f":"IF(F57=\"\",\"\",INDEX('All Data'!$X:$X,MATCH(F57,'All Data'!$O:$O,0)))","v":""},{"$f":"IF(F57=\"\",\"\",INDEX('All Data'!$Y:$Y,MATCH(F57,'All Data'!$O:$O,0)))","v":""},{"$f":"IF(F57=\"\",\"\",INDEX('All Data'!$Z:$Z,MATCH(F57,'All Data'!$O:$O,0)))","v":""},{"$f":"IF(F57=\"\",\"\",INDEX('All Data'!$AA:$AA,MATCH(F57,'All Data'!$O:$O,0)))","v":""},{"$f":"IF(F57=\"\",\"\",INDEX('All Data'!$U:$U,MATCH(F57,'All Data'!$O:$O,0)))","v":""},{"$f":"IF(F57=\"\",\"\",INDEX('All Data'!$V:$V,MATCH(F57,'All Data'!$O:$O,0)))","v":""},{"$f":"IF(F57=\"\",\"\",INDEX('All Data'!$AK:$AK,MATCH(F57,'All Data'!$O:$O,0)))","v":""},{"$f":"IF(F57=\"\",\"\",INDEX('All Data'!$I:$I,MATCH(F57,'All Data'!$O:$O,0)))","v":""},{"$f":"IF(F57=\"\",\"\",INDEX('All Data'!$K:$K,MATCH(F57,'All Data'!$O:$O,0)))","v":""},{"$f":"IF(F57=\"\",\"\",INDEX('All Data'!$AS:$AS,MATCH(F57,'All Data'!$O:$O,0)))","v":""},""]
[null,null,null,{"$f":"IF(F58=\"\",\"\",INDEX('All Data'!$F:$F,MATCH(F58,'All Data'!$O:$O,0)))","v":""},{"$f":"IF(F58<>\"\",COUNTIF($F$7:F58,\"*\")&\".\",\"\")","v":""},null,{"$f":"IF(F58=\"\",\"\",INDEX('All Data'!$N:$N,MATCH(F58,'All Data'!$O:$O,0)))","v":""},{"$f":"IF(F58=\"\",\"\",INDEX('All Data'!$Q:$Q,MATCH(F58,'All Data'!$O:$O,0)))","v":""},{"$f":"IF(F58=\"\",\"\",INDEX('All Data'!$AF:$AF,MATCH(F58,'All Data'!$O:$O,0)))","v":""},{"$f":"IF(F58=\"\",\"\",INDEX('All Data'!$AD:$AD,MATCH(F58,'All Data'!$O:$O,0)))","v":""},{"$f":"IF(F58=\"\",\"\",INDEX('All Data'!$X:$X,MATCH(F58,'All Data'!$O:$O,0)))","v":""},{"$f":"IF(F58=\"\",\"\",INDEX('All Data'!$Y:$Y,MATCH(F58,'All Data'!$O:$O,0)))","v":""},{"$f":"IF(F58=\"\",\"\",INDEX('All Data'!$Z:$Z,MATCH(F58,'All Data'!$O:$O,0)))","v":""},{"$f":"IF(F58=\"\",\"\",INDEX('All Data'!$AA:$AA,MATCH(F58,'All Data'!$O:$O,0)))","v":""},{"$f":"IF(F58=\"\",\"\",INDEX('All Data'!$U:$U,MATCH(F58,'All Data'!$O:$O,0)))","v":""},{"$f":"IF(F58=\"\",\"\",INDEX('All Data'!$V:$V,MATCH(F58,'All Data'!$O:$O,0)))","v":""},{"$f":"IF(F58=\"\",\"\",INDEX('All Data'!$AK:$AK,MATCH(F58,'All Data'!$O:$O,0)))","v":""},{"$f":"IF(F58=\"\",\"\",INDEX('All Data'!$I:$I,MATCH(F58,'All Data'!$O:$O,0)))","v":""},{"$f":"IF(F58=\"\",\"\",INDEX('All Data'!$K:$K,MATCH(F58,'All Data'!$O:$O,0)))","v":""},{"$f":"IF(F58=\"\",\"\",INDEX('All Data'!$AS:$AS,MATCH(F58,'All Data'!$O:$O,0)))","v":""},""]
[null,null,null,{"$f":"IF(F59=\"\",\"\",INDEX('All Data'!$F:$F,MATCH(F59,'All Data'!$O:$O,0)))","v":""},{"$f":"IF(F59<>\"\",COUNTIF($F$7:F59,\"*\")&\".\",\"\")","v":""},null,{"$f":"IF(F59=\"\",\"\",INDEX('All Data'!$N:$N,MATCH(F59,'All Data'!$O:$O,0)))","v":""},{"$f":"IF(F59=\"\",\"\",INDEX('All Data'!$Q:$Q,MATCH(F59,'All Data'!$O:$O,0)))","v":""},{"$f":"IF(F59=\"\",\"\",INDEX('All Data'!$AF:$AF,MATCH(F59,'All Data'!$O:$O,0)))","v":""},{"$f":"IF(F59=\"\",\"\",INDEX('All Data'!$AD:$AD,MATCH(F59,'All Data'!$O:$O,0)))","v":""},{"$f":"IF(F59=\"\",\"\",INDEX('All Data'!$X:$X,MATCH(F59,'All Data'!$O:$O,0)))","v":""},{"$f":"IF(F59=\"\",\"\",INDEX('All Data'!$Y:$Y,MATCH(F59,'All Data'!$O:$O,0)))","v":""},{"$f":"IF(F59=\"\",\"\",INDEX('All Data'!$Z:$Z,MATCH(F59,'All Data'!$O:$O,0)))","v":""},{"$f":"IF(F59=\"\",\"\",INDEX('All Data'!$AA:$AA,MATCH(F59,'All Data'!$O:$O,0)))","v":""},{"$f":"IF(F59=\"\",\"\",INDEX('All Data'!$U:$U,MATCH(F59,'All Data'!$O:$O,0)))","v":""},{"$f":"IF(F59=\"\",\"\",INDEX('All Data'!$V:$V,MATCH(F59,'All Data'!$O:$O,0)))","v":""},{"$f":"IF(F59=\"\",\"\",INDEX('All Data'!$AK:$AK,MATCH(F59,'All Data'!$O:$O,0)))","v":""},{"$f":"IF(F59=\"\",\"\",INDEX('All Data'!$I:$I,MATCH(F59,'All Data'!$O:$O,0)))","v":""},{"$f":"IF(F59=\"\",\"\",INDEX('All Data'!$K:$K,MATCH(F59,'All Data'!$O:$O,0)))","v":""},{"$f":"IF(F59=\"\",\"\",INDEX('All Data'!$AS:$AS,MATCH(F59,'All Data'!$O:$O,0)))","v":""},""]
[null,null,null,{"$f":"IF(F60=\"\",\"\",INDEX('All Data'!$F:$F,MATCH(F60,'All Data'!$O:$O,0)))","v":""},{"$f":"IF(F60<>\"\",COUNTIF($F$7:F60,\"*\")&\".\",\"\")","v":""},null,{"$f":"IF(F60=\"\",\"\",INDEX('All Data'!$N:$N,MATCH(F60,'All Data'!$O:$O,0)))","v":""},{"$f":"IF(F60=\"\",\"\",INDEX('All Data'!$Q:$Q,MATCH(F60,'All Data'!$O:$O,0)))","v":""},{"$f":"IF(F60=\"\",\"\",INDEX('All Data'!$AF:$AF,MATCH(F60,'All Data'!$O:$O,0)))","v":""},{"$f":"IF(F60=\"\",\"\",INDEX('All Data'!$AD:$AD,MATCH(F60,'All Data'!$O:$O,0)))","v":""},{"$f":"IF(F60=\"\",\"\",INDEX('All Data'!$X:$X,MATCH(F60,'All Data'!$O:$O,0)))","v":""},{"$f":"IF(F60=\"\",\"\",INDEX('All Data'!$Y:$Y,MATCH(F60,'All Data'!$O:$O,0)))","v":""},{"$f":"IF(F60=\"\",\"\",INDEX('All Data'!$Z:$Z,MATCH(F60,'All Data'!$O:$O,0)))","v":""},{"$f":"IF(F60=\"\",\"\",INDEX('All Data'!$AA:$AA,MATCH(F60,'All Data'!$O:$O,0)))","v":""},{"$f":"IF(F60=\"\",\"\",INDEX('All Data'!$U:$U,MATCH(F60,'All Data'!$O:$O,0)))","v":""},{"$f":"IF(F60=\"\",\"\",INDEX('All Data'!$V:$V,MATCH(F60,'All Data'!$O:$O,0)))","v":""},{"$f":"IF(F60=\"\",\"\",INDEX('All Data'!$AK:$AK,MATCH(F60,'All Data'!$O:$O,0)))","v":""},{"$f":"IF(F60=\"\",\"\",INDEX('All Data'!$I:$I,MATCH(F60,'All Data'!$O:$O,0)))","v":""},{"$f":"IF(F60=\"\",\"\",INDEX('All Data'!$K:$K,MATCH(F60,'All Data'!$O:$O,0)))","v":""},{"$f":"IF(F60=\"\",\"\",INDEX('All Data'!$AS:$AS,MATCH(F60,'All Data'!$O:$O,0)))","v":""},""]
[null,null,null,{"$f":"IF(F61=\"\",\"\",INDEX('All Data'!$F:$F,MATCH(F61,'All Data'!$O:$O,0)))","v":""},{"$f":"IF(F61<>\"\",COUNTIF($F$7:F61,\"*\")&\".\",\"\")","v":""},null,{"$f":"IF(F61=\"\",\"\",INDEX('All Data'!$N:$N,MATCH(F61,'All Data'!$O:$O,0)))","v":""},{"$f":"IF(F61=\"\",\"\",INDEX('All Data'!$Q:$Q,MATCH(F61,'All Data'!$O:$O,0)))","v":""},{"$f":"IF(F61=\"\",\"\",INDEX('All Data'!$AF:$AF,MATCH(F61,'All Data'!$O:$O,0)))","v":""},{"$f":"IF(F61=\"\",\"\",INDEX('All Data'!$AD:$AD,MATCH(F61,'All Data'!$O:$O,0)))","v":""},{"$f":"IF(F61=\"\",\"\",INDEX('All Data'!$X:$X,MATCH(F61,'All Data'!$O:$O,0)))","v":""},{"$f":"IF(F61=\"\",\"\",INDEX('All Data'!$Y:$Y,MATCH(F61,'All Data'!$O:$O,0)))","v":""},{"$f":"IF(F61=\"\",\"\",INDEX('All Data'!$Z:$Z,MATCH(F61,'All Data'!$O:$O,0)))","v":""},{"$f":"IF(F61=\"\",\"\",INDEX('All Data'!$AA:$AA,MATCH(F61,'All Data'!$O:$O,0)))","v":""},{"$f":"IF(F61=\"\",\"\",INDEX('All Data'!$U:$U,MATCH(F61,'All Data'!$O:$O,0)))","v":""},{"$f":"IF(F61=\"\",\"\",INDEX('All Data'!$V:$V,MATCH(F61,'All Data'!$O:$O,0)))","v":""},{"$f":"IF(F61=\"\",\"\",INDEX('All Data'!$AK:$AK,MATCH(F61,'All Data'!$O:$O,0)))","v":""},{"$f":"IF(F61=\"\",\"\",INDEX('All Data'!$I:$I,MATCH(F61,'All Data'!$O:$O,0)))","v":""},{"$f":"IF(F61=\"\",\"\",INDEX('All Data'!$K:$K,MATCH(F61,'All Data'!$O:$O,0)))","v":""},{"$f":"IF(F61=\"\",\"\",INDEX('All Data'!$AS:$AS,MATCH(F61,'All Data'!$O:$O,0)))","v":""},""]
[null,null,null,{"$f":"IF(F62=\"\",\"\",INDEX('All Data'!$F:$F,MATCH(F62,'All Data'!$O:$O,0)))","v":""},{"$f":"IF(F62<>\"\",COUNTIF($F$7:F62,\"*\")&\".\",\"\")","v":""},null,{"$f":"IF(F62=\"\",\"\",INDEX('All Data'!$N:$N,MATCH(F62,'All Data'!$O:$O,0)))","v":""},{"$f":"IF(F62=\"\",\"\",INDEX('All Data'!$Q:$Q,MATCH(F62,'All Data'!$O:$O,0)))","v":""},{"$f":"IF(F62=\"\",\"\",INDEX('All Data'!$AF:$AF,MATCH(F62,'All Data'!$O:$O,0)))","v":""},{"$f":"IF(F62=\"\",\"\",INDEX('All Data'!$AD:$AD,MATCH(F62,'All Data'!$O:$O,0)))","v":""},{"$f":"IF(F62=\"\",\"\",INDEX('All Data'!$X:$X,MATCH(F62,'All Data'!$O:$O,0)))","v":""},{"$f":"IF(F62=\"\",\"\",INDEX('All Data'!$Y:$Y,MATCH(F62,'All Data'!$O:$O,0)))","v":""},{"$f":"IF(F62=\"\",\"\",INDEX('All Data'!$Z:$Z,MATCH(F62,'All Data'!$O:$O,0)))","v":""},{"$f":"IF(F62=\"\",\"\",INDEX('All Data'!$AA:$AA,MATCH(F62,'All Data'!$O:$O,0)))","v":""},{"$f":"IF(F62=\"\",\"\",INDEX('All Data'!$U:$U,MATCH(F62,'All Data'!$O:$O,0)))","v":""},{"$f":"IF(F62=\"\",\"\",INDEX('All Data'!$V:$V,MATCH(F62,'All Data'!$O:$O,0)))","v":""},{"$f":"IF(F62=\"\",\"\",INDEX('All Data'!$AK:$AK,MATCH(F62,'All Data'!$O:$O,0)))","v":""},{"$f":"IF(F62=\"\",\"\",INDEX('All Data'!$I:$I,MATCH(F62,'All Data'!$O:$O,0)))","v":""},{"$f":"IF(F62=\"\",\"\",INDEX('All Data'!$K:$K,MATCH(F62,'All Data'!$O:$O,0)))","v":""},{"$f":"IF(F62=\"\",\"\",INDEX('All Data'!$AS:$AS,MATCH(F62,'All Data'!$O:$O,0)))","v":""},""]
[null,null,null,{"$f":"IF(F63=\"\",\"\",INDEX('All Data'!$F:$F,MATCH(F63,'All Data'!$O:$O,0)))","v":""},{"$f":"IF(F63<>\"\",COUNTIF($F$7:F63,\"*\")&\".\",\"\")","v":""},null,{"$f":"IF(F63=\"\",\"\",INDEX('All Data'!$N:$N,MATCH(F63,'All Data'!$O:$O,0)))","v":""},{"$f":"IF(F63=\"\",\"\",INDEX('All Data'!$Q:$Q,MATCH(F63,'All Data'!$O:$O,0)))","v":""},{"$f":"IF(F63=\"\",\"\",INDEX('All Data'!$AF:$AF,MATCH(F63,'All Data'!$O:$O,0)))","v":""},{"$f":"IF(F63=\"\",\"\",INDEX('All Data'!$AD:$AD,MATCH(F63,'All Data'!$O:$O,0)))","v":""},{"$f":"IF(F63=\"\",\"\",INDEX('All Data'!$X:$X,MATCH(F63,'All Data'!$O:$O,0)))","v":""},{"$f":"IF(F63=\"\",\"\",INDEX('All Data'!$Y:$Y,MATCH(F63,'All Data'!$O:$O,0)))","v":""},{"$f":"IF(F63=\"\",\"\",INDEX('All Data'!$Z:$Z,MATCH(F63,'All Data'!$O:$O,0)))","v":""},{"$f":"IF(F63=\"\",\"\",INDEX('All Data'!$AA:$AA,MATCH(F63,'All Data'!$O:$O,0)))","v":""},{"$f":"IF(F63=\"\",\"\",INDEX('All Data'!$U:$U,MATCH(F63,'All Data'!$O:$O,0)))","v":""},{"$f":"IF(F63=\"\",\"\",INDEX('All Data'!$V:$V,MATCH(F63,'All Data'!$O:$O,0)))","v":""},{"$f":"IF(F63=\"\",\"\",INDEX('All Data'!$AK:$AK,MATCH(F63,'All Data'!$O:$O,0)))","v":""},{"$f":"IF(F63=\"\",\"\",INDEX('All Data'!$I:$I,MATCH(F63,'All Data'!$O:$O,0)))","v":""},{"$f":"IF(F63=\"\",\"\",INDEX('All Data'!$K:$K,MATCH(F63,'All Data'!$O:$O,0)))","v":""},{"$f":"IF(F63=\"\",\"\",INDEX('All Data'!$AS:$AS,MATCH(F63,'All Data'!$O:$O,0)))","v":""},""]
[null,null,null,{"$f":"IF(F64=\"\",\"\",INDEX('All Data'!$F:$F,MATCH(F64,'All Data'!$O:$O,0)))","v":""},{"$f":"IF(F64<>\"\",COUNTIF($F$7:F64,\"*\")&\".\",\"\")","v":""},null,{"$f":"IF(F64=\"\",\"\",INDEX('All Data'!$N:$N,MATCH(F64,'All Data'!$O:$O,0)))","v":""},{"$f":"IF(F64=\"\",\"\",INDEX('All Data'!$Q:$Q,MATCH(F64,'All Data'!$O:$O,0)))","v":""},{"$f":"IF(F64=\"\",\"\",INDEX('All Data'!$AF:$AF,MATCH(F64,'All Data'!$O:$O,0)))","v":""},{"$f":"IF(F64=\"\",\"\",INDEX('All Data'!$AD:$AD,MATCH(F64,'All Data'!$O:$O,0)))","v":""},{"$f":"IF(F64=\"\",\"\",INDEX('All Data'!$X:$X,MATCH(F64,'All Data'!$O:$O,0)))","v":""},{"$f":"IF(F64=\"\",\"\",INDEX('All Data'!$Y:$Y,MATCH(F64,'All Data'!$O:$O,0)))","v":""},{"$f":"IF(F64=\"\",\"\",INDEX('All Data'!$Z:$Z,MATCH(F64,'All Data'!$O:$O,0)))","v":""},{"$f":"IF(F64=\"\",\"\",INDEX('All Data'!$AA:$AA,MATCH(F64,'All Data'!$O:$O,0)))","v":""},{"$f":"IF(F64=\"\",\"\",INDEX('All Data'!$U:$U,MATCH(F64,'All Data'!$O:$O,0)))","v":""},{"$f":"IF(F64=\"\",\"\",INDEX('All Data'!$V:$V,MATCH(F64,'All Data'!$O:$O,0)))","v":""},{"$f":"IF(F64=\"\",\"\",INDEX('All Data'!$AK:$AK,MATCH(F64,'All Data'!$O:$O,0)))","v":""},{"$f":"IF(F64=\"\",\"\",INDEX('All Data'!$I:$I,MATCH(F64,'All Data'!$O:$O,0)))","v":""},{"$f":"IF(F64=\"\",\"\",INDEX('All Data'!$K:$K,MATCH(F64,'All Data'!$O:$O,0)))","v":""},{"$f":"IF(F64=\"\",\"\",INDEX('All Data'!$AS:$AS,MATCH(F64,'All Data'!$O:$O,0)))","v":""},""]
[null,null,null,{"$f":"IF(F65=\"\",\"\",INDEX('All Data'!$F:$F,MATCH(F65,'All Data'!$O:$O,0)))","v":""},{"$f":"IF(F65<>\"\",COUNTIF($F$7:F65,\"*\")&\".\",\"\")","v":""},null,{"$f":"IF(F65=\"\",\"\",INDEX('All Data'!$N:$N,MATCH(F65,'All Data'!$O:$O,0)))","v":""},{"$f":"IF(F65=\"\",\"\",INDEX('All Data'!$Q:$Q,MATCH(F65,'All Data'!$O:$O,0)))","v":""},{"$f":"IF(F65=\"\",\"\",INDEX('All Data'!$AF:$AF,MATCH(F65,'All Data'!$O:$O,0)))","v":""},{"$f":"IF(F65=\"\",\"\",INDEX('All Data'!$AD:$AD,MATCH(F65,'All Data'!$O:$O,0)))","v":""},{"$f":"IF(F65=\"\",\"\",INDEX('All Data'!$X:$X,MATCH(F65,'All Data'!$O:$O,0)))","v":""},{"$f":"IF(F65=\"\",\"\",INDEX('All Data'!$Y:$Y,MATCH(F65,'All Data'!$O:$O,0)))","v":""},{"$f":"IF(F65=\"\",\"\",INDEX('All Data'!$Z:$Z,MATCH(F65,'All Data'!$O:$O,0)))","v":""},{"$f":"IF(F65=\"\",\"\",INDEX('All Data'!$AA:$AA,MATCH(F65,'All Data'!$O:$O,0)))","v":""},{"$f":"IF(F65=\"\",\"\",INDEX('All Data'!$U:$U,MATCH(F65,'All Data'!$O:$O,0)))","v":""},{"$f":"IF(F65=\"\",\"\",INDEX('All Data'!$V:$V,MATCH(F65,'All Data'!$O:$O,0)))","v":""},{"$f":"IF(F65=\"\",\"\",INDEX('All Data'!$AK:$AK,MATCH(F65,'All Data'!$O:$O,0)))","v":""},{"$f":"IF(F65=\"\",\"\",INDEX('All Data'!$I:$I,MATCH(F65,'All Data'!$O:$O,0)))","v":""},{"$f":"IF(F65=\"\",\"\",INDEX('All Data'!$K:$K,MATCH(F65,'All Data'!$O:$O,0)))","v":""},{"$f":"IF(F65=\"\",\"\",INDEX('All Data'!$AS:$AS,MATCH(F65,'All Data'!$O:$O,0)))","v":""},""]
[null,null,null,{"$f":"IF(F66=\"\",\"\",INDEX('All Data'!$F:$F,MATCH(F66,'All Data'!$O:$O,0)))","v":""},{"$f":"IF(F66<>\"\",COUNTIF($F$7:F66,\"*\")&\".\",\"\")","v":""},null,{"$f":"IF(F66=\"\",\"\",INDEX('All Data'!$N:$N,MATCH(F66,'All Data'!$O:$O,0)))","v":""},{"$f":"IF(F66=\"\",\"\",INDEX('All Data'!$Q:$Q,MATCH(F66,'All Data'!$O:$O,0)))","v":""},{"$f":"IF(F66=\"\",\"\",INDEX('All Data'!$AF:$AF,MATCH(F66,'All Data'!$O:$O,0)))","v":""},{"$f":"IF(F66=\"\",\"\",INDEX('All Data'!$AD:$AD,MATCH(F66,'All Data'!$O:$O,0)))","v":""},{"$f":"IF(F66=\"\",\"\",INDEX('All Data'!$X:$X,MATCH(F66,'All Data'!$O:$O,0)))","v":""},{"$f":"IF(F66=\"\",\"\",INDEX('All Data'!$Y:$Y,MATCH(F66,'All Data'!$O:$O,0)))","v":""},{"$f":"IF(F66=\"\",\"\",INDEX('All Data'!$Z:$Z,MATCH(F66,'All Data'!$O:$O,0)))","v":""},{"$f":"IF(F66=\"\",\"\",INDEX('All Data'!$AA:$AA,MATCH(F66,'All Data'!$O:$O,0)))","v":""},{"$f":"IF(F66=\"\",\"\",INDEX('All Data'!$U:$U,MATCH(F66,'All Data'!$O:$O,0)))","v":""},{"$f":"IF(F66=\"\",\"\",INDEX('All Data'!$V:$V,MATCH(F66,'All Data'!$O:$O,0)))","v":""},{"$f":"IF(F66=\"\",\"\",INDEX('All Data'!$AK:$AK,MATCH(F66,'All Data'!$O:$O,0)))","v":""},{"$f":"IF(F66=\"\",\"\",INDEX('All Data'!$I:$I,MATCH(F66,'All Data'!$O:$O,0)))","v":""},{"$f":"IF(F66=\"\",\"\",INDEX('All Data'!$K:$K,MATCH(F66,'All Data'!$O:$O,0)))","v":""},{"$f":"IF(F66=\"\",\"\",INDEX('All Data'!$AS:$AS,MATCH(F66,'All Data'!$O:$O,0)))","v":""},""]
[null,null,null,{"$f":"IF(F67=\"\",\"\",INDEX('All Data'!$F:$F,MATCH(F67,'All Data'!$O:$O,0)))","v":""},{"$f":"IF(F67<>\"\",COUNTIF($F$7:F67,\"*\")&\".\",\"\")","v":""},null,{"$f":"IF(F67=\"\",\"\",INDEX('All Data'!$N:$N,MATCH(F67,'All Data'!$O:$O,0)))","v":""},{"$f":"IF(F67=\"\",\"\",INDEX('All Data'!$Q:$Q,MATCH(F67,'All Data'!$O:$O,0)))","v":""},{"$f":"IF(F67=\"\",\"\",INDEX('All Data'!$AF:$AF,MATCH(F67,'All Data'!$O:$O,0)))","v":""},{"$f":"IF(F67=\"\",\"\",INDEX('All Data'!$AD:$AD,MATCH(F67,'All Data'!$O:$O,0)))","v":""},{"$f":"IF(F67=\"\",\"\",INDEX('All Data'!$X:$X,MATCH(F67,'All Data'!$O:$O,0)))","v":""},{"$f":"IF(F67=\"\",\"\",INDEX('All Data'!$Y:$Y,MATCH(F67,'All Data'!$O:$O,0)))","v":""},{"$f":"IF(F67=\"\",\"\",INDEX('All Data'!$Z:$Z,MATCH(F67,'All Data'!$O:$O,0)))","v":""},{"$f":"IF(F67=\"\",\"\",INDEX('All Data'!$AA:$AA,MATCH(F67,'All Data'!$O:$O,0)))","v":""},{"$f":"IF(F67=\"\",\"\",INDEX('All Data'!$U:$U,MATCH(F67,'All Data'!$O:$O,0)))","v":""},{"$f":"IF(F67=\"\",\"\",INDEX('All Data'!$V:$V,MATCH(F67,'All Data'!$O:$O,0)))","v":""},{"$f":"IF(F67=\"\",\"\",INDEX('All Data'!$AK:$AK,MATCH(F67,'All Data'!$O:$O,0)))","v":""},{"$f":"IF(F67=\"\",\"\",INDEX('All Data'!$I:$I,MATCH(F67,'All Data'!$O:$O,0)))","v":""},{"$f":"IF(F67=\"\",\"\",INDEX('All Data'!$K:$K,MATCH(F67,'All Data'!$O:$O,0)))","v":""},{"$f":"IF(F67=\"\",\"\",INDEX('All Data'!$AS:$AS,MATCH(F67,'All Data'!$O:$O,0)))","v":""},""]
[null,null,null,{"$f":"IF(F68=\"\",\"\",INDEX('All Data'!$F:$F,MATCH(F68,'All Data'!$O:$O,0)))","v":""},{"$f":"IF(F68<>\"\",COUNTIF($F$7:F68,\"*\")&\".\",\"\")","v":""},null,{"$f":"IF(F68=\"\",\"\",INDEX('All Data'!$N:$N,MATCH(F68,'All Data'!$O:$O,0)))","v":""},{"$f":"IF(F68=\"\",\"\",INDEX('All Data'!$Q:$Q,MATCH(F68,'All Data'!$O:$O,0)))","v":""},{"$f":"IF(F68=\"\",\"\",INDEX('All Data'!$AF:$AF,MATCH(F68,'All Data'!$O:$O,0)))","v":""},{"$f":"IF(F68=\"\",\"\",INDEX('All Data'!$AD:$AD,MATCH(F68,'All Data'!$O:$O,0)))","v":""},{"$f":"IF(F68=\"\",\"\",INDEX('All Data'!$X:$X,MATCH(F68,'All Data'!$O:$O,0)))","v":""},{"$f":"IF(F68=\"\",\"\",INDEX('All Data'!$Y:$Y,MATCH(F68,'All Data'!$O:$O,0)))","v":""},{"$f":"IF(F68=\"\",\"\",INDEX('All Data'!$Z:$Z,MATCH(F68,'All Data'!$O:$O,0)))","v":""},{"$f":"IF(F68=\"\",\"\",INDEX('All Data'!$AA:$AA,MATCH(F68,'All Data'!$O:$O,0)))","v":""},{"$f":"IF(F68=\"\",\"\",INDEX('All Data'!$U:$U,MATCH(F68,'All Data'!$O:$O,0)))","v":""},{"$f":"IF(F68=\"\",\"\",INDEX('All Data'!$V:$V,MATCH(F68,'All Data'!$O:$O,0)))","v":""},{"$f":"IF(F68=\"\",\"\",INDEX('All Data'!$AK:$AK,MATCH(F68,'All Data'!$O:$O,0)))","v":""},{"$f":"IF(F68=\"\",\"\",INDEX('All Data'!$I:$I,MATCH(F68,'All Data'!$O:$O,0)))","v":""},{"$f":"IF(F68=\"\",\"\",INDEX('All Data'!$K:$K,MATCH(F68,'All Data'!$O:$O,0)))","v":""},{"$f":"IF(F68=\"\",\"\",INDEX('All Data'!$AS:$AS,MATCH(F68,'All Data'!$O:$O,0)))","v":""},""]
[null,null,null,{"$f":"IF(F69=\"\",\"\",INDEX('All Data'!$F:$F,MATCH(F69,'All Data'!$O:$O,0)))","v":""},{"$f":"IF(F69<>\"\",COUNTIF($F$7:F69,\"*\")&\".\",\"\")","v":""},null,{"$f":"IF(F69=\"\",\"\",INDEX('All Data'!$N:$N,MATCH(F69,'All Data'!$O:$O,0)))","v":""},{"$f":"IF(F69=\"\",\"\",INDEX('All Data'!$Q:$Q,MATCH(F69,'All Data'!$O:$O,0)))","v":""},{"$f":"IF(F69=\"\",\"\",INDEX('All Data'!$AF:$AF,MATCH(F69,'All Data'!$O:$O,0)))","v":""},{"$f":"IF(F69=\"\",\"\",INDEX('All Data'!$AD:$AD,MATCH(F69,'All Data'!$O:$O,0)))","v":""},{"$f":"IF(F69=\"\",\"\",INDEX('All Data'!$X:$X,MATCH(F69,'All Data'!$O:$O,0)))","v":""},{"$f":"IF(F69=\"\",\"\",INDEX('All Data'!$Y:$Y,MATCH(F69,'All Data'!$O:$O,0)))","v":""},{"$f":"IF(F69=\"\",\"\",INDEX('All Data'!$Z:$Z,MATCH(F69,'All Data'!$O:$O,0)))","v":""},{"$f":"IF(F69=\"\",\"\",INDEX('All Data'!$AA:$AA,MATCH(F69,'All Data'!$O:$O,0)))","v":""},{"$f":"IF(F69=\"\",\"\",INDEX('All Data'!$U:$U,MATCH(F69,'All Data'!$O:$O,0)))","v":""},{"$f":"IF(F69=\"\",\"\",INDEX('All Data'!$V:$V,MATCH(F69,'All Data'!$O:$O,0)))","v":""},{"$f":"IF(F69=\"\",\"\",INDEX('All Data'!$AK:$AK,MATCH(F69,'All Data'!$O:$O,0)))","v":""},{"$f":"IF(F69=\"\",\"\",INDEX('All Data'!$I:$I,MATCH(F69,'All Data'!$O:$O,0)))","v":""},{"$f":"IF(F69=\"\",\"\",INDEX('All Data'!$K:$K,MATCH(F69,'All Data'!$O:$O,0)))","v":""},{"$f":"IF(F69=\"\",\"\",INDEX('All Data'!$AS:$AS,MATCH(F69,'All Data'!$O:$O,0)))","v":""},""]
[null,null,null,{"$f":"IF(F70=\"\",\"\",INDEX('All Data'!$F:$F,MATCH(F70,'All Data'!$O:$O,0)))","v":""},{"$f":"IF(F70<>\"\",COUNTIF($F$7:F70,\"*\")&\".\",\"\")","v":""},null,{"$f":"IF(F70=\"\",\"\",INDEX('All Data'!$N:$N,MATCH(F70,'All Data'!$O:$O,0)))","v":""},{"$f":"IF(F70=\"\",\"\",INDEX('All Data'!$Q:$Q,MATCH(F70,'All Data'!$O:$O,0)))","v":""},{"$f":"IF(F70=\"\",\"\",INDEX('All Data'!$AF:$AF,MATCH(F70,'All Data'!$O:$O,0)))","v":""},{"$f":"IF(F70=\"\",\"\",INDEX('All Data'!$AD:$AD,MATCH(F70,'All Data'!$O:$O,0)))","v":""},{"$f":"IF(F70=\"\",\"\",INDEX('All Data'!$X:$X,MATCH(F70,'All Data'!$O:$O,0)))","v":""},{"$f":"IF(F70=\"\",\"\",INDEX('All Data'!$Y:$Y,MATCH(F70,'All Data'!$O:$O,0)))","v":""},{"$f":"IF(F70=\"\",\"\",INDEX('All Data'!$Z:$Z,MATCH(F70,'All Data'!$O:$O,0)))","v":""},{"$f":"IF(F70=\"\",\"\",INDEX('All Data'!$AA:$AA,MATCH(F70,'All Data'!$O:$O,0)))","v":""},{"$f":"IF(F70=\"\",\"\",INDEX('All Data'!$U:$U,MATCH(F70,'All Data'!$O:$O,0)))","v":""},{"$f":"IF(F70=\"\",\"\",INDEX('All Data'!$V:$V,MATCH(F70,'All Data'!$O:$O,0)))","v":""},{"$f":"IF(F70=\"\",\"\",INDEX('All Data'!$AK:$AK,MATCH(F70,'All Data'!$O:$O,0)))","v":""},{"$f":"IF(F70=\"\",\"\",INDEX('All Data'!$I:$I,MATCH(F70,'All Data'!$O:$O,0)))","v":""},{"$f":"IF(F70=\"\",\"\",INDEX('All Data'!$K:$K,MATCH(F70,'All Data'!$O:$O,0)))","v":""},{"$f":"IF(F70=\"\",\"\",INDEX('All Data'!$AS:$AS,MATCH(F70,'All Data'!$O:$O,0)))","v":""},""]
[null,null,null,{"$f":"IF(F71=\"\",\"\",INDEX('All Data'!$F:$F,MATCH(F71,'All Data'!$O:$O,0)))","v":""},{"$f":"IF(F71<>\"\",COUNTIF($F$7:F71,\"*\")&\".\",\"\")","v":""},null,{"$f":"IF(F71=\"\",\"\",INDEX('All Data'!$N:$N,MATCH(F71,'All Data'!$O:$O,0)))","v":""},{"$f":"IF(F71=\"\",\"\",INDEX('All Data'!$Q:$Q,MATCH(F71,'All Data'!$O:$O,0)))","v":""},{"$f":"IF(F71=\"\",\"\",INDEX('All Data'!$AF:$AF,MATCH(F71,'All Data'!$O:$O,0)))","v":""},{"$f":"IF(F71=\"\",\"\",INDEX('All Data'!$AD:$AD,MATCH(F71,'All Data'!$O:$O,0)))","v":""},{"$f":"IF(F71=\"\",\"\",INDEX('All Data'!$X:$X,MATCH(F71,'All Data'!$O:$O,0)))","v":""},{"$f":"IF(F71=\"\",\"\",INDEX('All Data'!$Y:$Y,MATCH(F71,'All Data'!$O:$O,0)))","v":""},{"$f":"IF(F71=\"\",\"\",INDEX('All Data'!$Z:$Z,MATCH(F71,'All Data'!$O:$O,0)))","v":""},{"$f":"IF(F71=\"\",\"\",INDEX('All Data'!$AA:$AA,MATCH(F71,'All Data'!$O:$O,0)))","v":""},{"$f":"IF(F71=\"\",\"\",INDEX('All Data'!$U:$U,MATCH(F71,'All Data'!$O:$O,0)))","v":""},{"$f":"IF(F71=\"\",\"\",INDEX('All Data'!$V:$V,MATCH(F71,'All Data'!$O:$O,0)))","v":""},{"$f":"IF(F71=\"\",\"\",INDEX('All Data'!$AK:$AK,MATCH(F71,'All Data'!$O:$O,0)))","v":""},{"$f":"IF(F71=\"\",\"\",INDEX('All Data'!$I:$I,MATCH(F71,'All Data'!$O:$O,0)))","v":""},{"$f":"IF(F71=\"\",\"\",INDEX('All Data'!$K:$K,MATCH(F71,'All Data'!$O:$O,0)))","v":""},{"$f":"IF(F71=\"\",\"\",INDEX('All Data'!$AS:$AS,MATCH(F71,'All Data'!$O:$O,0)))","v":""},{"$f":"IF(F71=\"\",\"\",H71&\"uH, \"&I71&\" x \"&J71&\"mm, \"&K71&\"A(40C), \"&M71&\"A(L-30%), \"&P71&\"mΩ max\")","v":""}]
[null,null,null,{"$f":"IF(F72=\"\",\"\",INDEX('All Data'!$F:$F,MATCH(F72,'All Data'!$O:$O,0)))","v":""},{"$f":"IF(F72<>\"\",COUNTIF($F$7:F72,\"*\")&\".\",\"\")","v":""},null,{"$f":"IF(F72=\"\",\"\",INDEX('All Data'!$N:$N,MATCH(F72,'All Data'!$O:$O,0)))","v":""},{"$f":"IF(F72=\"\",\"\",INDEX('All Data'!$Q:$Q,MATCH(F72,'All Data'!$O:$O,0)))","v":""},{"$f":"IF(F72=\"\",\"\",INDEX('All Data'!$AF:$AF,MATCH(F72,'All Data'!$O:$O,0)))","v":""},{"$f":"IF(F72=\"\",\"\",INDEX('All Data'!$AD:$AD,MATCH(F72,'All Data'!$O:$O,0)))","v":""},{"$f":"IF(F72=\"\",\"\",INDEX('All Data'!$X:$X,MATCH(F72,'All Data'!$O:$O,0)))","v":""},{"$f":"IF(F72=\"\",\"\",INDEX('All Data'!$Y:$Y,MATCH(F72,'All Data'!$O:$O,0)))","v":""},{"$f":"IF(F72=\"\",\"\",INDEX('All Data'!$Z:$Z,MATCH(F72,'All Data'!$O:$O,0)))","v":""},{"$f":"IF(F72=\"\",\"\",INDEX('All Data'!$AA:$AA,MATCH(F72,'All Data'!$O:$O,0)))","v":""},{"$f":"IF(F72=\"\",\"\",INDEX('All Data'!$U:$U,MATCH(F72,'All Data'!$O:$O,0)))","v":""},{"$f":"IF(F72=\"\",\"\",INDEX('All Data'!$V:$V,MATCH(F72,'All Data'!$O:$O,0)))","v":""},{"$f":"IF(F72=\"\",\"\",INDEX('All Data'!$AK:$AK,MATCH(F72,'All Data'!$O:$O,0)))","v":""},{"$f":"IF(F72=\"\",\"\",INDEX('All Data'!$I:$I,MATCH(F72,'All Data'!$O:$O,0)))","v":""},{"$f":"IF(F72=\"\",\"\",INDEX('All Data'!$K:$K,MATCH(F72,'All Data'!$O:$O,0)))","v":""},{"$f":"IF(F72=\"\",\"\",INDEX('All Data'!$AS:$AS,MATCH(F72,'All Data'!$O:$O,0)))","v":""},""]
[null,null,null,{"$f":"IF(F73=\"\",\"\",INDEX('All Data'!$F:$F,MATCH(F73,'All Data'!$O:$O,0)))","v":""},{"$f":"IF(F73<>\"\",COUNTIF($F$7:F73,\"*\")&\".\",\"\")","v":""},null,{"$f":"IF(F73=\"\",\"\",INDEX('All Data'!$N:$N,MATCH(F73,'All Data'!$O:$O,0)))","v":""},{"$f":"IF(F73=\"\",\"\",INDEX('All Data'!$Q:$Q,MATCH(F73,'All Data'!$O:$O,0)))","v":""},{"$f":"IF(F73=\"\",\"\",INDEX('All Data'!$AF:$AF,MATCH(F73,'All Data'!$O:$O,0)))","v":""},{"$f":"IF(F73=\"\",\"\",INDEX('All Data'!$AD:$AD,MATCH(F73,'All Data'!$O:$O,0)))","v":""},{"$f":"IF(F73=\"\",\"\",INDEX('All Data'!$X:$X,MATCH(F73,'All Data'!$O:$O,0)))","v":""},{"$f":"IF(F73=\"\",\"\",INDEX('All Data'!$Y:$Y,MATCH(F73,'All Data'!$O:$O,0)))","v":""},{"$f":"IF(F73=\"\",\"\",INDEX('All Data'!$Z:$Z,MATCH(F73,'All Data'!$O:$O,0)))","v":""},{"$f":"IF(F73=\"\",\"\",INDEX('All Data'!$AA:$AA,MATCH(F73,'All Data'!$O:$O,0)))","v":""},{"$f":"IF(F73=\"\",\"\",INDEX('All Data'!$U:$U,MATCH(F73,'All Data'!$O:$O,0)))","v":""},{"$f":"IF(F73=\"\",\"\",INDEX('All Data'!$V:$V,MATCH(F73,'All Data'!$O:$O,0)))","v":""},{"$f":"IF(F73=\"\",\"\",INDEX('All Data'!$AK:$AK,MATCH(F73,'All Data'!$O:$O,0)))","v":""},{"$f":"IF(F73=\"\",\"\",INDEX('All Data'!$I:$I,MATCH(F73,'All Data'!$O:$O,0)))","v":""},{"$f":"IF(F73=\"\",\"\",INDEX('All Data'!$K:$K,MATCH(F73,'All Data'!$O:$O,0)))","v":""},{"$f":"IF(F73=\"\",\"\",INDEX('All Data'!$AS:$AS,MATCH(F73,'All Data'!$O:$O,0)))","v":""},""]
[null,null,null,{"$f":"IF(F74=\"\",\"\",INDEX('All Data'!$F:$F,MATCH(F74,'All Data'!$O:$O,0)))","v":""},{"$f":"IF(F74<>\"\",COUNTIF($F$7:F74,\"*\")&\".\",\"\")","v":""},null,{"$f":"IF(F74=\"\",\"\",INDEX('All Data'!$N:$N,MATCH(F74,'All Data'!$O:$O,0)))","v":""},{"$f":"IF(F74=\"\",\"\",INDEX('All Data'!$Q:$Q,MATCH(F74,'All Data'!$O:$O,0)))","v":""},{"$f":"IF(F74=\"\",\"\",INDEX('All Data'!$AF:$AF,MATCH(F74,'All Data'!$O:$O,0)))","v":""},{"$f":"IF(F74=\"\",\"\",INDEX('All Data'!$AD:$AD,MATCH(F74,'All Data'!$O:$O,0)))","v":""},{"$f":"IF(F74=\"\",\"\",INDEX('All Data'!$X:$X,MATCH(F74,'All Data'!$O:$O,0)))","v":""},{"$f":"IF(F74=\"\",\"\",INDEX('All Data'!$Y:$Y,MATCH(F74,'All Data'!$O:$O,0)))","v":""},{"$f":"IF(F74=\"\",\"\",INDEX('All Data'!$Z:$Z,MATCH(F74,'All Data'!$O:$O,0)))","v":""},{"$f":"IF(F74=\"\",\"\",INDEX('All Data'!$AA:$AA,MATCH(F74,'All Data'!$O:$O,0)))","v":""},{"$f":"IF(F74=\"\",\"\",INDEX('All Data'!$U:$U,MATCH(F74,'All Data'!$O:$O,0)))","v":""},{"$f":"IF(F74=\"\",\"\",INDEX('All Data'!$V:$V,MATCH(F74,'All Data'!$O:$O,0)))","v":""},{"$f":"IF(F74=\"\",\"\",INDEX('All Data'!$AK:$AK,MATCH(F74,'All Data'!$O:$O,0)))","v":""},{"$f":"IF(F74=\"\",\"\",INDEX('All Data'!$I:$I,MATCH(F74,'All Data'!$O:$O,0)))","v":""},{"$f":"IF(F74=\"\",\"\",INDEX('All Data'!$K:$K,MATCH(F74,'All Data'!$O:$O,0)))","v":""},{"$f":"IF(F74=\"\",\"\",INDEX('All Data'!$AS:$AS,MATCH(F74,'All Data'!$O:$O,0)))","v":""},""]
[null,null,null,{"$f":"IF(F75=\"\",\"\",INDEX('All Data'!$F:$F,MATCH(F75,'All Data'!$O:$O,0)))","v":""},{"$f":"IF(F75<>\"\",COUNTIF($F$7:F75,\"*\")&\".\",\"\")","v":""},null,{"$f":"IF(F75=\"\",\"\",INDEX('All Data'!$N:$N,MATCH(F75,'All Data'!$O:$O,0)))","v":""},{"$f":"IF(F75=\"\",\"\",INDEX('All Data'!$Q:$Q,MATCH(F75,'All Data'!$O:$O,0)))","v":""},{"$f":"IF(F75=\"\",\"\",INDEX('All Data'!$AF:$AF,MATCH(F75,'All Data'!$O:$O,0)))","v":""},{"$f":"IF(F75=\"\",\"\",INDEX('All Data'!$AD:$AD,MATCH(F75,'All Data'!$O:$O,0)))","v":""},{"$f":"IF(F75=\"\",\"\",INDEX('All Data'!$X:$X,MATCH(F75,'All Data'!$O:$O,0)))","v":""},{"$f":"IF(F75=\"\",\"\",INDEX('All Data'!$Y:$Y,MATCH(F75,'All Data'!$O:$O,0)))","v":""},{"$f":"IF(F75=\"\",\"\",INDEX('All Data'!$Z:$Z,MATCH(F75,'All Data'!$O:$O,0)))","v":""},{"$f":"IF(F75=\"\",\"\",INDEX('All Data'!$AA:$AA,MATCH(F75,'All Data'!$O:$O,0)))","v":""},{"$f":"IF(F75=\"\",\"\",INDEX('All Data'!$U:$U,MATCH(F75,'All Data'!$O:$O,0)))","v":""},{"$f":"IF(F75=\"\",\"\",INDEX('All Data'!$V:$V,MATCH(F75,'All Data'!$O:$O,0)))","v":""},{"$f":"IF(F75=\"\",\"\",INDEX('All Data'!$AK:$AK,MATCH(F75,'All Data'!$O:$O,0)))","v":""},{"$f":"IF(F75=\"\",\"\",INDEX('All Data'!$I:$I,MATCH(F75,'All Data'!$O:$O,0)))","v":""},{"$f":"IF(F75=\"\",\"\",INDEX('All Data'!$K:$K,MATCH(F75,'All Data'!$O:$O,0)))","v":""},{"$f":"IF(F75=\"\",\"\",INDEX('All Data'!$AS:$AS,MATCH(F75,'All Data'!$O:$O,0)))","v":""},""]
[null,null,null,{"$f":"IF(F76=\"\",\"\",INDEX('All Data'!$F:$F,MATCH(F76,'All Data'!$O:$O,0)))","v":""},{"$f":"IF(F76<>\"\",COUNTIF($F$7:F76,\"*\")&\".\",\"\")","v":""},null,{"$f":"IF(F76=\"\",\"\",INDEX('All Data'!$N:$N,MATCH(F76,'All Data'!$O:$O,0)))","v":""},{"$f":"IF(F76=\"\",\"\",INDEX('All Data'!$Q:$Q,MATCH(F76,'All Data'!$O:$O,0)))","v":""},{"$f":"IF(F76=\"\",\"\",INDEX('All Data'!$AF:$AF,MATCH(F76,'All Data'!$O:$O,0)))","v":""},{"$f":"IF(F76=\"\",\"\",INDEX('All Data'!$AD:$AD,MATCH(F76,'All Data'!$O:$O,0)))","v":""},{"$f":"IF(F76=\"\",\"\",INDEX('All Data'!$X:$X,MATCH(F76,'All Data'!$O:$O,0)))","v":""},{"$f":"IF(F76=\"\",\"\",INDEX('All Data'!$Y:$Y,MATCH(F76,'All Data'!$O:$O,0)))","v":""},{"$f":"IF(F76=\"\",\"\",INDEX('All Data'!$Z:$Z,MATCH(F76,'All Data'!$O:$O,0)))","v":""},{"$f":"IF(F76=\"\",\"\",INDEX('All Data'!$AA:$AA,MATCH(F76,'All Data'!$O:$O,0)))","v":""},{"$f":"IF(F76=\"\",\"\",INDEX('All Data'!$U:$U,MATCH(F76,'All Data'!$O:$O,0)))","v":""},{"$f":"IF(F76=\"\",\"\",INDEX('All Data'!$V:$V,MATCH(F76,'All Data'!$O:$O,0)))","v":""},{"$f":"IF(F76=\"\",\"\",INDEX('All Data'!$AK:$AK,MATCH(F76,'All Data'!$O:$O,0)))","v":""},{"$f":"IF(F76=\"\",\"\",INDEX('All Data'!$I:$I,MATCH(F76,'All Data'!$O:$O,0)))","v":""},{"$f":"IF(F76=\"\",\"\",INDEX('All Data'!$K:$K,MATCH(F76,'All Data'!$O:$O,0)))","v":""},{"$f":"IF(F76=\"\",\"\",INDEX('All Data'!$AS:$AS,MATCH(F76,'All Data'!$O:$O,0)))","v":""},""]
[null,null,null,{"$f":"IF(F77=\"\",\"\",INDEX('All Data'!$F:$F,MATCH(F77,'All Data'!$O:$O,0)))","v":""},{"$f":"IF(F77<>\"\",COUNTIF($F$7:F77,\"*\")&\".\",\"\")","v":""},null,{"$f":"IF(F77=\"\",\"\",INDEX('All Data'!$N:$N,MATCH(F77,'All Data'!$O:$O,0)))","v":""},{"$f":"IF(F77=\"\",\"\",INDEX('All Data'!$Q:$Q,MATCH(F77,'All Data'!$O:$O,0)))","v":""},{"$f":"IF(F77=\"\",\"\",INDEX('All Data'!$AF:$AF,MATCH(F77,'All Data'!$O:$O,0)))","v":""},{"$f":"IF(F77=\"\",\"\",INDEX('All Data'!$AD:$AD,MATCH(F77,'All Data'!$O:$O,0)))","v":""},{"$f":"IF(F77=\"\",\"\",INDEX('All Data'!$X:$X,MATCH(F77,'All Data'!$O:$O,0)))","v":""},{"$f":"IF(F77=\"\",\"\",INDEX('All Data'!$Y:$Y,MATCH(F77,'All Data'!$O:$O,0)))","v":""},{"$f":"IF(F77=\"\",\"\",INDEX('All Data'!$Z:$Z,MATCH(F77,'All Data'!$O:$O,0)))","v":""},{"$f":"IF(F77=\"\",\"\",INDEX('All Data'!$AA:$AA,MATCH(F77,'All Data'!$O:$O,0)))","v":""},{"$f":"IF(F77=\"\",\"\",INDEX('All Data'!$U:$U,MATCH(F77,'All Data'!$O:$O,0)))","v":""},{"$f":"IF(F77=\"\",\"\",INDEX('All Data'!$V:$V,MATCH(F77,'All Data'!$O:$O,0)))","v":""},{"$f":"IF(F77=\"\",\"\",INDEX('All Data'!$AK:$AK,MATCH(F77,'All Data'!$O:$O,0)))","v":""},{"$f":"IF(F77=\"\",\"\",INDEX('All Data'!$I:$I,MATCH(F77,'All Data'!$O:$O,0)))","v":""},{"$f":"IF(F77=\"\",\"\",INDEX('All Data'!$K:$K,MATCH(F77,'All Data'!$O:$O,0)))","v":""},{"$f":"IF(F77=\"\",\"\",INDEX('All Data'!$AS:$AS,MATCH(F77,'All Data'!$O:$O,0)))","v":""},""]
[null,null,null,{"$f":"IF(F78=\"\",\"\",INDEX('All Data'!$F:$F,MATCH(F78,'All Data'!$O:$O,0)))","v":""},{"$f":"IF(F78<>\"\",COUNTIF($F$7:F78,\"*\")&\".\",\"\")","v":""},null,{"$f":"IF(F78=\"\",\"\",INDEX('All Data'!$N:$N,MATCH(F78,'All Data'!$O:$O,0)))","v":""},{"$f":"IF(F78=\"\",\"\",INDEX('All Data'!$Q:$Q,MATCH(F78,'All Data'!$O:$O,0)))","v":""},{"$f":"IF(F78=\"\",\"\",INDEX('All Data'!$AF:$AF,MATCH(F78,'All Data'!$O:$O,0)))","v":""},{"$f":"IF(F78=\"\",\"\",INDEX('All Data'!$AD:$AD,MATCH(F78,'All Data'!$O:$O,0)))","v":""},{"$f":"IF(F78=\"\",\"\",INDEX('All Data'!$X:$X,MATCH(F78,'All Data'!$O:$O,0)))","v":""},{"$f":"IF(F78=\"\",\"\",INDEX('All Data'!$Y:$Y,MATCH(F78,'All Data'!$O:$O,0)))","v":""},{"$f":"IF(F78=\"\",\"\",INDEX('All Data'!$Z:$Z,MATCH(F78,'All Data'!$O:$O,0)))","v":""},{"$f":"IF(F78=\"\",\"\",INDEX('All Data'!$AA:$AA,MATCH(F78,'All Data'!$O:$O,0)))","v":""},{"$f":"IF(F78=\"\",\"\",INDEX('All Data'!$U:$U,MATCH(F78,'All Data'!$O:$O,0)))","v":""},{"$f":"IF(F78=\"\",\"\",INDEX('All Data'!$V:$V,MATCH(F78,'All Data'!$O:$O,0)))","v":""},{"$f":"IF(F78=\"\",\"\",INDEX('All Data'!$AK:$AK,MATCH(F78,'All Data'!$O:$O,0)))","v":""},{"$f":"IF(F78=\"\",\"\",INDEX('All Data'!$I:$I,MATCH(F78,'All Data'!$O:$O,0)))","v":""},{"$f":"IF(F78=\"\",\"\",INDEX('All Data'!$K:$K,MATCH(F78,'All Data'!$O:$O,0)))","v":""},{"$f":"IF(F78=\"\",\"\",INDEX('All Data'!$AS:$AS,MATCH(F78,'All Data'!$O:$O,0)))","v":""},""]
[null,null,null,{"$f":"IF(F79=\"\",\"\",INDEX('All Data'!$F:$F,MATCH(F79,'All Data'!$O:$O,0)))","v":""},{"$f":"IF(F79<>\"\",COUNTIF($F$7:F79,\"*\")&\".\",\"\")","v":""},null,{"$f":"IF(F79=\"\",\"\",INDEX('All Data'!$N:$N,MATCH(F79,'All Data'!$O:$O,0)))","v":""},{"$f":"IF(F79=\"\",\"\",INDEX('All Data'!$Q:$Q,MATCH(F79,'All Data'!$O:$O,0)))","v":""},{"$f":"IF(F79=\"\",\"\",INDEX('All Data'!$AF:$AF,MATCH(F79,'All Data'!$O:$O,0)))","v":""},{"$f":"IF(F79=\"\",\"\",INDEX('All Data'!$AD:$AD,MATCH(F79,'All Data'!$O:$O,0)))","v":""},{"$f":"IF(F79=\"\",\"\",INDEX('All Data'!$X:$X,MATCH(F79,'All Data'!$O:$O,0)))","v":""},{"$f":"IF(F79=\"\",\"\",INDEX('All Data'!$Y:$Y,MATCH(F79,'All Data'!$O:$O,0)))","v":""},{"$f":"IF(F79=\"\",\"\",INDEX('All Data'!$Z:$Z,MATCH(F79,'All Data'!$O:$O,0)))","v":""},{"$f":"IF(F79=\"\",\"\",INDEX('All Data'!$AA:$AA,MATCH(F79,'All Data'!$O:$O,0)))","v":""},{"$f":"IF(F79=\"\",\"\",INDEX('All Data'!$U:$U,MATCH(F79,'All Data'!$O:$O,0)))","v":""},{"$f":"IF(F79=\"\",\"\",INDEX('All Data'!$V:$V,MATCH(F79,'All Data'!$O:$O,0)))","v":""},{"$f":"IF(F79=\"\",\"\",INDEX('All Data'!$AK:$AK,MATCH(F79,'All Data'!$O:$O,0)))","v":""},{"$f":"IF(F79=\"\",\"\",INDEX('All Data'!$I:$I,MATCH(F79,'All Data'!$O:$O,0)))","v":""},{"$f":"IF(F79=\"\",\"\",INDEX('All Data'!$K:$K,MATCH(F79,'All Data'!$O:$O,0)))","v":""},{"$f":"IF(F79=\"\",\"\",INDEX('All Data'!$AS:$AS,MATCH(F79,'All Data'!$O:$O,0)))","v":""},""]
[null,null,null,{"$f":"IF(F80=\"\",\"\",INDEX('All Data'!$F:$F,MATCH(F80,'All Data'!$O:$O,0)))","v":""},{"$f":"IF(F80<>\"\",COUNTIF($F$7:F80,\"*\")&\".\",\"\")","v":""},null,{"$f":"IF(F80=\"\",\"\",INDEX('All Data'!$N:$N,MATCH(F80,'All Data'!$O:$O,0)))","v":""},{"$f":"IF(F80=\"\",\"\",INDEX('All Data'!$Q:$Q,MATCH(F80,'All Data'!$O:$O,0)))","v":""},{"$f":"IF(F80=\"\",\"\",INDEX('All Data'!$AF:$AF,MATCH(F80,'All Data'!$O:$O,0)))","v":""},{"$f":"IF(F80=\"\",\"\",INDEX('All Data'!$AD:$AD,MATCH(F80,'All Data'!$O:$O,0)))","v":""},{"$f":"IF(F80=\"\",\"\",INDEX('All Data'!$X:$X,MATCH(F80,'All Data'!$O:$O,0)))","v":""},{"$f":"IF(F80=\"\",\"\",INDEX('All Data'!$Y:$Y,MATCH(F80,'All Data'!$O:$O,0)))","v":""},{"$f":"IF(F80=\"\",\"\",INDEX('All Data'!$Z:$Z,MATCH(F80,'All Data'!$O:$O,0)))","v":""},{"$f":"IF(F80=\"\",\"\",INDEX('All Data'!$AA:$AA,MATCH(F80,'All Data'!$O:$O,0)))","v":""},{"$f":"IF(F80=\"\",\"\",INDEX('All Data'!$U:$U,MATCH(F80,'All Data'!$O:$O,0)))","v":""},{"$f":"IF(F80=\"\",\"\",INDEX('All Data'!$V:$V,MATCH(F80,'All Data'!$O:$O,0)))","v":""},{"$f":"IF(F80=\"\",\"\",INDEX('All Data'!$AK:$AK,MATCH(F80,'All Data'!$O:$O,0)))","v":""},{"$f":"IF(F80=\"\",\"\",INDEX('All Data'!$I:$I,MATCH(F80,'All Data'!$O:$O,0)))","v":""},{"$f":"IF(F80=\"\",\"\",INDEX('All Data'!$K:$K,MATCH(F80,'All Data'!$O:$O,0)))","v":""},{"$f":"IF(F80=\"\",\"\",INDEX('All Data'!$AS:$AS,MATCH(F80,'All Data'!$O:$O,0)))","v":""},""]
[null,null,null,{"$f":"IF(F81=\"\",\"\",INDEX('All Data'!$F:$F,MATCH(F81,'All Data'!$O:$O,0)))","v":""},{"$f":"IF(F81<>\"\",COUNTIF($F$7:F81,\"*\")&\".\",\"\")","v":""},null,{"$f":"IF(F81=\"\",\"\",INDEX('All Data'!$N:$N,MATCH(F81,'All Data'!$O:$O,0)))","v":""},{"$f":"IF(F81=\"\",\"\",INDEX('All Data'!$Q:$Q,MATCH(F81,'All Data'!$O:$O,0)))","v":""},{"$f":"IF(F81=\"\",\"\",INDEX('All Data'!$AF:$AF,MATCH(F81,'All Data'!$O:$O,0)))","v":""},{"$f":"IF(F81=\"\",\"\",INDEX('All Data'!$AD:$AD,MATCH(F81,'All Data'!$O:$O,0)))","v":""},{"$f":"IF(F81=\"\",\"\",INDEX('All Data'!$X:$X,MATCH(F81,'All Data'!$O:$O,0)))","v":""},{"$f":"IF(F81=\"\",\"\",INDEX('All Data'!$Y:$Y,MATCH(F81,'All Data'!$O:$O,0)))","v":""},{"$f":"IF(F81=\"\",\"\",INDEX('All Data'!$Z:$Z,MATCH(F81,'All Data'!$O:$O,0)))","v":""},{"$f":"IF(F81=\"\",\"\",INDEX('All Data'!$AA:$AA,MATCH(F81,'All Data'!$O:$O,0)))","v":""},{"$f":"IF(F81=\"\",\"\",INDEX('All Data'!$U:$U,MATCH(F81,'All Data'!$O:$O,0)))","v":""},{"$f":"IF(F81=\"\",\"\",INDEX('All Data'!$V:$V,MATCH(F81,'All Data'!$O:$O,0)))","v":""},{"$f":"IF(F81=\"\",\"\",INDEX('All Data'!$AK:$AK,MATCH(F81,'All Data'!$O:$O,0)))","v":""},{"$f":"IF(F81=\"\",\"\",INDEX('All Data'!$I:$I,MATCH(F81,'All Data'!$O:$O,0)))","v":""},{"$f":"IF(F81=\"\",\"\",INDEX('All Data'!$K:$K,MATCH(F81,'All Data'!$O:$O,0)))","v":""},{"$f":"IF(F81=\"\",\"\",INDEX('All Data'!$AS:$AS,MATCH(F81,'All Data'!$O:$O,0)))","v":""},""]
[null,null,null,{"$f":"IF(F82=\"\",\"\",INDEX('All Data'!$F:$F,MATCH(F82,'All Data'!$O:$O,0)))","v":""},{"$f":"IF(F82<>\"\",COUNTIF($F$7:F82,\"*\")&\".\",\"\")","v":""},null,{"$f":"IF(F82=\"\",\"\",INDEX('All Data'!$N:$N,MATCH(F82,'All Data'!$O:$O,0)))","v":""},{"$f":"IF(F82=\"\",\"\",INDEX('All Data'!$Q:$Q,MATCH(F82,'All Data'!$O:$O,0)))","v":""},{"$f":"IF(F82=\"\",\"\",INDEX('All Data'!$AF:$AF,MATCH(F82,'All Data'!$O:$O,0)))","v":""},{"$f":"IF(F82=\"\",\"\",INDEX('All Data'!$AD:$AD,MATCH(F82,'All Data'!$O:$O,0)))","v":""},{"$f":"IF(F82=\"\",\"\",INDEX('All Data'!$X:$X,MATCH(F82,'All Data'!$O:$O,0)))","v":""},{"$f":"IF(F82=\"\",\"\",INDEX('All Data'!$Y:$Y,MATCH(F82,'All Data'!$O:$O,0)))","v":""},{"$f":"IF(F82=\"\",\"\",INDEX('All Data'!$Z:$Z,MATCH(F82,'All Data'!$O:$O,0)))","v":""},{"$f":"IF(F82=\"\",\"\",INDEX('All Data'!$AA:$AA,MATCH(F82,'All Data'!$O:$O,0)))","v":""},{"$f":"IF(F82=\"\",\"\",INDEX('All Data'!$U:$U,MATCH(F82,'All Data'!$O:$O,0)))","v":""},{"$f":"IF(F82=\"\",\"\",INDEX('All Data'!$V:$V,MATCH(F82,'All Data'!$O:$O,0)))","v":""},{"$f":"IF(F82=\"\",\"\",INDEX('All Data'!$AK:$AK,MATCH(F82,'All Data'!$O:$O,0)))","v":""},{"$f":"IF(F82=\"\",\"\",INDEX('All Data'!$I:$I,MATCH(F82,'All Data'!$O:$O,0)))","v":""},{"$f":"IF(F82=\"\",\"\",INDEX('All Data'!$K:$K,MATCH(F82,'All Data'!$O:$O,0)))","v":""},{"$f":"IF(F82=\"\",\"\",INDEX('All Data'!$AS:$AS,MATCH(F82,'All Data'!$O:$O,0)))","v":""},""]
[null,null,null,{"$f":"IF(F83=\"\",\"\",INDEX('All Data'!$F:$F,MATCH(F83,'All Data'!$O:$O,0)))","v":""},{"$f":"IF(F83<>\"\",COUNTIF($F$7:F83,\"*\")&\".\",\"\")","v":""},null,{"$f":"IF(F83=\"\",\"\",INDEX('All Data'!$N:$N,MATCH(F83,'All Data'!$O:$O,0)))","v":""},{"$f":"IF(F83=\"\",\"\",INDEX('All Data'!$Q:$Q,MATCH(F83,'All Data'!$O:$O,0)))","v":""},{"$f":"IF(F83=\"\",\"\",INDEX('All Data'!$AF:$AF,MATCH(F83,'All Data'!$O:$O,0)))","v":""},{"$f":"IF(F83=\"\",\"\",INDEX('All Data'!$AD:$AD,MATCH(F83,'All Data'!$O:$O,0)))","v":""},{"$f":"IF(F83=\"\",\"\",INDEX('All Data'!$X:$X,MATCH(F83,'All Data'!$O:$O,0)))","v":""},{"$f":"IF(F83=\"\",\"\",INDEX('All Data'!$Y:$Y,MATCH(F83,'All Data'!$O:$O,0)))","v":""},{"$f":"IF(F83=\"\",\"\",INDEX('All Data'!$Z:$Z,MATCH(F83,'All Data'!$O:$O,0)))","v":""},{"$f":"IF(F83=\"\",\"\",INDEX('All Data'!$AA:$AA,MATCH(F83,'All Data'!$O:$O,0)))","v":""},{"$f":"IF(F83=\"\",\"\",INDEX('All Data'!$U:$U,MATCH(F83,'All Data'!$O:$O,0)))","v":""},{"$f":"IF(F83=\"\",\"\",INDEX('All Data'!$V:$V,MATCH(F83,'All Data'!$O:$O,0)))","v":""},{"$f":"IF(F83=\"\",\"\",INDEX('All Data'!$AK:$AK,MATCH(F83,'All Data'!$O:$O,0)))","v":""},{"$f":"IF(F83=\"\",\"\",INDEX('All Data'!$I:$I,MATCH(F83,'All Data'!$O:$O,0)))","v":""},{"$f":"IF(F83=\"\",\"\",INDEX('All Data'!$K:$K,MATCH(F83,'All Data'!$O:$O,0)))","v":""},{"$f":"IF(F83=\"\",\"\",INDEX('All Data'!$AS:$AS,MATCH(F83,'All Data'!$O:$O,0)))","v":""},""]
[null,null,null,{"$f":"IF(F84=\"\",\"\",INDEX('All Data'!$F:$F,MATCH(F84,'All Data'!$O:$O,0)))","v":""},{"$f":"IF(F84<>\"\",COUNTIF($F$7:F84,\"*\")&\".\",\"\")","v":""},null,{"$f":"IF(F84=\"\",\"\",INDEX('All Data'!$N:$N,MATCH(F84,'All Data'!$O:$O,0)))","v":""},{"$f":"IF(F84=\"\",\"\",INDEX('All Data'!$Q:$Q,MATCH(F84,'All Data'!$O:$O,0)))","v":""},{"$f":"IF(F84=\"\",\"\",INDEX('All Data'!$AF:$AF,MATCH(F84,'All Data'!$O:$O,0)))","v":""},{"$f":"IF(F84=\"\",\"\",INDEX('All Data'!$AD:$AD,MATCH(F84,'All Data'!$O:$O,0)))","v":""},{"$f":"IF(F84=\"\",\"\",INDEX('All Data'!$X:$X,MATCH(F84,'All Data'!$O:$O,0)))","v":""},{"$f":"IF(F84=\"\",\"\",INDEX('All Data'!$Y:$Y,MATCH(F84,'All Data'!$O:$O,0)))","v":""},{"$f":"IF(F84=\"\",\"\",INDEX('All Data'!$Z:$Z,MATCH(F84,'All Data'!$O:$O,0)))","v":""},{"$f":"IF(F84=\"\",\"\",INDEX('All Data'!$AA:$AA,MATCH(F84,'All Data'!$O:$O,0)))","v":""},{"$f":"IF(F84=\"\",\"\",INDEX('All Data'!$U:$U,MATCH(F84,'All Data'!$O:$O,0)))","v":""},{"$f":"IF(F84=\"\",\"\",INDEX('All Data'!$V:$V,MATCH(F84,'All Data'!$O:$O,0)))","v":""},{"$f":"IF(F84=\"\",\"\",INDEX('All Data'!$AK:$AK,MATCH(F84,'All Data'!$O:$O,0)))","v":""},{"$f":"IF(F84=\"\",\"\",INDEX('All Data'!$I:$I,MATCH(F84,'All Data'!$O:$O,0)))","v":""},{"$f":"IF(F84=\"\",\"\",INDEX('All Data'!$K:$K,MATCH(F84,'All Data'!$O:$O,0)))","v":""},{"$f":"IF(F84=\"\",\"\",INDEX('All Data'!$AS:$AS,MATCH(F84,'All Data'!$O:$O,0)))","v":""},""]
[null,null,null,{"$f":"IF(F85=\"\",\"\",INDEX('All Data'!$F:$F,MATCH(F85,'All Data'!$O:$O,0)))","v":""},{"$f":"IF(F85<>\"\",COUNTIF($F$7:F85,\"*\")&\".\",\"\")","v":""},null,{"$f":"IF(F85=\"\",\"\",INDEX('All Data'!$N:$N,MATCH(F85,'All Data'!$O:$O,0)))","v":""},{"$f":"IF(F85=\"\",\"\",INDEX('All Data'!$Q:$Q,MATCH(F85,'All Data'!$O:$O,0)))","v":""},{"$f":"IF(F85=\"\",\"\",INDEX('All Data'!$AF:$AF,MATCH(F85,'All Data'!$O:$O,0)))","v":""},{"$f":"IF(F85=\"\",\"\",INDEX('All Data'!$AD:$AD,MATCH(F85,'All Data'!$O:$O,0)))","v":""},{"$f":"IF(F85=\"\",\"\",INDEX('All Data'!$X:$X,MATCH(F85,'All Data'!$O:$O,0)))","v":""},{"$f":"IF(F85=\"\",\"\",INDEX('All Data'!$Y:$Y,MATCH(F85,'All Data'!$O:$O,0)))","v":""},{"$f":"IF(F85=\"\",\"\",INDEX('All Data'!$Z:$Z,MATCH(F85,'All Data'!$O:$O,0)))","v":""},{"$f":"IF(F85=\"\",\"\",INDEX('All Data'!$AA:$AA,MATCH(F85,'All Data'!$O:$O,0)))","v":""},{"$f":"IF(F85=\"\",\"\",INDEX('All Data'!$U:$U,MATCH(F85,'All Data'!$O:$O,0)))","v":""},{"$f":"IF(F85=\"\",\"\",INDEX('All Data'!$V:$V,MATCH(F85,'All Data'!$O:$O,0)))","v":""},{"$f":"IF(F85=\"\",\"\",INDEX('All Data'!$AK:$AK,MATCH(F85,'All Data'!$O:$O,0)))","v":""},{"$f":"IF(F85=\"\",\"\",INDEX('All Data'!$I:$I,MATCH(F85,'All Data'!$O:$O,0)))","v":""},{"$f":"IF(F85=\"\",\"\",INDEX('All Data'!$K:$K,MATCH(F85,'All Data'!$O:$O,0)))","v":""},{"$f":"IF(F85=\"\",\"\",INDEX('All Data'!$AS:$AS,MATCH(F85,'All Data'!$O:$O,0)))","v":""},""]
[null,null,null,{"$f":"IF(F86=\"\",\"\",INDEX('All Data'!$F:$F,MATCH(F86,'All Data'!$O:$O,0)))","v":""},{"$f":"IF(F86<>\"\",COUNTIF($F$7:F86,\"*\")&\".\",\"\")","v":""},null,{"$f":"IF(F86=\"\",\"\",INDEX('All Data'!$N:$N,MATCH(F86,'All Data'!$O:$O,0)))","v":""},{"$f":"IF(F86=\"\",\"\",INDEX('All Data'!$Q:$Q,MATCH(F86,'All Data'!$O:$O,0)))","v":""},{"$f":"IF(F86=\"\",\"\",INDEX('All Data'!$AF:$AF,MATCH(F86,'All Data'!$O:$O,0)))","v":""},{"$f":"IF(F86=\"\",\"\",INDEX('All Data'!$AD:$AD,MATCH(F86,'All Data'!$O:$O,0)))","v":""},{"$f":"IF(F86=\"\",\"\",INDEX('All Data'!$X:$X,MATCH(F86,'All Data'!$O:$O,0)))","v":""},{"$f":"IF(F86=\"\",\"\",INDEX('All Data'!$Y:$Y,MATCH(F86,'All Data'!$O:$O,0)))","v":""},{"$f":"IF(F86=\"\",\"\",INDEX('All Data'!$Z:$Z,MATCH(F86,'All Data'!$O:$O,0)))","v":""},{"$f":"IF(F86=\"\",\"\",INDEX('All Data'!$AA:$AA,MATCH(F86,'All Data'!$O:$O,0)))","v":""},{"$f":"IF(F86=\"\",\"\",INDEX('All Data'!$U:$U,MATCH(F86,'All Data'!$O:$O,0)))","v":""},{"$f":"IF(F86=\"\",\"\",INDEX('All Data'!$V:$V,MATCH(F86,'All Data'!$O:$O,0)))","v":""},{"$f":"IF(F86=\"\",\"\",INDEX('All Data'!$AK:$AK,MATCH(F86,'All Data'!$O:$O,0)))","v":""},{"$f":"IF(F86=\"\",\"\",INDEX('All Data'!$I:$I,MATCH(F86,'All Data'!$O:$O,0)))","v":""},{"$f":"IF(F86=\"\",\"\",INDEX('All Data'!$K:$K,MATCH(F86,'All Data'!$O:$O,0)))","v":""},{"$f":"IF(F86=\"\",\"\",INDEX('All Data'!$AS:$AS,MATCH(F86,'All Data'!$O:$O,0)))","v":""},""]
[null,null,null,{"$f":"IF(F87=\"\",\"\",INDEX('All Data'!$F:$F,MATCH(F87,'All Data'!$O:$O,0)))","v":""},{"$f":"IF(F87<>\"\",COUNTIF($F$7:F87,\"*\")&\".\",\"\")","v":""},null,{"$f":"IF(F87=\"\",\"\",INDEX('All Data'!$N:$N,MATCH(F87,'All Data'!$O:$O,0)))","v":""},{"$f":"IF(F87=\"\",\"\",INDEX('All Data'!$Q:$Q,MATCH(F87,'All Data'!$O:$O,0)))","v":""},{"$f":"IF(F87=\"\",\"\",INDEX('All Data'!$AF:$AF,MATCH(F87,'All Data'!$O:$O,0)))","v":""},{"$f":"IF(F87=\"\",\"\",INDEX('All Data'!$AD:$AD,MATCH(F87,'All Data'!$O:$O,0)))","v":""},{"$f":"IF(F87=\"\",\"\",INDEX('All Data'!$X:$X,MATCH(F87,'All Data'!$O:$O,0)))","v":""},{"$f":"IF(F87=\"\",\"\",INDEX('All Data'!$Y:$Y,MATCH(F87,'All Data'!$O:$O,0)))","v":""},{"$f":"IF(F87=\"\",\"\",INDEX('All Data'!$Z:$Z,MATCH(F87,'All Data'!$O:$O,0)))","v":""},{"$f":"IF(F87=\"\",\"\",INDEX('All Data'!$AA:$AA,MATCH(F87,'All Data'!$O:$O,0)))","v":""},{"$f":"IF(F87=\"\",\"\",INDEX('All Data'!$U:$U,MATCH(F87,'All Data'!$O:$O,0)))","v":""},{"$f":"IF(F87=\"\",\"\",INDEX('All Data'!$V:$V,MATCH(F87,'All Data'!$O:$O,0)))","v":""},{"$f":"IF(F87=\"\",\"\",INDEX('All Data'!$AK:$AK,MATCH(F87,'All Data'!$O:$O,0)))","v":""},{"$f":"IF(F87=\"\",\"\",INDEX('All Data'!$I:$I,MATCH(F87,'All Data'!$O:$O,0)))","v":""},{"$f":"IF(F87=\"\",\"\",INDEX('All Data'!$K:$K,MATCH(F87,'All Data'!$O:$O,0)))","v":""},{"$f":"IF(F87=\"\",\"\",INDEX('All Data'!$AS:$AS,MATCH(F87,'All Data'!$O:$O,0)))","v":""},""]
[null,null,null,{"$f":"IF(F88=\"\",\"\",INDEX('All Data'!$F:$F,MATCH(F88,'All Data'!$O:$O,0)))","v":""},{"$f":"IF(F88<>\"\",COUNTIF($F$7:F88,\"*\")&\".\",\"\")","v":""},null,{"$f":"IF(F88=\"\",\"\",INDEX('All Data'!$N:$N,MATCH(F88,'All Data'!$O:$O,0)))","v":""},{"$f":"IF(F88=\"\",\"\",INDEX('All Data'!$Q:$Q,MATCH(F88,'All Data'!$O:$O,0)))","v":""},{"$f":"IF(F88=\"\",\"\",INDEX('All Data'!$AF:$AF,MATCH(F88,'All Data'!$O:$O,0)))","v":""},{"$f":"IF(F88=\"\",\"\",INDEX('All Data'!$AD:$AD,MATCH(F88,'All Data'!$O:$O,0)))","v":""},{"$f":"IF(F88=\"\",\"\",INDEX('All Data'!$X:$X,MATCH(F88,'All Data'!$O:$O,0)))","v":""},{"$f":"IF(F88=\"\",\"\",INDEX('All Data'!$Y:$Y,MATCH(F88,'All Data'!$O:$O,0)))","v":""},{"$f":"IF(F88=\"\",\"\",INDEX('All Data'!$Z:$Z,MATCH(F88,'All Data'!$O:$O,0)))","v":""},{"$f":"IF(F88=\"\",\"\",INDEX('All Data'!$AA:$AA,MATCH(F88,'All Data'!$O:$O,0)))","v":""},{"$f":"IF(F88=\"\",\"\",INDEX('All Data'!$U:$U,MATCH(F88,'All Data'!$O:$O,0)))","v":""},{"$f":"IF(F88=\"\",\"\",INDEX('All Data'!$V:$V,MATCH(F88,'All Data'!$O:$O,0)))","v":""},{"$f":"IF(F88=\"\",\"\",INDEX('All Data'!$AK:$AK,MATCH(F88,'All Data'!$O:$O,0)))","v":""},{"$f":"IF(F88=\"\",\"\",INDEX('All Data'!$I:$I,MATCH(F88,'All Data'!$O:$O,0)))","v":""},{"$f":"IF(F88=\"\",\"\",INDEX('All Data'!$K:$K,MATCH(F88,'All Data'!$O:$O,0)))","v":""},{"$f":"IF(F88=\"\",\"\",INDEX('All Data'!$AS:$AS,MATCH(F88,'All Data'!$O:$O,0)))","v":""},""]
[null,null,null,{"$f":"IF(F89=\"\",\"\",INDEX('All Data'!$F:$F,MATCH(F89,'All Data'!$O:$O,0)))","v":""},{"$f":"IF(F89<>\"\",COUNTIF($F$7:F89,\"*\")&\".\",\"\")","v":""},null,{"$f":"IF(F89=\"\",\"\",INDEX('All Data'!$N:$N,MATCH(F89,'All Data'!$O:$O,0)))","v":""},{"$f":"IF(F89=\"\",\"\",INDEX('All Data'!$Q:$Q,MATCH(F89,'All Data'!$O:$O,0)))","v":""},{"$f":"IF(F89=\"\",\"\",INDEX('All Data'!$AF:$AF,MATCH(F89,'All Data'!$O:$O,0)))","v":""},{"$f":"IF(F89=\"\",\"\",INDEX('All Data'!$AD:$AD,MATCH(F89,'All Data'!$O:$O,0)))","v":""},{"$f":"IF(F89=\"\",\"\",INDEX('All Data'!$X:$X,MATCH(F89,'All Data'!$O:$O,0)))","v":""},{"$f":"IF(F89=\"\",\"\",INDEX('All Data'!$Y:$Y,MATCH(F89,'All Data'!$O:$O,0)))","v":""},{"$f":"IF(F89=\"\",\"\",INDEX('All Data'!$Z:$Z,MATCH(F89,'All Data'!$O:$O,0)))","v":""},{"$f":"IF(F89=\"\",\"\",INDEX('All Data'!$AA:$AA,MATCH(F89,'All Data'!$O:$O,0)))","v":""},{"$f":"IF(F89=\"\",\"\",INDEX('All Data'!$U:$U,MATCH(F89,'All Data'!$O:$O,0)))","v":""},{"$f":"IF(F89=\"\",\"\",INDEX('All Data'!$V:$V,MATCH(F89,'All Data'!$O:$O,0)))","v":""},{"$f":"IF(F89=\"\",\"\",INDEX('All Data'!$AK:$AK,MATCH(F89,'All Data'!$O:$O,0)))","v":""},{"$f":"IF(F89=\"\",\"\",INDEX('All Data'!$I:$I,MATCH(F89,'All Data'!$O:$O,0)))","v":""},{"$f":"IF(F89=\"\",\"\",INDEX('All Data'!$K:$K,MATCH(F89,'All Data'!$O:$O,0)))","v":""},{"$f":"IF(F89=\"\",\"\",INDEX('All Data'!$AS:$AS,MATCH(F89,'All Data'!$O:$O,0)))","v":""},""]
[null,null,null,{"$f":"IF(F90=\"\",\"\",INDEX('All Data'!$F:$F,MATCH(F90,'All Data'!$O:$O,0)))","v":""},{"$f":"IF(F90<>\"\",COUNTIF($F$7:F90,\"*\")&\".\",\"\")","v":""},null,{"$f":"IF(F90=\"\",\"\",INDEX('All Data'!$N:$N,MATCH(F90,'All Data'!$O:$O,0)))","v":""},{"$f":"IF(F90=\"\",\"\",INDEX('All Data'!$Q:$Q,MATCH(F90,'All Data'!$O:$O,0)))","v":""},{"$f":"IF(F90=\"\",\"\",INDEX('All Data'!$AF:$AF,MATCH(F90,'All Data'!$O:$O,0)))","v":""},{"$f":"IF(F90=\"\",\"\",INDEX('All Data'!$AD:$AD,MATCH(F90,'All Data'!$O:$O,0)))","v":""},{"$f":"IF(F90=\"\",\"\",INDEX('All Data'!$X:$X,MATCH(F90,'All Data'!$O:$O,0)))","v":""},{"$f":"IF(F90=\"\",\"\",INDEX('All Data'!$Y:$Y,MATCH(F90,'All Data'!$O:$O,0)))","v":""},{"$f":"IF(F90=\"\",\"\",INDEX('All Data'!$Z:$Z,MATCH(F90,'All Data'!$O:$O,0)))","v":""},{"$f":"IF(F90=\"\",\"\",INDEX('All Data'!$AA:$AA,MATCH(F90,'All Data'!$O:$O,0)))","v":""},{"$f":"IF(F90=\"\",\"\",INDEX('All Data'!$U:$U,MATCH(F90,'All Data'!$O:$O,0)))","v":""},{"$f":"IF(F90=\"\",\"\",INDEX('All Data'!$V:$V,MATCH(F90,'All Data'!$O:$O,0)))","v":""},{"$f":"IF(F90=\"\",\"\",INDEX('All Data'!$AK:$AK,MATCH(F90,'All Data'!$O:$O,0)))","v":""},{"$f":"IF(F90=\"\",\"\",INDEX('All Data'!$I:$I,MATCH(F90,'All Data'!$O:$O,0)))","v":""},{"$f":"IF(F90=\"\",\"\",INDEX('All Data'!$K:$K,MATCH(F90,'All Data'!$O:$O,0)))","v":""},{"$f":"IF(F90=\"\",\"\",INDEX('All Data'!$AS:$AS,MATCH(F90,'All Data'!$O:$O,0)))","v":""},""]
[null,null,null,{"$f":"IF(F91=\"\",\"\",INDEX('All Data'!$F:$F,MATCH(F91,'All Data'!$O:$O,0)))","v":""},{"$f":"IF(F91<>\"\",COUNTIF($F$7:F91,\"*\")&\".\",\"\")","v":""},null,{"$f":"IF(F91=\"\",\"\",INDEX('All Data'!$N:$N,MATCH(F91,'All Data'!$O:$O,0)))","v":""},{"$f":"IF(F91=\"\",\"\",INDEX('All Data'!$Q:$Q,MATCH(F91,'All Data'!$O:$O,0)))","v":""},{"$f":"IF(F91=\"\",\"\",INDEX('All Data'!$AF:$AF,MATCH(F91,'All Data'!$O:$O,0)))","v":""},{"$f":"IF(F91=\"\",\"\",INDEX('All Data'!$AD:$AD,MATCH(F91,'All Data'!$O:$O,0)))","v":""},{"$f":"IF(F91=\"\",\"\",INDEX('All Data'!$X:$X,MATCH(F91,'All Data'!$O:$O,0)))","v":""},{"$f":"IF(F91=\"\",\"\",INDEX('All Data'!$Y:$Y,MATCH(F91,'All Data'!$O:$O,0)))","v":""},{"$f":"IF(F91=\"\",\"\",INDEX('All Data'!$Z:$Z,MATCH(F91,'All Data'!$O:$O,0)))","v":""},{"$f":"IF(F91=\"\",\"\",INDEX('All Data'!$AA:$AA,MATCH(F91,'All Data'!$O:$O,0)))","v":""},{"$f":"IF(F91=\"\",\"\",INDEX('All Data'!$U:$U,MATCH(F91,'All Data'!$O:$O,0)))","v":""},{"$f":"IF(F91=\"\",\"\",INDEX('All Data'!$V:$V,MATCH(F91,'All Data'!$O:$O,0)))","v":""},{"$f":"IF(F91=\"\",\"\",INDEX('All Data'!$AK:$AK,MATCH(F91,'All Data'!$O:$O,0)))","v":""},{"$f":"IF(F91=\"\",\"\",INDEX('All Data'!$I:$I,MATCH(F91,'All Data'!$O:$O,0)))","v":""},{"$f":"IF(F91=\"\",\"\",INDEX('All Data'!$K:$K,MATCH(F91,'All Data'!$O:$O,0)))","v":""},{"$f":"IF(F91=\"\",\"\",INDEX('All Data'!$AS:$AS,MATCH(F91,'All Data'!$O:$O,0)))","v":""},""]
[null,null,null,{"$f":"IF(F92=\"\",\"\",INDEX('All Data'!$F:$F,MATCH(F92,'All Data'!$O:$O,0)))","v":""},{"$f":"IF(F92<>\"\",COUNTIF($F$7:F92,\"*\")&\".\",\"\")","v":""},null,{"$f":"IF(F92=\"\",\"\",INDEX('All Data'!$N:$N,MATCH(F92,'All Data'!$O:$O,0)))","v":""},{"$f":"IF(F92=\"\",\"\",INDEX('All Data'!$Q:$Q,MATCH(F92,'All Data'!$O:$O,0)))","v":""},{"$f":"IF(F92=\"\",\"\",INDEX('All Data'!$AF:$AF,MATCH(F92,'All Data'!$O:$O,0)))","v":""},{"$f":"IF(F92=\"\",\"\",INDEX('All Data'!$AD:$AD,MATCH(F92,'All Data'!$O:$O,0)))","v":""},{"$f":"IF(F92=\"\",\"\",INDEX('All Data'!$X:$X,MATCH(F92,'All Data'!$O:$O,0)))","v":""},{"$f":"IF(F92=\"\",\"\",INDEX('All Data'!$Y:$Y,MATCH(F92,'All Data'!$O:$O,0)))","v":""},{"$f":"IF(F92=\"\",\"\",INDEX('All Data'!$Z:$Z,MATCH(F92,'All Data'!$O:$O,0)))","v":""},{"$f":"IF(F92=\"\",\"\",INDEX('All Data'!$AA:$AA,MATCH(F92,'All Data'!$O:$O,0)))","v":""},{"$f":"IF(F92=\"\",\"\",INDEX('All Data'!$U:$U,MATCH(F92,'All Data'!$O:$O,0)))","v":""},{"$f":"IF(F92=\"\",\"\",INDEX('All Data'!$V:$V,MATCH(F92,'All Data'!$O:$O,0)))","v":""},{"$f":"IF(F92=\"\",\"\",INDEX('All Data'!$AK:$AK,MATCH(F92,'All Data'!$O:$O,0)))","v":""},{"$f":"IF(F92=\"\",\"\",INDEX('All Data'!$I:$I,MATCH(F92,'All Data'!$O:$O,0)))","v":""},{"$f":"IF(F92=\"\",\"\",INDEX('All Data'!$K:$K,MATCH(F92,'All Data'!$O:$O,0)))","v":""},{"$f":"IF(F92=\"\",\"\",INDEX('All Data'!$AS:$AS,MATCH(F92,'All Data'!$O:$O,0)))","v":""},""]
[null,null,null,{"$f":"IF(F93=\"\",\"\",INDEX('All Data'!$F:$F,MATCH(F93,'All Data'!$O:$O,0)))","v":""},{"$f":"IF(F93<>\"\",COUNTIF($F$7:F93,\"*\")&\".\",\"\")","v":""},null,{"$f":"IF(F93=\"\",\"\",INDEX('All Data'!$N:$N,MATCH(F93,'All Data'!$O:$O,0)))","v":""},{"$f":"IF(F93=\"\",\"\",INDEX('All Data'!$Q:$Q,MATCH(F93,'All Data'!$O:$O,0)))","v":""},{"$f":"IF(F93=\"\",\"\",INDEX('All Data'!$AF:$AF,MATCH(F93,'All Data'!$O:$O,0)))","v":""},{"$f":"IF(F93=\"\",\"\",INDEX('All Data'!$AD:$AD,MATCH(F93,'All Data'!$O:$O,0)))","v":""},{"$f":"IF(F93=\"\",\"\",INDEX('All Data'!$X:$X,MATCH(F93,'All Data'!$O:$O,0)))","v":""},{"$f":"IF(F93=\"\",\"\",INDEX('All Data'!$Y:$Y,MATCH(F93,'All Data'!$O:$O,0)))","v":""},{"$f":"IF(F93=\"\",\"\",INDEX('All Data'!$Z:$Z,MATCH(F93,'All Data'!$O:$O,0)))","v":""},{"$f":"IF(F93=\"\",\"\",INDEX('All Data'!$AA:$AA,MATCH(F93,'All Data'!$O:$O,0)))","v":""},{"$f":"IF(F93=\"\",\"\",INDEX('All Data'!$U:$U,MATCH(F93,'All Data'!$O:$O,0)))","v":""},{"$f":"IF(F93=\"\",\"\",INDEX('All Data'!$V:$V,MATCH(F93,'All Data'!$O:$O,0)))","v":""},{"$f":"IF(F93=\"\",\"\",INDEX('All Data'!$AK:$AK,MATCH(F93,'All Data'!$O:$O,0)))","v":""},{"$f":"IF(F93=\"\",\"\",INDEX('All Data'!$I:$I,MATCH(F93,'All Data'!$O:$O,0)))","v":""},{"$f":"IF(F93=\"\",\"\",INDEX('All Data'!$K:$K,MATCH(F93,'All Data'!$O:$O,0)))","v":""},{"$f":"IF(F93=\"\",\"\",INDEX('All Data'!$AS:$AS,MATCH(F93,'All Data'!$O:$O,0)))","v":""},""]
[null,null,null,{"$f":"IF(F94=\"\",\"\",INDEX('All Data'!$F:$F,MATCH(F94,'All Data'!$O:$O,0)))","v":""},{"$f":"IF(F94<>\"\",COUNTIF($F$7:F94,\"*\")&\".\",\"\")","v":""},null,{"$f":"IF(F94=\"\",\"\",INDEX('All Data'!$N:$N,MATCH(F94,'All Data'!$O:$O,0)))","v":""},{"$f":"IF(F94=\"\",\"\",INDEX('All Data'!$Q:$Q,MATCH(F94,'All Data'!$O:$O,0)))","v":""},{"$f":"IF(F94=\"\",\"\",INDEX('All Data'!$AF:$AF,MATCH(F94,'All Data'!$O:$O,0)))","v":""},{"$f":"IF(F94=\"\",\"\",INDEX('All Data'!$AD:$AD,MATCH(F94,'All Data'!$O:$O,0)))","v":""},{"$f":"IF(F94=\"\",\"\",INDEX('All Data'!$X:$X,MATCH(F94,'All Data'!$O:$O,0)))","v":""},{"$f":"IF(F94=\"\",\"\",INDEX('All Data'!$Y:$Y,MATCH(F94,'All Data'!$O:$O,0)))","v":""},{"$f":"IF(F94=\"\",\"\",INDEX('All Data'!$Z:$Z,MATCH(F94,'All Data'!$O:$O,0)))","v":""},{"$f":"IF(F94=\"\",\"\",INDEX('All Data'!$AA:$AA,MATCH(F94,'All Data'!$O:$O,0)))","v":""},{"$f":"IF(F94=\"\",\"\",INDEX('All Data'!$U:$U,MATCH(F94,'All Data'!$O:$O,0)))","v":""},{"$f":"IF(F94=\"\",\"\",INDEX('All Data'!$V:$V,MATCH(F94,'All Data'!$O:$O,0)))","v":""},{"$f":"IF(F94=\"\",\"\",INDEX('All Data'!$AK:$AK,MATCH(F94,'All Data'!$O:$O,0)))","v":""},{"$f":"IF(F94=\"\",\"\",INDEX('All Data'!$I:$I,MATCH(F94,'All Data'!$O:$O,0)))","v":""},{"$f":"IF(F94=\"\",\"\",INDEX('All Data'!$K:$K,MATCH(F94,'All Data'!$O:$O,0)))","v":""},{"$f":"IF(F94=\"\",\"\",INDEX('All Data'!$AS:$AS,MATCH(F94,'All Data'!$O:$O,0)))","v":""},""]
[null,null,null,{"$f":"IF(F95=\"\",\"\",INDEX('All Data'!$F:$F,MATCH(F95,'All Data'!$O:$O,0)))","v":""},{"$f":"IF(F95<>\"\",COUNTIF($F$7:F95,\"*\")&\".\",\"\")","v":""},null,{"$f":"IF(F95=\"\",\"\",INDEX('All Data'!$N:$N,MATCH(F95,'All Data'!$O:$O,0)))","v":""},{"$f":"IF(F95=\"\",\"\",INDEX('All Data'!$Q:$Q,MATCH(F95,'All Data'!$O:$O,0)))","v":""},{"$f":"IF(F95=\"\",\"\",INDEX('All Data'!$AF:$AF,MATCH(F95,'All Data'!$O:$O,0)))","v":""},{"$f":"IF(F95=\"\",\"\",INDEX('All Data'!$AD:$AD,MATCH(F95,'All Data'!$O:$O,0)))","v":""},{"$f":"IF(F95=\"\",\"\",INDEX('All Data'!$X:$X,MATCH(F95,'All Data'!$O:$O,0)))","v":""},{"$f":"IF(F95=\"\",\"\",INDEX('All Data'!$Y:$Y,MATCH(F95,'All Data'!$O:$O,0)))","v":""},{"$f":"IF(F95=\"\",\"\",INDEX('All Data'!$Z:$Z,MATCH(F95,'All Data'!$O:$O,0)))","v":""},{"$f":"IF(F95=\"\",\"\",INDEX('All Data'!$AA:$AA,MATCH(F95,'All Data'!$O:$O,0)))","v":""},{"$f":"IF(F95=\"\",\"\",INDEX('All Data'!$U:$U,MATCH(F95,'All Data'!$O:$O,0)))","v":""},{"$f":"IF(F95=\"\",\"\",INDEX('All Data'!$V:$V,MATCH(F95,'All Data'!$O:$O,0)))","v":""},{"$f":"IF(F95=\"\",\"\",INDEX('All Data'!$AK:$AK,MATCH(F95,'All Data'!$O:$O,0)))","v":""},{"$f":"IF(F95=\"\",\"\",INDEX('All Data'!$I:$I,MATCH(F95,'All Data'!$O:$O,0)))","v":""},{"$f":"IF(F95=\"\",\"\",INDEX('All Data'!$K:$K,MATCH(F95,'All Data'!$O:$O,0)))","v":""},{"$f":"IF(F95=\"\",\"\",INDEX('All Data'!$AS:$AS,MATCH(F95,'All Data'!$O:$O,0)))","v":""},""]
[null,null,null,{"$f":"IF(F96=\"\",\"\",INDEX('All Data'!$F:$F,MATCH(F96,'All Data'!$O:$O,0)))","v":""},{"$f":"IF(F96<>\"\",COUNTIF($F$7:F96,\"*\")&\".\",\"\")","v":""},null,{"$f":"IF(F96=\"\",\"\",INDEX('All Data'!$N:$N,MATCH(F96,'All Data'!$O:$O,0)))","v":""},{"$f":"IF(F96=\"\",\"\",INDEX('All Data'!$Q:$Q,MATCH(F96,'All Data'!$O:$O,0)))","v":""},{"$f":"IF(F96=\"\",\"\",INDEX('All Data'!$AF:$AF,MATCH(F96,'All Data'!$O:$O,0)))","v":""},{"$f":"IF(F96=\"\",\"\",INDEX('All Data'!$AD:$AD,MATCH(F96,'All Data'!$O:$O,0)))","v":""},{"$f":"IF(F96=\"\",\"\",INDEX('All Data'!$X:$X,MATCH(F96,'All Data'!$O:$O,0)))","v":""},{"$f":"IF(F96=\"\",\"\",INDEX('All Data'!$Y:$Y,MATCH(F96,'All Data'!$O:$O,0)))","v":""},{"$f":"IF(F96=\"\",\"\",INDEX('All Data'!$Z:$Z,MATCH(F96,'All Data'!$O:$O,0)))","v":""},{"$f":"IF(F96=\"\",\"\",INDEX('All Data'!$AA:$AA,MATCH(F96,'All Data'!$O:$O,0)))","v":""},{"$f":"IF(F96=\"\",\"\",INDEX('All Data'!$U:$U,MATCH(F96,'All Data'!$O:$O,0)))","v":""},{"$f":"IF(F96=\"\",\"\",INDEX('All Data'!$V:$V,MATCH(F96,'All Data'!$O:$O,0)))","v":""},{"$f":"IF(F96=\"\",\"\",INDEX('All Data'!$AK:$AK,MATCH(F96,'All Data'!$O:$O,0)))","v":""},{"$f":"IF(F96=\"\",\"\",INDEX('All Data'!$I:$I,MATCH(F96,'All Data'!$O:$O,0)))","v":""},{"$f":"IF(F96=\"\",\"\",INDEX('All Data'!$K:$K,MATCH(F96,'All Data'!$O:$O,0)))","v":""},{"$f":"IF(F96=\"\",\"\",INDEX('All Data'!$AS:$AS,MATCH(F96,'All Data'!$O:$O,0)))","v":""},""]
[null,null,null,{"$f":"IF(F97=\"\",\"\",INDEX('All Data'!$F:$F,MATCH(F97,'All Data'!$O:$O,0)))","v":""},{"$f":"IF(F97<>\"\",COUNTIF($F$7:F97,\"*\")&\".\",\"\")","v":""},null,{"$f":"IF(F97=\"\",\"\",INDEX('All Data'!$N:$N,MATCH(F97,'All Data'!$O:$O,0)))","v":""},{"$f":"IF(F97=\"\",\"\",INDEX('All Data'!$Q:$Q,MATCH(F97,'All Data'!$O:$O,0)))","v":""},{"$f":"IF(F97=\"\",\"\",INDEX('All Data'!$AF:$AF,MATCH(F97,'All Data'!$O:$O,0)))","v":""},{"$f":"IF(F97=\"\",\"\",INDEX('All Data'!$AD:$AD,MATCH(F97,'All Data'!$O:$O,0)))","v":""},{"$f":"IF(F97=\"\",\"\",INDEX('All Data'!$X:$X,MATCH(F97,'All Data'!$O:$O,0)))","v":""},{"$f":"IF(F97=\"\",\"\",INDEX('All Data'!$Y:$Y,MATCH(F97,'All Data'!$O:$O,0)))","v":""},{"$f":"IF(F97=\"\",\"\",INDEX('All Data'!$Z:$Z,MATCH(F97,'All Data'!$O:$O,0)))","v":""},{"$f":"IF(F97=\"\",\"\",INDEX('All Data'!$AA:$AA,MATCH(F97,'All Data'!$O:$O,0)))","v":""},{"$f":"IF(F97=\"\",\"\",INDEX('All Data'!$U:$U,MATCH(F97,'All Data'!$O:$O,0)))","v":""},{"$f":"IF(F97=\"\",\"\",INDEX('All Data'!$V:$V,MATCH(F97,'All Data'!$O:$O,0)))","v":""},{"$f":"IF(F97=\"\",\"\",INDEX('All Data'!$AK:$AK,MATCH(F97,'All Data'!$O:$O,0)))","v":""},{"$f":"IF(F97=\"\",\"\",INDEX('All Data'!$I:$I,MATCH(F97,'All Data'!$O:$O,0)))","v":""},{"$f":"IF(F97=\"\",\"\",INDEX('All Data'!$K:$K,MATCH(F97,'All Data'!$O:$O,0)))","v":""},{"$f":"IF(F97=\"\",\"\",INDEX('All Data'!$AS:$AS,MATCH(F97,'All Data'!$O:$O,0)))","v":""},""]
[null,null,null,{"$f":"IF(F98=\"\",\"\",INDEX('All Data'!$F:$F,MATCH(F98,'All Data'!$O:$O,0)))","v":""},{"$f":"IF(F98<>\"\",COUNTIF($F$7:F98,\"*\")&\".\",\"\")","v":""},null,{"$f":"IF(F98=\"\",\"\",INDEX('All Data'!$N:$N,MATCH(F98,'All Data'!$O:$O,0)))","v":""},{"$f":"IF(F98=\"\",\"\",INDEX('All Data'!$Q:$Q,MATCH(F98,'All Data'!$O:$O,0)))","v":""},{"$f":"IF(F98=\"\",\"\",INDEX('All Data'!$AF:$AF,MATCH(F98,'All Data'!$O:$O,0)))","v":""},{"$f":"IF(F98=\"\",\"\",INDEX('All Data'!$AD:$AD,MATCH(F98,'All Data'!$O:$O,0)))","v":""},{"$f":"IF(F98=\"\",\"\",INDEX('All Data'!$X:$X,MATCH(F98,'All Data'!$O:$O,0)))","v":""},{"$f":"IF(F98=\"\",\"\",INDEX('All Data'!$Y:$Y,MATCH(F98,'All Data'!$O:$O,0)))","v":""},{"$f":"IF(F98=\"\",\"\",INDEX('All Data'!$Z:$Z,MATCH(F98,'All Data'!$O:$O,0)))","v":""},{"$f":"IF(F98=\"\",\"\",INDEX('All Data'!$AA:$AA,MATCH(F98,'All Data'!$O:$O,0)))","v":""},{"$f":"IF(F98=\"\",\"\",INDEX('All Data'!$U:$U,MATCH(F98,'All Data'!$O:$O,0)))","v":""},{"$f":"IF(F98=\"\",\"\",INDEX('All Data'!$V:$V,MATCH(F98,'All Data'!$O:$O,0)))","v":""},{"$f":"IF(F98=\"\",\"\",INDEX('All Data'!$AK:$AK,MATCH(F98,'All Data'!$O:$O,0)))","v":""},{"$f":"IF(F98=\"\",\"\",INDEX('All Data'!$I:$I,MATCH(F98,'All Data'!$O:$O,0)))","v":""},{"$f":"IF(F98=\"\",\"\",INDEX('All Data'!$K:$K,MATCH(F98,'All Data'!$O:$O,0)))","v":""},{"$f":"IF(F98=\"\",\"\",INDEX('All Data'!$AS:$AS,MATCH(F98,'All Data'!$O:$O,0)))","v":""},""]
[null,null,null,{"$f":"IF(F99=\"\",\"\",INDEX('All Data'!$F:$F,MATCH(F99,'All Data'!$O:$O,0)))","v":""},{"$f":"IF(F99<>\"\",COUNTIF($F$7:F99,\"*\")&\".\",\"\")","v":""},null,{"$f":"IF(F99=\"\",\"\",INDEX('All Data'!$N:$N,MATCH(F99,'All Data'!$O:$O,0)))","v":""},{"$f":"IF(F99=\"\",\"\",INDEX('All Data'!$Q:$Q,MATCH(F99,'All Data'!$O:$O,0)))","v":""},{"$f":"IF(F99=\"\",\"\",INDEX('All Data'!$AF:$AF,MATCH(F99,'All Data'!$O:$O,0)))","v":""},{"$f":"IF(F99=\"\",\"\",INDEX('All Data'!$AD:$AD,MATCH(F99,'All Data'!$O:$O,0)))","v":""},{"$f":"IF(F99=\"\",\"\",INDEX('All Data'!$X:$X,MATCH(F99,'All Data'!$O:$O,0)))","v":""},{"$f":"IF(F99=\"\",\"\",INDEX('All Data'!$Y:$Y,MATCH(F99,'All Data'!$O:$O,0)))","v":""},{"$f":"IF(F99=\"\",\"\",INDEX('All Data'!$Z:$Z,MATCH(F99,'All Data'!$O:$O,0)))","v":""},{"$f":"IF(F99=\"\",\"\",INDEX('All Data'!$AA:$AA,MATCH(F99,'All Data'!$O:$O,0)))","v":""},{"$f":"IF(F99=\"\",\"\",INDEX('All Data'!$U:$U,MATCH(F99,'All Data'!$O:$O,0)))","v":""},{"$f":"IF(F99=\"\",\"\",INDEX('All Data'!$V:$V,MATCH(F99,'All Data'!$O:$O,0)))","v":""},{"$f":"IF(F99=\"\",\"\",INDEX('All Data'!$AK:$AK,MATCH(F99,'All Data'!$O:$O,0)))","v":""},{"$f":"IF(F99=\"\",\"\",INDEX('All Data'!$I:$I,MATCH(F99,'All Data'!$O:$O,0)))","v":""},{"$f":"IF(F99=\"\",\"\",INDEX('All Data'!$K:$K,MATCH(F99,'All Data'!$O:$O,0)))","v":""},{"$f":"IF(F99=\"\",\"\",INDEX('All Data'!$AS:$AS,MATCH(F99,'All Data'!$O:$O,0)))","v":""},""]
[null,null,null,{"$f":"IF(F100=\"\",\"\",INDEX('All Data'!$F:$F,MATCH(F100,'All Data'!$O:$O,0)))","v":""},{"$f":"IF(F100<>\"\",COUNTIF($F$7:F100,\"*\")&\".\",\"\")","v":""},null,{"$f":"IF(F100=\"\",\"\",INDEX('All Data'!$N:$N,MATCH(F100,'All Data'!$O:$O,0)))","v":""},{"$f":"IF(F100=\"\",\"\",INDEX('All Data'!$Q:$Q,MATCH(F100,'All Data'!$O:$O,0)))","v":""},{"$f":"IF(F100=\"\",\"\",INDEX('All Data'!$AF:$AF,MATCH(F100,'All Data'!$O:$O,0)))","v":""},{"$f":"IF(F100=\"\",\"\",INDEX('All Data'!$AD:$AD,MATCH(F100,'All Data'!$O:$O,0)))","v":""},{"$f":"IF(F100=\"\",\"\",INDEX('All Data'!$X:$X,MATCH(F100,'All Data'!$O:$O,0)))","v":""},{"$f":"IF(F100=\"\",\"\",INDEX('All Data'!$Y:$Y,MATCH(F100,'All Data'!$O:$O,0)))","v":""},{"$f":"IF(F100=\"\",\"\",INDEX('All Data'!$Z:$Z,MATCH(F100,'All Data'!$O:$O,0)))","v":""},{"$f":"IF(F100=\"\",\"\",INDEX('All Data'!$AA:$AA,MATCH(F100,'All Data'!$O:$O,0)))","v":""},{"$f":"IF(F100=\"\",\"\",INDEX('All Data'!$U:$U,MATCH(F100,'All Data'!$O:$O,0)))","v":""},{"$f":"IF(F100=\"\",\"\",INDEX('All Data'!$V:$V,MATCH(F100,'All Data'!$O:$O,0)))","v":""},{"$f":"IF(F100=\"\",\"\",INDEX('All Data'!$AK:$AK,MATCH(F100,'All Data'!$O:$O,0)))","v":""},{"$f":"IF(F100=\"\",\"\",INDEX('All Data'!$I:$I,MATCH(F100,'All Data'!$O:$O,0)))","v":""},{"$f":"IF(F100=\"\",\"\",INDEX('All Data'!$K:$K,MATCH(F100,'All Data'!$O:$O,0)))","v":""},{"$f":"IF(F100=\"\",\"\",INDEX('All Data'!$AS:$AS,MATCH(F100,'All Data'!$O:$O,0)))","v":""},""]
[null,null,null,{"$f":"IF(F101=\"\",\"\",INDEX('All Data'!$F:$F,MATCH(F101,'All Data'!$O:$O,0)))","v":""},{"$f":"IF(F101<>\"\",COUNTIF($F$7:F101,\"*\")&\".\",\"\")","v":""},null,{"$f":"IF(F101=\"\",\"\",INDEX('All Data'!$N:$N,MATCH(F101,'All Data'!$O:$O,0)))","v":""},{"$f":"IF(F101=\"\",\"\",INDEX('All Data'!$Q:$Q,MATCH(F101,'All Data'!$O:$O,0)))","v":""},{"$f":"IF(F101=\"\",\"\",INDEX('All Data'!$AF:$AF,MATCH(F101,'All Data'!$O:$O,0)))","v":""},{"$f":"IF(F101=\"\",\"\",INDEX('All Data'!$AD:$AD,MATCH(F101,'All Data'!$O:$O,0)))","v":""},{"$f":"IF(F101=\"\",\"\",INDEX('All Data'!$X:$X,MATCH(F101,'All Data'!$O:$O,0)))","v":""},{"$f":"IF(F101=\"\",\"\",INDEX('All Data'!$Y:$Y,MATCH(F101,'All Data'!$O:$O,0)))","v":""},{"$f":"IF(F101=\"\",\"\",INDEX('All Data'!$Z:$Z,MATCH(F101,'All Data'!$O:$O,0)))","v":""},{"$f":"IF(F101=\"\",\"\",INDEX('All Data'!$AA:$AA,MATCH(F101,'All Data'!$O:$O,0)))","v":""},{"$f":"IF(F101=\"\",\"\",INDEX('All Data'!$U:$U,MATCH(F101,'All Data'!$O:$O,0)))","v":""},{"$f":"IF(F101=\"\",\"\",INDEX('All Data'!$V:$V,MATCH(F101,'All Data'!$O:$O,0)))","v":""},{"$f":"IF(F101=\"\",\"\",INDEX('All Data'!$AK:$AK,MATCH(F101,'All Data'!$O:$O,0)))","v":""},{"$f":"IF(F101=\"\",\"\",INDEX('All Data'!$I:$I,MATCH(F101,'All Data'!$O:$O,0)))","v":""},{"$f":"IF(F101=\"\",\"\",INDEX('All Data'!$K:$K,MATCH(F101,'All Data'!$O:$O,0)))","v":""},{"$f":"IF(F101=\"\",\"\",INDEX('All Data'!$AS:$AS,MATCH(F101,'All Data'!$O:$O,0)))","v":""},""]
[null,null,null,{"$f":"IF(F102=\"\",\"\",INDEX('All Data'!$F:$F,MATCH(F102,'All Data'!$O:$O,0)))","v":""},{"$f":"IF(F102<>\"\",COUNTIF($F$7:F102,\"*\")&\".\",\"\")","v":""},null,{"$f":"IF(F102=\"\",\"\",INDEX('All Data'!$N:$N,MATCH(F102,'All Data'!$O:$O,0)))","v":""},{"$f":"IF(F102=\"\",\"\",INDEX('All Data'!$Q:$Q,MATCH(F102,'All Data'!$O:$O,0)))","v":""},{"$f":"IF(F102=\"\",\"\",INDEX('All Data'!$AF:$AF,MATCH(F102,'All Data'!$O:$O,0)))","v":""},{"$f":"IF(F102=\"\",\"\",INDEX('All Data'!$AD:$AD,MATCH(F102,'All Data'!$O:$O,0)))","v":""},{"$f":"IF(F102=\"\",\"\",INDEX('All Data'!$X:$X,MATCH(F102,'All Data'!$O:$O,0)))","v":""},{"$f":"IF(F102=\"\",\"\",INDEX('All Data'!$Y:$Y,MATCH(F102,'All Data'!$O:$O,0)))","v":""},{"$f":"IF(F102=\"\",\"\",INDEX('All Data'!$Z:$Z,MATCH(F102,'All Data'!$O:$O,0)))","v":""},{"$f":"IF(F102=\"\",\"\",INDEX('All Data'!$AA:$AA,MATCH(F102,'All Data'!$O:$O,0)))","v":""},{"$f":"IF(F102=\"\",\"\",INDEX('All Data'!$U:$U,MATCH(F102,'All Data'!$O:$O,0)))","v":""},{"$f":"IF(F102=\"\",\"\",INDEX('All Data'!$V:$V,MATCH(F102,'All Data'!$O:$O,0)))","v":""},{"$f":"IF(F102=\"\",\"\",INDEX('All Data'!$AK:$AK,MATCH(F102,'All Data'!$O:$O,0)))","v":""},{"$f":"IF(F102=\"\",\"\",INDEX('All Data'!$I:$I,MATCH(F102,'All Data'!$O:$O,0)))","v":""},{"$f":"IF(F102=\"\",\"\",INDEX('All Data'!$K:$K,MATCH(F102,'All Data'!$O:$O,0)))","v":""},{"$f":"IF(F102=\"\",\"\",INDEX('All Data'!$AS:$AS,MATCH(F102,'All Data'!$O:$O,0)))","v":""},""]
[null,null,null,{"$f":"IF(F103=\"\",\"\",INDEX('All Data'!$F:$F,MATCH(F103,'All Data'!$O:$O,0)))","v":""},{"$f":"IF(F103<>\"\",COUNTIF($F$7:F103,\"*\")&\".\",\"\")","v":""},null,{"$f":"IF(F103=\"\",\"\",INDEX('All Data'!$N:$N,MATCH(F103,'All Data'!$O:$O,0)))","v":""},{"$f":"IF(F103=\"\",\"\",INDEX('All Data'!$Q:$Q,MATCH(F103,'All Data'!$O:$O,0)))","v":""},{"$f":"IF(F103=\"\",\"\",INDEX('All Data'!$AF:$AF,MATCH(F103,'All Data'!$O:$O,0)))","v":""},{"$f":"IF(F103=\"\",\"\",INDEX('All Data'!$AD:$AD,MATCH(F103,'All Data'!$O:$O,0)))","v":""},{"$f":"IF(F103=\"\",\"\",INDEX('All Data'!$X:$X,MATCH(F103,'All Data'!$O:$O,0)))","v":""},{"$f":"IF(F103=\"\",\"\",INDEX('All Data'!$Y:$Y,MATCH(F103,'All Data'!$O:$O,0)))","v":""},{"$f":"IF(F103=\"\",\"\",INDEX('All Data'!$Z:$Z,MATCH(F103,'All Data'!$O:$O,0)))","v":""},{"$f":"IF(F103=\"\",\"\",INDEX('All Data'!$AA:$AA,MATCH(F103,'All Data'!$O:$O,0)))","v":""},{"$f":"IF(F103=\"\",\"\",INDEX('All Data'!$U:$U,MATCH(F103,'All Data'!$O:$O,0)))","v":""},{"$f":"IF(F103=\"\",\"\",INDEX('All Data'!$V:$V,MATCH(F103,'All Data'!$O:$O,0)))","v":""},{"$f":"IF(F103=\"\",\"\",INDEX('All Data'!$AK:$AK,MATCH(F103,'All Data'!$O:$O,0)))","v":""},{"$f":"IF(F103=\"\",\"\",INDEX('All Data'!$I:$I,MATCH(F103,'All Data'!$O:$O,0)))","v":""},{"$f":"IF(F103=\"\",\"\",INDEX('All Data'!$K:$K,MATCH(F103,'All Data'!$O:$O,0)))","v":""},{"$f":"IF(F103=\"\",\"\",INDEX('All Data'!$AS:$AS,MATCH(F103,'All Data'!$O:$O,0)))","v":""},""]
[null,null,null,{"$f":"IF(F104=\"\",\"\",INDEX('All Data'!$F:$F,MATCH(F104,'All Data'!$O:$O,0)))","v":""},{"$f":"IF(F104<>\"\",COUNTIF($F$7:F104,\"*\")&\".\",\"\")","v":""},null,{"$f":"IF(F104=\"\",\"\",INDEX('All Data'!$N:$N,MATCH(F104,'All Data'!$O:$O,0)))","v":""},{"$f":"IF(F104=\"\",\"\",INDEX('All Data'!$Q:$Q,MATCH(F104,'All Data'!$O:$O,0)))","v":""},{"$f":"IF(F104=\"\",\"\",INDEX('All Data'!$AF:$AF,MATCH(F104,'All Data'!$O:$O,0)))","v":""},{"$f":"IF(F104=\"\",\"\",INDEX('All Data'!$AD:$AD,MATCH(F104,'All Data'!$O:$O,0)))","v":""},{"$f":"IF(F104=\"\",\"\",INDEX('All Data'!$X:$X,MATCH(F104,'All Data'!$O:$O,0)))","v":""},{"$f":"IF(F104=\"\",\"\",INDEX('All Data'!$Y:$Y,MATCH(F104,'All Data'!$O:$O,0)))","v":""},{"$f":"IF(F104=\"\",\"\",INDEX('All Data'!$Z:$Z,MATCH(F104,'All Data'!$O:$O,0)))","v":""},{"$f":"IF(F104=\"\",\"\",INDEX('All Data'!$AA:$AA,MATCH(F104,'All Data'!$O:$O,0)))","v":""},{"$f":"IF(F104=\"\",\"\",INDEX('All Data'!$U:$U,MATCH(F104,'All Data'!$O:$O,0)))","v":""},{"$f":"IF(F104=\"\",\"\",INDEX('All Data'!$V:$V,MATCH(F104,'All Data'!$O:$O,0)))","v":""},{"$f":"IF(F104=\"\",\"\",INDEX('All Data'!$AK:$AK,MATCH(F104,'All Data'!$O:$O,0)))","v":""},{"$f":"IF(F104=\"\",\"\",INDEX('All Data'!$I:$I,MATCH(F104,'All Data'!$O:$O,0)))","v":""},{"$f":"IF(F104=\"\",\"\",INDEX('All Data'!$K:$K,MATCH(F104,'All Data'!$O:$O,0)))","v":""},{"$f":"IF(F104=\"\",\"\",INDEX('All Data'!$AS:$AS,MATCH(F104,'All Data'!$O:$O,0)))","v":""},""]
[null,null,null,{"$f":"IF(F105=\"\",\"\",INDEX('All Data'!$F:$F,MATCH(F105,'All Data'!$O:$O,0)))","v":""},{"$f":"IF(F105<>\"\",COUNTIF($F$7:F105,\"*\")&\".\",\"\")","v":""},null,{"$f":"IF(F105=\"\",\"\",INDEX('All Data'!$N:$N,MATCH(F105,'All Data'!$O:$O,0)))","v":""},{"$f":"IF(F105=\"\",\"\",INDEX('All Data'!$Q:$Q,MATCH(F105,'All Data'!$O:$O,0)))","v":""},{"$f":"IF(F105=\"\",\"\",INDEX('All Data'!$AF:$AF,MATCH(F105,'All Data'!$O:$O,0)))","v":""},{"$f":"IF(F105=\"\",\"\",INDEX('All Data'!$AD:$AD,MATCH(F105,'All Data'!$O:$O,0)))","v":""},{"$f":"IF(F105=\"\",\"\",INDEX('All Data'!$X:$X,MATCH(F105,'All Data'!$O:$O,0)))","v":""},{"$f":"IF(F105=\"\",\"\",INDEX('All Data'!$Y:$Y,MATCH(F105,'All Data'!$O:$O,0)))","v":""},{"$f":"IF(F105=\"\",\"\",INDEX('All Data'!$Z:$Z,MATCH(F105,'All Data'!$O:$O,0)))","v":""},{"$f":"IF(F105=\"\",\"\",INDEX('All Data'!$AA:$AA,MATCH(F105,'All Data'!$O:$O,0)))","v":""},{"$f":"IF(F105=\"\",\"\",INDEX('All Data'!$U:$U,MATCH(F105,'All Data'!$O:$O,0)))","v":""},{"$f":"IF(F105=\"\",\"\",INDEX('All Data'!$V:$V,MATCH(F105,'All Data'!$O:$O,0)))","v":""},{"$f":"IF(F105=\"\",\"\",INDEX('All Data'!$AK:$AK,MATCH(F105,'All Data'!$O:$O,0)))","v":""},{"$f":"IF(F105=\"\",\"\",INDEX('All Data'!$I:$I,MATCH(F105,'All Data'!$O:$O,0)))","v":""},{"$f":"IF(F105=\"\",\"\",INDEX('All Data'!$K:$K,MATCH(F105,'All Data'!$O:$O,0)))","v":""},{"$f":"IF(F105=\"\",\"\",INDEX('All Data'!$AS:$AS,MATCH(F105,'All Data'!$O:$O,0)))","v":""},""]
[null,null,null,{"$f":"IF(F106=\"\",\"\",INDEX('All Data'!$F:$F,MATCH(F106,'All Data'!$O:$O,0)))","v":""},{"$f":"IF(F106<>\"\",COUNTIF($F$7:F106,\"*\")&\".\",\"\")","v":""},null,{"$f":"IF(F106=\"\",\"\",INDEX('All Data'!$N:$N,MATCH(F106,'All Data'!$O:$O,0)))","v":""},{"$f":"IF(F106=\"\",\"\",INDEX('All Data'!$Q:$Q,MATCH(F106,'All Data'!$O:$O,0)))","v":""},{"$f":"IF(F106=\"\",\"\",INDEX('All Data'!$AF:$AF,MATCH(F106,'All Data'!$O:$O,0)))","v":""},{"$f":"IF(F106=\"\",\"\",INDEX('All Data'!$AD:$AD,MATCH(F106,'All Data'!$O:$O,0)))","v":""},{"$f":"IF(F106=\"\",\"\",INDEX('All Data'!$X:$X,MATCH(F106,'All Data'!$O:$O,0)))","v":""},{"$f":"IF(F106=\"\",\"\",INDEX('All Data'!$Y:$Y,MATCH(F106,'All Data'!$O:$O,0)))","v":""},{"$f":"IF(F106=\"\",\"\",INDEX('All Data'!$Z:$Z,MATCH(F106,'All Data'!$O:$O,0)))","v":""},{"$f":"IF(F106=\"\",\"\",INDEX('All Data'!$AA:$AA,MATCH(F106,'All Data'!$O:$O,0)))","v":""},{"$f":"IF(F106=\"\",\"\",INDEX('All Data'!$U:$U,MATCH(F106,'All Data'!$O:$O,0)))","v":""},{"$f":"IF(F106=\"\",\"\",INDEX('All Data'!$V:$V,MATCH(F106,'All Data'!$O:$O,0)))","v":""},{"$f":"IF(F106=\"\",\"\",INDEX('All Data'!$AK:$AK,MATCH(F106,'All Data'!$O:$O,0)))","v":""},{"$f":"IF(F106=\"\",\"\",INDEX('All Data'!$I:$I,MATCH(F106,'All Data'!$O:$O,0)))","v":""},{"$f":"IF(F106=\"\",\"\",INDEX('All Data'!$K:$K,MATCH(F106,'All Data'!$O:$O,0)))","v":""},{"$f":"IF(F106=\"\",\"\",INDEX('All Data'!$AS:$AS,MATCH(F106,'All Data'!$O:$O,0)))","v":""},""]

{"sheet":"DCDC Ref","index":4,"n_rows":110,"n_cols":76,"rows_kept":110,"cut":false,"hidden":false,"merged":[[20,22,20,23],[21,19,26,22],[27,19,35,22],[22,10,22,11]]}
[null,null,null,"Panasonic Automotive Inductor Quick Search with DC/DC Conditions"]
[]
[]
[]
[]
[]
[]
[]
[]
[]
[]
[]
[]
[]
[]
[]
[]
[]
[null,null,null,"-",null,null,null,"Conditions",null,null,null,null,null,"Diagrams",null,null,null,null,null,null,null,null,null,null,null,null,""]
[null,null,null,null,null,null,null,null,null,"Select or enter values↓",null,null,null,null,null,null,null,null,null,null,null,null,null,"View typical designs↓",null,null,""]
[null,null,null,null,null,null,null,"  Vin",null,12,null,"V",null,null,{"$f":"IF(J25=\"\",\"\",\"Fsw = \"&J25&\"kHz\")","v":"Fsw = 100kHz"},null,null,null,null,"Typical design example of …",null,null,"(Select here)",null,null,null,""]
[null,null,null,null,null,null,null,"  Vout",null,5,null,"V",null,{"$f":"IF(J21=\"\",\"\",\"         \"&J21&\"V\")","v":"         12V"},null,{"$f":"IF(J22=\"\",\"\",J22&\"V \")","v":"5V "},null,null,null,"    app image",null,null,null,"design values",null,null,""]
[null,null,null,null,null,null,null,"  Mode",null,{"$f":"IF(J21=J22,\"\",IF(J21>J22,\"Buck\",\"Boost\"))","v":"Buck"},"-",null,{"$f":"(J22*(J21-J22))/(M26*M28*(J24/J26)*J21)*M30","v":6.3194444444444448E-6},"fbuck-boost option",null,{"$f":"IF(OR(J24=\"\",J26=\"\"),\"\",J24&\"A / \"&J26&\"ph\")","v":"20A / 1ph"},null,null,null,null,null,null,null,{"$f":"INDEX(Utility!AD:AD,MATCH('DCDC Ref'!$W$21,Utility!O:O,0))","v":12}]
[null,null,null,null,null,null,null,"  Iout",null,20,null,"A",{"$f":"(J21^2*(J22-J21))/(M26*M28*(J24/J26)*J22^2)*M30","v":-8.735999999999999E-5},null,null,{"$f":"IF(OR(J21=\"\",J22=\"\",J24=\"\",J25=\"\"),\"\",\"(Ripple \"&J27&\"%)\")","v":"(Ripple 30%)"},null,null,null,null,null,null,null,{"$f":"INDEX(Utility!AE:AE,MATCH('DCDC Ref'!$W$21,Utility!O:O,0))","v":5}]
[null,null,null,null,null,null,null,"  Fsw",null,100,null,"kHz",{"$f":"(J22^2*(J23-J22))/(M27*M30*(J28/J27)*J23^2)*M31","v":{"$error":"#VALUE!"}},null,null,null,null,null,null,null,null,null,null,{"$f":"INDEX(Utility!AF:AF,MATCH('DCDC Ref'!$W$21,Utility!O:O,0))","v":5}]
[null,null,null,null,null,null,null,"  Phase",null,1,null,"ph",{"$f":"J25*1000","v":100000},null,null,null,null,null,null,null,null,null,null,{"$f":"INDEX(Utility!AG:AG,MATCH('DCDC Ref'!$W$21,Utility!O:O,0))","v":400}]
[null,null,null,null,null,null,null,"  Ripple",null,30,null,"%",null,null,{"$f":"IFERROR(\"\"&ROUND(J30*J31/100,2)&\" - \"&ROUND(J30*J32/100,2)&\"uH\",\"\")","v":"8.22 - 4.42uH"},null,null,null,null,null,null,null,null,{"$f":"INDEX(Utility!AH:AH,MATCH('DCDC Ref'!$W$21,Utility!O:O,0))","v":1}]
[null,null,null,null,null,null,null,"  IL(peak)",null,{"$f":"計算sheet!AA26","v":22.30769230769231},null,"A",{"$f":"J27*0.01","v":0.3},null,{"$f":"IF(OR(J21=\"\",J22=\"\",J28=\"\",J25=\"\"),\"\",IFERROR(\"Isat(-30%): ≥\"&ROUND(J28*($J$29/100),2)&\"A\",\"\"))","v":"Isat(-30%): ≥22.31A"},null,null,null,null,"    board image"]
[null,null,null,null,null,null,null,null,"Margin",100,null,"%",null,null,{"$f":"IF(OR(J21=\"\",J22=\"\",J24=\"\",J25=\"\"),\"\",\"x \"&J26)","v":"x 1"}]
[null,null,null,null,null,null,null,"  L",null,{"$f":"IFERROR(IF(J23=\"Buck\",M23,M24)*10^6,\"\")","v":6.3194444444444446},null,"uH",{"$f":"IF(COUNTIF(N30,\"*sat*\"),1.3,1)","v":1.3},"Consider sat.(x1.3)"]
[null,null,null,null,null,null,null,null,"Margin",130,null,"%",null,"*130% default"]
[null,null,null,null,null,null,null,null,"Margin",70,null,"%",null,"*70% default"]
[null,null,null,null,null,null,null,"  Amient Temp.",null,20,null,"℃"]
[]
[]
[]
[null,null,null,null,null,null,null,null,null,null,null,null,null,null,null,null,null,null,null,{"$f":"\"   \"&HYPERLINK(Utility!L5,\"design example\")","v":"   design example"}]
[]
[]
[]
[]
[]
[]
[]
[]
[]
[]
[null,null,null,null,null,null,null,null,null,null,null,null,null,null,null,"*LxW x ph"]
[null,null,null,"-",null,null,null,"Panasonic Inductor Proposals"]
[null,null,null,null,null,null,"Size Rough (mm)","#","Status","Automotive Grade","■","pcs","列1","Part Number","Lo (uH)","Total Area* (mm2)","LxW (mm)","Height (mm)","Method B typ (A)","Method A typ (A)","\nL=-30% \ntyp (A) ","\nL=-20% \ntyp (A) ","\ntyp (mΩ)\n","\nmax (mΩ)\n","~","Temp. Range","Feature","URL","列2"]
[null,null,null,null,null,null,{"$f":"IF(N51=\"\",\"\",INDEX('All Data'!$AG:$AG,MATCH(N51,'All Data'!$O:$O,0)))","v":"_6 x 6"},{"$f":"IF(N51<>\"\",COUNTIF($N$51:N51,\"*\")&\".\",\"\")","v":"1."},{"$f":"IF(N51=\"\",\"\",INDEX('All Data'!$F:$F,MATCH(N51,'All Data'!$O:$O,0)))","v":"MP"},{"$f":"IF(N51=\"\",\"\",INDEX('All Data'!$N:$N,MATCH(N51,'All Data'!$O:$O,0)))","v":"Yes"},{"$f":"_xlfn.IMAGE(IF(N51=\"\",\"\",INDEX('All Data'!AT:AT,MATCH(N51,'All Data'!$O:$O,0))),\"--\")","v":{"$error":"#VALUE!"}},{"$f":"IF(テーブル3[[#This Row],[Part Number]]=\"\",\"\",\"x \"&$J$26)","v":"x 1"},null,{"$f":"'All Data'!BU11","v":"ETQP4M6R8YFN"},{"$f":"IF(N51=\"\",\"\",INDEX('All Data'!$Q:$Q,MATCH(N51,'All Data'!$O:$O,0)))","v":6.8},{"$f":"IF(N51=\"\",\"\",INDEX('All Data'!AE:AE,MATCH(N51,'All Data'!$O:$O,0))*$J$26)","v":39},{"$f":"IF(N51=\"\",\"\",INDEX('All Data'!AF:AF,MATCH(N51,'All Data'!$O:$O,0)))","v":"6.5  x  6"},{"$f":"IF(N51=\"\",\"\",INDEX('All Data'!AD:AD,MATCH(N51,'All Data'!$O:$O,0)))","v":4.5},{"$f":"IF(N51=\"\",\"\",INDEX('All Data'!X:X,MATCH(N51,'All Data'!$O:$O,0)))","v":5.2},{"$f":"IF(N51=\"\",\"\",INDEX('All Data'!Y:Y,MATCH(N51,'All Data'!$O:$O,0)))","v":4.0999999999999996},{"$f":"IF(N51=\"\",\"\",INDEX('All Data'!Z:Z,MATCH(N51,'All Data'!$O:$O,0)))","v":10},{"$f":"IF(N51=\"\",\"\",INDEX('All Data'!AA:AA,MATCH(N51,'All Data'!$O:$O,0)))","v":7.2},{"$f":"IF(N51=\"\",\"\",INDEX('All Data'!U:U,MATCH(N51,'All Data'!$O:$O,0)))","v":39.299999999999997},{"$f":"IF(N51=\"\",\"\",INDEX('All Data'!V:V,MATCH(N51,'All Data'!$O:$O,0)))","v":43.23},null,{"$f":"IF(N51=\"\",\"\",INDEX('All Data'!AK:AK,MATCH(N51,'All Data'!$O:$O,0)))","v":"-40 to +150"},{"$f":"IF(N51=\"\",\"\",INDEX('All Data'!$K:$K,MATCH(N51,'All Data'!$O:$O,0)))","v":"High Isat (Standard)"},{"$f":"IF(N51=\"\",\"\",HYPERLINK(INDEX('All Data'!$AS:$AS,MATCH(N51,'All Data'!$O:$O,0)),\"More Info\"))","v":"More Info"}]
[null,null,null,null,null,null,{"$f":"IF(N52=\"\",\"\",INDEX('All Data'!$AG:$AG,MATCH(N52,'All Data'!$O:$O,0)))","v":"_7 x 7"},{"$f":"IF(N52<>\"\",COUNTIF($N$51:N52,\"*\")&\".\",\"\")","v":"2."},{"$f":"IF(N52=\"\",\"\",INDEX('All Data'!$F:$F,MATCH(N52,'All Data'!$O:$O,0)))","v":"MP"},{"$f":"IF(N52=\"\",\"\",INDEX('All Data'!$N:$N,MATCH(N52,'All Data'!$O:$O,0)))","v":"Yes"},{"$f":"_xlfn.IMAGE(IF(N52=\"\",\"\",INDEX('All Data'!AT:AT,MATCH(N52,'All Data'!$O:$O,0))),\"--\")","v":{"$error":"#VALUE!"}},{"$f":"IF(テーブル3[[#This Row],[Part Number]]=\"\",\"\",\"x \"&$J$26)","v":"x 1"},null,{"$f":"'All Data'!BU12","v":"ETQP5M6R8YFM"},{"$f":"IF(N52=\"\",\"\",INDEX('All Data'!$Q:$Q,MATCH(N52,'All Data'!$O:$O,0)))","v":6.8},{"$f":"IF(N52=\"\",\"\",INDEX('All Data'!AE:AE,MATCH(N52,'All Data'!$O:$O,0))*$J$26)","v":52.5},{"$f":"IF(N52=\"\",\"\",INDEX('All Data'!AF:AF,MATCH(N52,'All Data'!$O:$O,0)))","v":"7.5  x  7"},{"$f":"IF(N52=\"\",\"\",INDEX('All Data'!AD:AD,MATCH(N52,'All Data'!$O:$O,0)))","v":5.4},{"$f":"IF(N52=\"\",\"\",INDEX('All Data'!X:X,MATCH(N52,'All Data'!$O:$O,0)))","v":6.9},{"$f":"IF(N52=\"\",\"\",INDEX('All Data'!Y:Y,MATCH(N52,'All Data'!$O:$O,0)))","v":5.5},{"$f":"IF(N52=\"\",\"\",INDEX('All Data'!Z:Z,MATCH(N52,'All Data'!$O:$O,0)))","v":12.1},{"$f":"IF(N52=\"\",\"\",INDEX('All Data'!AA:AA,MATCH(N52,'All Data'!$O:$O,0)))","v":8.6},{"$f":"IF(N52=\"\",\"\",INDEX('All Data'!U:U,MATCH(N52,'All Data'!$O:$O,0)))","v":26.7},{"$f":"IF(N52=\"\",\"\",INDEX('All Data'!V:V,MATCH(N52,'All Data'!$O:$O,0)))","v":29.4},null,{"$f":"IF(N52=\"\",\"\",INDEX('All Data'!AK:AK,MATCH(N52,'All Data'!$O:$O,0)))","v":"-40 to +150"},{"$f":"IF(N52=\"\",\"\",INDEX('All Data'!$K:$K,MATCH(N52,'All Data'!$O:$O,0)))","v":"High Isat (Standard)"},{"$f":"IF(N52=\"\",\"\",HYPERLINK(INDEX('All Data'!$AS:$AS,MATCH(N52,'All Data'!$O:$O,0)),\"More Info\"))","v":"More Info"}]
[null,null,null,null,null,null,{"$f":"IF(N53=\"\",\"\",INDEX('All Data'!$AG:$AG,MATCH(N53,'All Data'!$O:$O,0)))","v":"_5 x 5"},{"$f":"IF(N53<>\"\",COUNTIF($N$51:N53,\"*\")&\".\",\"\")","v":"3."},{"$f":"IF(N53=\"\",\"\",INDEX('All Data'!$F:$F,MATCH(N53,'All Data'!$O:$O,0)))","v":"MP"},{"$f":"IF(N53=\"\",\"\",INDEX('All Data'!$N:$N,MATCH(N53,'All Data'!$O:$O,0)))","v":"Yes"},{"$f":"_xlfn.IMAGE(IF(N53=\"\",\"\",INDEX('All Data'!AT:AT,MATCH(N53,'All Data'!$O:$O,0))),\"--\")","v":{"$error":"#VALUE!"}},{"$f":"IF(テーブル3[[#This Row],[Part Number]]=\"\",\"\",\"x \"&$J$26)","v":"x 1"},null,{"$f":"'All Data'!BU13","v":"ETQP3M6R8KVP"},{"$f":"IF(N53=\"\",\"\",INDEX('All Data'!$Q:$Q,MATCH(N53,'All Data'!$O:$O,0)))","v":6.8},{"$f":"IF(N53=\"\",\"\",INDEX('All Data'!AE:AE,MATCH(N53,'All Data'!$O:$O,0))*$J$26)","v":27.5},{"$f":"IF(N53=\"\",\"\",INDEX('All Data'!AF:AF,MATCH(N53,'All Data'!$O:$O,0)))","v":"5.5  x  5"},{"$f":"IF(N53=\"\",\"\",INDEX('All Data'!AD:AD,MATCH(N53,'All Data'!$O:$O,0)))","v":3},{"$f":"IF(N53=\"\",\"\",INDEX('All Data'!X:X,MATCH(N53,'All Data'!$O:$O,0)))","v":3.5},{"$f":"IF(N53=\"\",\"\",INDEX('All Data'!Y:Y,MATCH(N53,'All Data'!$O:$O,0)))","v":2.9},{"$f":"IF(N53=\"\",\"\",INDEX('All Data'!Z:Z,MATCH(N53,'All Data'!$O:$O,0)))","v":6.1},{"$f":"IF(N53=\"\",\"\",INDEX('All Data'!AA:AA,MATCH(N53,'All Data'!$O:$O,0)))","v":4.54},{"$f":"IF(N53=\"\",\"\",INDEX('All Data'!U:U,MATCH(N53,'All Data'!$O:$O,0)))","v":65.7},{"$f":"IF(N53=\"\",\"\",INDEX('All Data'!V:V,MATCH(N53,'All Data'!$O:$O,0)))","v":72.27000000000001},null,{"$f":"IF(N53=\"\",\"\",INDEX('All Data'!AK:AK,MATCH(N53,'All Data'!$O:$O,0)))","v":"-55 to +155"},{"$f":"IF(N53=\"\",\"\",INDEX('All Data'!$K:$K,MATCH(N53,'All Data'!$O:$O,0)))","v":"LP (Low Profile)"},{"$f":"IF(N53=\"\",\"\",HYPERLINK(INDEX('All Data'!$AS:$AS,MATCH(N53,'All Data'!$O:$O,0)),\"More Info\"))","v":"More Info"}]
[null,null,null,null,null,null,{"$f":"IF(N54=\"\",\"\",INDEX('All Data'!$AG:$AG,MATCH(N54,'All Data'!$O:$O,0)))","v":"_6 x 6"},{"$f":"IF(N54<>\"\",COUNTIF($N$51:N54,\"*\")&\".\",\"\")","v":"4."},{"$f":"IF(N54=\"\",\"\",INDEX('All Data'!$F:$F,MATCH(N54,'All Data'!$O:$O,0)))","v":"MP"},{"$f":"IF(N54=\"\",\"\",INDEX('All Data'!$N:$N,MATCH(N54,'All Data'!$O:$O,0)))","v":"Yes"},{"$f":"_xlfn.IMAGE(IF(N54=\"\",\"\",INDEX('All Data'!AT:AT,MATCH(N54,'All Data'!$O:$O,0))),\"--\")","v":{"$error":"#VALUE!"}},{"$f":"IF(テーブル3[[#This Row],[Part Number]]=\"\",\"\",\"x \"&$J$26)","v":"x 1"},null,{"$f":"'All Data'!BU14","v":"ETQP3M6R8KVN"},{"$f":"IF(N54=\"\",\"\",INDEX('All Data'!$Q:$Q,MATCH(N54,'All Data'!$O:$O,0)))","v":6.8},{"$f":"IF(N54=\"\",\"\",INDEX('All Data'!AE:AE,MATCH(N54,'All Data'!$O:$O,0))*$J$26)","v":38.4},{"$f":"IF(N54=\"\",\"\",INDEX('All Data'!AF:AF,MATCH(N54,'All Data'!$O:$O,0)))","v":"6.4  x  6"},{"$f":"IF(N54=\"\",\"\",INDEX('All Data'!AD:AD,MATCH(N54,'All Data'!$O:$O,0)))","v":3},{"$f":"IF(N54=\"\",\"\",INDEX('All Data'!X:X,MATCH(N54,'All Data'!$O:$O,0)))","v":4.5},{"$f":"IF(N54=\"\",\"\",INDEX('All Data'!Y:Y,MATCH(N54,'All Data'!$O:$O,0)))","v":3.6},{"$f":"IF(N54=\"\",\"\",INDEX('All Data'!Z:Z,MATCH(N54,'All Data'!$O:$O,0)))","v":8.1},{"$f":"IF(N54=\"\",\"\",INDEX('All Data'!AA:AA,MATCH(N54,'All Data'!$O:$O,0)))","v":5.48},{"$f":"IF(N54=\"\",\"\",INDEX('All Data'!U:U,MATCH(N54,'All Data'!$O:$O,0)))","v":45.6},{"$f":"IF(N54=\"\",\"\",INDEX('All Data'!V:V,MATCH(N54,'All Data'!$O:$O,0)))","v":50.16},null,{"$f":"IF(N54=\"\",\"\",INDEX('All Data'!AK:AK,MATCH(N54,'All Data'!$O:$O,0)))","v":"-55 to +155"},{"$f":"IF(N54=\"\",\"\",INDEX('All Data'!$K:$K,MATCH(N54,'All Data'!$O:$O,0)))","v":"LP (Low Profile)"},{"$f":"IF(N54=\"\",\"\",HYPERLINK(INDEX('All Data'!$AS:$AS,MATCH(N54,'All Data'!$O:$O,0)),\"More Info\"))","v":"More Info"}]
[null,null,null,null,null,null,{"$f":"IF(N55=\"\",\"\",INDEX('All Data'!$AG:$AG,MATCH(N55,'All Data'!$O:$O,0)))","v":"_8 x 8"},{"$f":"IF(N55<>\"\",COUNTIF($N$51:N55,\"*\")&\".\",\"\")","v":"5."},{"$f":"IF(N55=\"\",\"\",INDEX('All Data'!$F:$F,MATCH(N55,'All Data'!$O:$O,0)))","v":"MP"},{"$f":"IF(N55=\"\",\"\",INDEX('All Data'!$N:$N,MATCH(N55,'All Data'!$O:$O,0)))","v":"Yes"},{"$f":"_xlfn.IMAGE(IF(N55=\"\",\"\",INDEX('All Data'!AT:AT,MATCH(N55,'All Data'!$O:$O,0))),\"--\")","v":{"$error":"#VALUE!"}},{"$f":"IF(テーブル3[[#This Row],[Part Number]]=\"\",\"\",\"x \"&$J$26)","v":"x 1"},null,{"$f":"'All Data'!BU15","v":"ETQP4M6R8KVK"},{"$f":"IF(N55=\"\",\"\",INDEX('All Data'!$Q:$Q,MATCH(N55,'All Data'!$O:$O,0)))","v":6.8},{"$f":"IF(N55=\"\",\"\",INDEX('All Data'!AE:AE,MATCH(N55,'All Data'!$O:$O,0))*$J$26)","v":68},{"$f":"IF(N55=\"\",\"\",INDEX('All Data'!AF:AF,MATCH(N55,'All Data'!$O:$O,0)))","v":"8.5  x  8"},{"$f":"IF(N55=\"\",\"\",INDEX('All Data'!AD:AD,MATCH(N55,'All Data'!$O:$O,0)))","v":4},{"$f":"IF(N55=\"\",\"\",INDEX('All Data'!X:X,MATCH(N55,'All Data'!$O:$O,0)))","v":6.9},{"$f":"IF(N55=\"\",\"\",INDEX('All Data'!Y:Y,MATCH(N55,'All Data'!$O:$O,0)))","v":5.9},{"$f":"IF(N55=\"\",\"\",INDEX('All Data'!Z:Z,MATCH(N55,'All Data'!$O:$O,0)))","v":11},{"$f":"IF(N55=\"\",\"\",INDEX('All Data'!AA:AA,MATCH(N55,'All Data'!$O:$O,0)))","v":7.59},{"$f":"IF(N55=\"\",\"\",INDEX('All Data'!U:U,MATCH(N55,'All Data'!$O:$O,0)))","v":23.5},{"$f":"IF(N55=\"\",\"\",INDEX('All Data'!V:V,MATCH(N55,'All Data'!$O:$O,0)))","v":25.85},null,{"$f":"IF(N55=\"\",\"\",INDEX('All Data'!AK:AK,MATCH(N55,'All Data'!$O:$O,0)))","v":"-55 to +155"},{"$f":"IF(N55=\"\",\"\",INDEX('All Data'!$K:$K,MATCH(N55,'All Data'!$O:$O,0)))","v":"LP (Low Profile)"},{"$f":"IF(N55=\"\",\"\",HYPERLINK(INDEX('All Data'!$AS:$AS,MATCH(N55,'All Data'!$O:$O,0)),\"More Info\"))","v":"More Info"}]
[null,null,null,null,null,null,{"$f":"IF(N56=\"\",\"\",INDEX('All Data'!$AG:$AG,MATCH(N56,'All Data'!$O:$O,0)))","v":"10 x 10"},{"$f":"IF(N56<>\"\",COUNTIF($N$51:N56,\"*\")&\".\",\"\")","v":"6."},{"$f":"IF(N56=\"\",\"\",INDEX('All Data'!$F:$F,MATCH(N56,'All Data'!$O:$O,0)))","v":"MP"},{"$f":"IF(N56=\"\",\"\",INDEX('All Data'!$N:$N,MATCH(N56,'All Data'!$O:$O,0)))","v":"Yes"},{"$f":"_xlfn.IMAGE(IF(N56=\"\",\"\",INDEX('All Data'!AT:AT,MATCH(N56,'All Data'!$O:$O,0))),\"--\")","v":{"$error":"#VALUE!"}},{"$f":"IF(テーブル3[[#This Row],[Part Number]]=\"\",\"\",\"x \"&$J$26)","v":"x 1"},null,{"$f":"'All Data'!BU16","v":"ETQP4M6R8KVC"},{"$f":"IF(N56=\"\",\"\",INDEX('All Data'!$Q:$Q,MATCH(N56,'All Data'!$O:$O,0)))","v":6.8},{"$f":"IF(N56=\"\",\"\",INDEX('All Data'!AE:AE,MATCH(N56,'All Data'!$O:$O,0))*$J$26)","v":107},{"$f":"IF(N56=\"\",\"\",INDEX('All Data'!AF:AF,MATCH(N56,'All Data'!$O:$O,0)))","v":"10.7  x  10"},{"$f":"IF(N56=\"\",\"\",INDEX('All Data'!AD:AD,MATCH(N56,'All Data'!$O:$O,0)))","v":4},{"$f":"IF(N56=\"\",\"\",INDEX('All Data'!X:X,MATCH(N56,'All Data'!$O:$O,0)))","v":8.9},{"$f":"IF(N56=\"\",\"\",INDEX('All Data'!Y:Y,MATCH(N56,'All Data'!$O:$O,0)))","v":7.4},{"$f":"IF(N56=\"\",\"\",INDEX('All Data'!Z:Z,MATCH(N56,'All Data'!$O:$O,0)))","v":12.1},{"$f":"IF(N56=\"\",\"\",INDEX('All Data'!AA:AA,MATCH(N56,'All Data'!$O:$O,0)))","v":8.92},{"$f":"IF(N56=\"\",\"\",INDEX('All Data'!U:U,MATCH(N56,'All Data'!$O:$O,0)))","v":18.5},{"$f":"IF(N56=\"\",\"\",INDEX('All Data'!V:V,MATCH(N56,'All Data'!$O:$O,0)))","v":20.350000000000001},null,{"$f":"IF(N56=\"\",\"\",INDEX('All Data'!AK:AK,MATCH(N56,'All Data'!$O:$O,0)))","v":"-55 to +155"},{"$f":"IF(N56=\"\",\"\",INDEX('All Data'!$K:$K,MATCH(N56,'All Data'!$O:$O,0)))","v":"LP (Low Profile)"},{"$f":"IF(N56=\"\",\"\",HYPERLINK(INDEX('All Data'!$AS:$AS,MATCH(N56,'All Data'!$O:$O,0)),\"More Info\"))","v":"More Info"}]
[null,null,null,null,null,null,{"$f":"IF(N57=\"\",\"\",INDEX('All Data'!$AG:$AG,MATCH(N57,'All Data'!$O:$O,0)))","v":"_6 x 6"},{"$f":"IF(N57<>\"\",COUNTIF($N$51:N57,\"*\")&\".\",\"\")","v":"7."},{"$f":"IF(N57=\"\",\"\",INDEX('All Data'!$F:$F,MATCH(N57,'All Data'!$O:$O,0)))","v":"MP"},{"$f":"IF(N57=\"\",\"\",INDEX('All Data'!$N:$N,MATCH(N57,'All Data'!$O:$O,0)))","v":"Yes"},{"$f":"_xlfn.IMAGE(IF(N57=\"\",\"\",INDEX('All Data'!AT:AT,MATCH(N57,'All Data'!$O:$O,0))),\"--\")","v":{"$error":"#VALUE!"}},{"$f":"IF(テーブル3[[#This Row],[Part Number]]=\"\",\"\",\"x \"&$J$26)","v":"x 1"},null,{"$f":"'All Data'!BU17","v":"ETQP4M6R8KFN"},{"$f":"IF(N57=\"\",\"\",INDEX('All Data'!$Q:$Q,MATCH(N57,'All Data'!$O:$O,0)))","v":6.8},{"$f":"IF(N57=\"\",\"\",INDEX('All Data'!AE:AE,MATCH(N57,'All Data'!$O:$O,0))*$J$26)","v":38.4},{"$f":"IF(N57=\"\",\"\",INDEX('All Data'!AF:AF,MATCH(N57,'All Data'!$O:$O,0)))","v":"6.4  x  6"},{"$f":"IF(N57=\"\",\"\",INDEX('All Data'!AD:AD,MATCH(N57,'All Data'!$O:$O,0)))","v":4.8},{"$f":"IF(N57=\"\",\"\",INDEX('All Data'!X:X,MATCH(N57,'All Data'!$O:$O,0)))","v":5.9},{"$f":"IF(N57=\"\",\"\",INDEX('All Data'!Y:Y,MATCH(N57,'All Data'!$O:$O,0)))","v":4.5999999999999996},{"$f":"IF(N57=\"\",\"\",INDEX('All Data'!Z:Z,MATCH(N57,'All Data'!$O:$O,0)))","v":9.9},{"$f":"IF(N57=\"\",\"\",INDEX('All Data'!AA:AA,MATCH(N57,'All Data'!$O:$O,0)))","v":7.1},{"$f":"IF(N57=\"\",\"\",INDEX('All Data'!U:U,MATCH(N57,'All Data'!$O:$O,0)))","v":32.1},{"$f":"IF(N57=\"\",\"\",INDEX('All Data'!V:V,MATCH(N57,'All Data'!$O:$O,0)))","v":35.31},null,{"$f":"IF(N57=\"\",\"\",INDEX('All Data'!AK:AK,MATCH(N57,'All Data'!$O:$O,0)))","v":"-40 to +150"},{"$f":"IF(N57=\"\",\"\",INDEX('All Data'!$K:$K,MATCH(N57,'All Data'!$O:$O,0)))","v":"LE (Low Price)"},{"$f":"IF(N57=\"\",\"\",HYPERLINK(INDEX('All Data'!$AS:$AS,MATCH(N57,'All Data'!$O:$O,0)),\"More Info\"))","v":"More Info"}]
[null,null,null,null,null,null,{"$f":"IF(N58=\"\",\"\",INDEX('All Data'!$AG:$AG,MATCH(N58,'All Data'!$O:$O,0)))","v":"10 x 10"},{"$f":"IF(N58<>\"\",COUNTIF($N$51:N58,\"*\")&\".\",\"\")","v":"8."},{"$f":"IF(N58=\"\",\"\",INDEX('All Data'!$F:$F,MATCH(N58,'All Data'!$O:$O,0)))","v":"MP"},{"$f":"IF(N58=\"\",\"\",INDEX('All Data'!$N:$N,MATCH(N58,'All Data'!$O:$O,0)))","v":"Yes"},{"$f":"_xlfn.IMAGE(IF(N58=\"\",\"\",INDEX('All Data'!AT:AT,MATCH(N58,'All Data'!$O:$O,0))),\"--\")","v":{"$error":"#VALUE!"}},{"$f":"IF(テーブル3[[#This Row],[Part Number]]=\"\",\"\",\"x \"&$J$26)","v":"x 1"},null,{"$f":"'All Data'!BU18","v":"ETQP6M4R7YLC"},{"$f":"IF(N58=\"\",\"\",INDEX('All Data'!$Q:$Q,MATCH(N58,'All Data'!$O:$O,0)))","v":4.7},{"$f":"IF(N58=\"\",\"\",INDEX('All Data'!AE:AE,MATCH(N58,'All Data'!$O:$O,0))*$J$26)","v":109},{"$f":"IF(N58=\"\",\"\",INDEX('All Data'!AF:AF,MATCH(N58,'All Data'!$O:$O,0)))","v":"10.9  x  10"},{"$f":"IF(N58=\"\",\"\",INDEX('All Data'!AD:AD,MATCH(N58,'All Data'!$O:$O,0)))","v":6},{"$f":"IF(N58=\"\",\"\",INDEX('All Data'!X:X,MATCH(N58,'All Data'!$O:$O,0)))","v":14.1},{"$f":"IF(N58=\"\",\"\",INDEX('All Data'!Y:Y,MATCH(N58,'All Data'!$O:$O,0)))","v":11.8},{"$f":"IF(N58=\"\",\"\",INDEX('All Data'!Z:Z,MATCH(N58,'All Data'!$O:$O,0)))","v":22.5},{"$f":"IF(N58=\"\",\"\",INDEX('All Data'!AA:AA,MATCH(N58,'All Data'!$O:$O,0)))","v":15.17},{"$f":"IF(N58=\"\",\"\",INDEX('All Data'!U:U,MATCH(N58,'All Data'!$O:$O,0)))","v":8.6999999999999993},{"$f":"IF(N58=\"\",\"\",INDEX('All Data'!V:V,MATCH(N58,'All Data'!$O:$O,0)))","v":9.57},null,{"$f":"IF(N58=\"\",\"\",INDEX('All Data'!AK:AK,MATCH(N58,'All Data'!$O:$O,0)))","v":"-40 to +150"},{"$f":"IF(N58=\"\",\"\",INDEX('All Data'!$K:$K,MATCH(N58,'All Data'!$O:$O,0)))","v":"High Isat (Standard)"},{"$f":"IF(N58=\"\",\"\",HYPERLINK(INDEX('All Data'!$AS:$AS,MATCH(N58,'All Data'!$O:$O,0)),\"More Info\"))","v":"More Info"}]
[null,null,null,null,null,null,{"$f":"IF(N59=\"\",\"\",INDEX('All Data'!$AG:$AG,MATCH(N59,'All Data'!$O:$O,0)))","v":"12 x 12"},{"$f":"IF(N59<>\"\",COUNTIF($N$51:N59,\"*\")&\".\",\"\")","v":"9."},{"$f":"IF(N59=\"\",\"\",INDEX('All Data'!$F:$F,MATCH(N59,'All Data'!$O:$O,0)))","v":"MP"},{"$f":"IF(N59=\"\",\"\",INDEX('All Data'!$N:$N,MATCH(N59,'All Data'!$O:$O,0)))","v":"Yes"},{"$f":"_xlfn.IMAGE(IF(N59=\"\",\"\",INDEX('All Data'!AT:AT,MATCH(N59,'All Data'!$O:$O,0))),\"--\")","v":{"$error":"#VALUE!"}},{"$f":"IF(テーブル3[[#This Row],[Part Number]]=\"\",\"\",\"x \"&$J$26)","v":"x 1"},null,{"$f":"'All Data'!BU19","v":"ETQP8M4R7JFA"},{"$f":"IF(N59=\"\",\"\",INDEX('All Data'!$Q:$Q,MATCH(N59,'All Data'!$O:$O,0)))","v":4.7},{"$f":"IF(N59=\"\",\"\",INDEX('All Data'!AE:AE,MATCH(N59,'All Data'!$O:$O,0))*$J$26)","v":165.1},{"$f":"IF(N59=\"\",\"\",INDEX('All Data'!AF:AF,MATCH(N59,'All Data'!$O:$O,0)))","v":"12.6  x  13.1"},{"$f":"IF(N59=\"\",\"\",INDEX('All Data'!AD:AD,MATCH(N59,'All Data'!$O:$O,0)))","v":8},{"$f":"IF(N59=\"\",\"\",INDEX('All Data'!X:X,MATCH(N59,'All Data'!$O:$O,0)))","v":20.2},{"$f":"IF(N59=\"\",\"\",INDEX('All Data'!Y:Y,MATCH(N59,'All Data'!$O:$O,0)))","v":16.8},{"$f":"IF(N59=\"\",\"\",INDEX('All Data'!Z:Z,MATCH(N59,'All Data'!$O:$O,0)))","v":24.7},{"$f":"IF(N59=\"\",\"\",INDEX('All Data'!AA:AA,MATCH(N59,'All Data'!$O:$O,0)))","v":17.600000000000001},{"$f":"IF(N59=\"\",\"\",INDEX('All Data'!U:U,MATCH(N59,'All Data'!$O:$O,0)))","v":4.9000000000000004},{"$f":"IF(N59=\"\",\"\",INDEX('All Data'!V:V,MATCH(N59,'All Data'!$O:$O,0)))","v":5.39},null,{"$f":"IF(N59=\"\",\"\",INDEX('All Data'!AK:AK,MATCH(N59,'All Data'!$O:$O,0)))","v":"-40 to +160"},{"$f":"IF(N59=\"\",\"\",INDEX('All Data'!$K:$K,MATCH(N59,'All Data'!$O:$O,0)))","v":"High Current (≥□12)"},{"$f":"IF(N59=\"\",\"\",HYPERLINK(INDEX('All Data'!$AS:$AS,MATCH(N59,'All Data'!$O:$O,0)),\"More Info\"))","v":"More Info"}]
[null,null,null,null,null,null,{"$f":"IF(N60=\"\",\"\",INDEX('All Data'!$AG:$AG,MATCH(N60,'All Data'!$O:$O,0)))","v":"15 x 15"},{"$f":"IF(N60<>\"\",COUNTIF($N$51:N60,\"*\")&\".\",\"\")","v":"10."},{"$f":"IF(N60=\"\",\"\",INDEX('All Data'!$F:$F,MATCH(N60,'All Data'!$O:$O,0)))","v":"MP"},{"$f":"IF(N60=\"\",\"\",INDEX('All Data'!$N:$N,MATCH(N60,'All Data'!$O:$O,0)))","v":"Yes"},{"$f":"_xlfn.IMAGE(IF(N60=\"\",\"\",INDEX('All Data'!AT:AT,MATCH(N60,'All Data'!$O:$O,0))),\"--\")","v":{"$error":"#VALUE!"}},{"$f":"IF(テーブル3[[#This Row],[Part Number]]=\"\",\"\",\"x \"&$J$26)","v":"x 1"},null,{"$f":"'All Data'!BU20","v":"ETQPAM4R7JFW"},{"$f":"IF(N60=\"\",\"\",INDEX('All Data'!$Q:$Q,MATCH(N60,'All Data'!$O:$O,0)))","v":4.7},{"$f":"IF(N60=\"\",\"\",INDEX('All Data'!AE:AE,MATCH(N60,'All Data'!$O:$O,0))*$J$26)","v":268.3},{"$f":"IF(N60=\"\",\"\",INDEX('All Data'!AF:AF,MATCH(N60,'All Data'!$O:$O,0)))","v":"15.6  x  17.2"},{"$f":"IF(N60=\"\",\"\",INDEX('All Data'!AD:AD,MATCH(N60,'All Data'!$O:$O,0)))","v":10.5},{"$f":"IF(N60=\"\",\"\",INDEX('All Data'!X:X,MATCH(N60,'All Data'!$O:$O,0)))","v":31},{"$f":"IF(N60=\"\",\"\",INDEX('All Data'!Y:Y,MATCH(N60,'All Data'!$O:$O,0)))","v":26},{"$f":"IF(N60=\"\",\"\",INDEX('All Data'!Z:Z,MATCH(N60,'All Data'!$O:$O,0)))","v":30},{"$f":"IF(N60=\"\",\"\",INDEX('All Data'!AA:AA,MATCH(N60,'All Data'!$O:$O,0)))","v":21.1},{"$f":"IF(N60=\"\",\"\",INDEX('All Data'!U:U,MATCH(N60,'All Data'!$O:$O,0)))","v":3.1},{"$f":"IF(N60=\"\",\"\",INDEX('All Data'!V:V,MATCH(N60,'All Data'!$O:$O,0)))","v":3.41},null,{"$f":"IF(N60=\"\",\"\",INDEX('All Data'!AK:AK,MATCH(N60,'All Data'!$O:$O,0)))","v":"-40 to +160"},{"$f":"IF(N60=\"\",\"\",INDEX('All Data'!$K:$K,MATCH(N60,'All Data'!$O:$O,0)))","v":"High Current (≥□12)"},{"$f":"IF(N60=\"\",\"\",HYPERLINK(INDEX('All Data'!$AS:$AS,MATCH(N60,'All Data'!$O:$O,0)),\"More Info\"))","v":"More Info"}]
[null,null,null,"-"]
[]
[]
[]
[]
[]
[]
[]
[]
[null,null,null,"-",null,null,null,null,"Ref: http://www4.hcmut.edu.vn/~ndtuyen/Dowload/slva535a.pdf"]
[]
[]
[]
[]
[]
[]
[]
[]
[]
[]
[]
[]
[]
[]
[]
[]
[]
[]
[]
[]
[]
[]
[]
[]
[]
[]
[]
[]
[]
[]
[]
[]
[]
[]
[]
[]
[]
[]
[]
[null,null,null,null,null,null,null,null,null,null,null,null,null,null,null,null,null,null,null,null,null,null,null,null,null,null,null,null,null,null,null,null,null,null,null,null,null,null,null,null,null,null,null,null,null,null,null,null,null,null,null,null,null,null,null,null,null,null,null,null,null,null,null,null,null,null,null,null,null,null,null,null,null,null,null,{"$f":"'DCDC Ref'!AF41AM98+BS110+BU110","v":{"$error":"#NAME?"}}]

{"sheet":"All Data","index":5,"n_rows":177,"n_cols":81,"rows_kept":177,"cut":false,"hidden":true,"merged":[]}
[null,null,null,null,null,null,null,null,null,null,null,null,null,null,null,null,null,null,null,null,null,null,null,null,null,null,null,null,null,null,null,null,null,null,null,null,null,null,null,null,null,null,null,null,"新 (全ての品番に共通するようになっていた)↓下記$AO$2で関数参照する。",null,null,null,null,null,null,null,null,null,null,null,null,null,null,null,null,null,null,null,null,null,null,null,null,null,null,null,null,null,null,null,null,"Vin",{"$f":"'DCDC Ref'!J21","v":12},null,"V"]
[null,null,null,null,null,null,null,null,null,null,null,null,null,null,null,null,null,null,null,null,null,null,null,null,null,null,null,null,null,null,null,null,null,null,null,null,null,null,null,null,null,null,null,null,"https://industrial.panasonic.com/ww/products/inductors/automotive-inductors/automotive-inductors/models/",null,null,null,null,null,null,null,null,null,null,null,null,null,null,null,null,null,null,null,null,null,null,null,null,null,null,null,null,null,null,null,null,"Vout",{"$f":"'DCDC Ref'!J22","v":5},null,"V"]
[null,null,null,null,null,null,null,null,null,null,null,null,null,null,null,null,null,null,null,null,null,null,null,null,null,null,null,null,null,null,null,null,null,null,null,null,null,null,null,null,null,null,null,null,null,null,null,null,null,null,null,null,null,null,"L範囲とI範囲で表示絞る …却下。L値が何も出ないと気付きが得られない。条件書式設定でNGを示す。",null,null,null,null,null,null,null,null,null,null,null,null,null,null,null,null,null,null,null,null,null,null,"Mode",{"$f":"IF(CA1=CA2,\"\",IF(CA1>CA2,\"Buck\",\"Boost\"))","v":"Buck"}]
[null,null,null,null,null,null,null,null,null,null,null,null,null,null,null,null,null,null,null,null,null,null,null,null,null,null,null,null,null,null,null,null,null,null,null,null,null,null,null,null,null,null,null,null,null,null,null,null,null,null,null,null,null,null,"=IF(Q11>='DCDC Ref'!$J$29*'DCDC Ref'!$J$30/100,0,\nIF(Q11<='DCDC Ref'!$J$29*'DCDC Ref'!$J$31/100,0,\nIF(X11<('DCDC Ref'!$J$24/'DCDC Ref'!$J$27)*'DCDC Ref'!$J$25/100,0,1)))",null,null,null,null,null,null,null,null,null,null,null,null,null,null,null,null,null,null,null,null,null,null,"Iout",{"$f":"'DCDC Ref'!J24","v":20},null,"A"]
[null,null,null,null,null,null,null,null,null,null,null,null,null,null,null,null,null,null,null,null,null,null,null,null,null,null,null,null,null,null,null,null,null,null,null,null,null,null,null,null,null,null,null,null,null,null,null,null,null,null,null,null,null,null,"I範囲で表示絞る …適用中。多少Lずれてもいいが、電流値は必須要件。",null,null,null,null,null,null,null,null,null,null,null,null,null,null,null,null,null,null,null,null,null,null,"Fsw",{"$f":"'DCDC Ref'!J25","v":100},null,"kHz"]
[null,null,null,null,null,null,null,null,null,null,null,null,null,null,null,null,null,null,null,null,null,null,null,null,null,null,null,null,null,null,null,null,null,null,null,null,null,null,null,null,null,null,null,null,null,null,null,null,null,null,null,null,null,null,"=IF(X11<('DCDC Ref'!$J$24/'DCDC Ref'!$J$27)*'DCDC Ref'!$J$25/100,0,1)",null,null,null,null,null,null,null,null,null,null,null,"L Weight",5000,null,null,null,null,null,null,null,null,null,"Phase",{"$f":"'DCDC Ref'!J26","v":1},null,"ph"]
[null,null,null,null,null,null,null,null,null,null,null,null,null,null,null,null,null,null,null,null,null,null,null,null,null,null,null,null,null,null,null,null,null,null,null,null,null,null,null,null,null,null,null,null,null,null,null,null,null,null,null,null,null,null,null,"o",null,null,"x",null,null,"o",null,null,null,null,"I1,I2 Weight",5,null,null,null,null,null,null,null,null,null,"Ripple",{"$f":"'DCDC Ref'!J27","v":30},null,"%"]
[null,"上記からcsvでWeb公開品(カタログ品)の品番リストをDLし、Part Number列の最下に貼り付け氏、重複条件付き書式でカタログ品のみへフィルタリングした。",null,null,null,null,null,null,null,null,null,null,null,null,null,null,null,null,null,null,"DCR",null,null,"I (⊿T)","I (⊿T)","Isat ⊿L=-30%","Isat ⊿L=-20%","Max Operating Voltage (V)",null,null,null,null,"Dimmension (mm)",null,null,null,null,null,"Vibration",null,"L1(at Ir) *Consumer product only",null,null,null,null,null,null,null,null,null,null,null,null,null,"※Isat(-30%)選択中","L",null,null,"I1",null,null,"I2",null,null,null,null,null,null,null,null,null,null,null,null,null,null,null,"L",{"$f":"'DCDC Ref'!J30","v":6.3194444444444446},null,"uH"]
[null,"↓",null,null,null,null,null,null,null,null,null,null,null,null,"Part Number ",null,"L(uH)",null,null,"%","typ(mΩ)","max(mΩ)","Tol. (%)","method B","method A","typ(A)","typ(A)",null,null,null,null,null,null,null,null,null,null,null,null,null,"L(uH)",null,"%","at Ir",null,null,null,null,null,null,null,null,null,null,"↓","L値",null,null,"I rated値 (Method B)",null,null,"Isat値 (-30%)"]
["Original Order","カタログ品","確認メモ","Check","Renewal Date","Status","Maker","Type","Core","Category","Feature","Series","Series (Size)","Automotive Grade","Part Number","仮1","Lo (uH)","Lo RangeXX","Lo Range (uH)","Lo Tol. (%)","DCR Typ (mOhm)","DCR Max (mOhm)","DCR Tol. (%)","Method B (A typ at 40℃)","Method A (A typ at 40℃)","⊿L=-30% \ntyp (A)","⊿L=-20% \ntyp (A)","L (mm)","W (mm)","Max Height (mm)","Area (mm2)","Size (mm)","Rough Size (mm)","Max Height Range (mm)","Min Temp (deg.C)","Max Temp (deg.C)","Temp Range (deg.C)","Max Voltage (V)","Vibration","MPQ","L1 (uH)","Rough L1 (uH)","L1 Tol. (%)","Ir (A)","URL","Image URL","add3","add4","add5",null,null,null,null,null,"該非判定","%_Diff_L","ABS",null,"%_Diff_I","NegaDown",null,"%_Diff_I","NegaDown",null,null,null,null,null,"L+I Weighted","小差順位(同一値も連番)","除外後順位","一致一覧","提案表示"]
[37,"〇",null,"OK",null,"MP","Panasonic","SMD","Metal Composite","PCC","High Isat (Standard)","5M-YLC","PCC-M1050ML","Yes","ETQP5MR33YLC",{"$f":"MID(All_PCC_a[[#This Row],[Part Number]],7,3)","v":"R33"},0.33,{"$f":"IF(All_PCC_a[[#This Row],[Lo (uH)]]<1,\"<1\",IF(All_PCC_a[[#This Row],[Lo (uH)]]<10,\"<10\",IF(All_PCC_a[[#This Row],[Lo (uH)]]<100,\"<100\",IF(All_PCC_a[[#This Row],[Lo (uH)]]<2000,\"<2000\",\"\"))))","v":"<1"},{"$f":"IFERROR(VLOOKUP(All_PCC_a[[#This Row],[Lo (uH)]],Utility!$D$5:$E$43,2,1),\"-\")","v":"≤    0.4"},0.2,1.1000000000000001,1.21,10,39.700000000000003,33.200000000000003,56.7,42.63,10.9,10,5,{"$f":"ROUND(All_PCC_a[[#This Row],[L (mm)]]*All_PCC_a[[#This Row],[W (mm)]],1)","v":109},{"$f":"All_PCC_a[[#This Row],[L (mm)]]&\"  x  \"&All_PCC_a[[#This Row],[W (mm)]]","v":"10.9  x  10"},"10 x 10",{"$f":"IF(All_PCC_a[[#This Row],[Max Height (mm)]]<=9,\"≤ \"&ROUNDUP(AD11,0),\"≤\"&ROUNDUP(AD11,0))","v":"≤ 5"},-40,150,{"$f":"All_PCC_a[[#This Row],[Min Temp (deg.C)]]&\" to +\"&All_PCC_a[[#This Row],[Max Temp (deg.C)]]","v":"-40 to +150"},null,null,null,"-",{"$f":"IFERROR(IF(L1Round>1,ROUND(L1Round,1),L1Round),\"-\")","v":"-"},"-","-","https://industrial.panasonic.com/ww/products/pt/automotive-inductors/models/ETQP5MR33YLC","https://industrial.panasonic.com/content/data/CC/pictures/lineup-Metal-core.gif",{"$f":"_xlfn.IMAGE(All_PCC_a[[#This Row],[Image URL]])","v":{"$error":"#VALUE!"}},null,null,null,{"$f":"--ISNUMBER(IFERROR(SEARCH(#REF!,'[1]All Data'!M40,1),\"no match\"))","v":0},{"$f":"IF(AY11=1,COUNTIF($AY$11:AY11,1),\"\")","v":""},null,null,{"$f":"IF(Z11<('DCDC Ref'!$J$24/'DCDC Ref'!$J$26)*'DCDC Ref'!$J$28/100,0,1)","v":1},{"$f":"IF(BC11=1000000000,\"\",('All Data'!Q11-'DCDC Ref'!$J$30)/'DCDC Ref'!$J$30*100)","v":-94.778021978021982},{"$f":"ABS(BD11)","v":94.778021978021982},null,null,{"$f":"IF(BG11<0,10000,BG11)","v":0},null,{"$f":"IF(BC11=0,\"\",('All Data'!Z11-'DCDC Ref'!$J$28*('DCDC Ref'!$J$29/100))/'DCDC Ref'!$J$28*('DCDC Ref'!$J$29/100)*100)","v":154.17241379310346},{"$f":"IF(BJ11<0,10000,BJ11)","v":154.17241379310346},null,null,null,null,null,{"$f":"IFERROR(BE11*$BP$6+BK11*$BP$7,\"\")","v":474660.97195907542},{"$f":"IF(BQ11=\"\",\"\",RANK(BQ11,BQ$11:BQ$9927,1)+COUNTIF(BQ$11:BQ11,BQ11)-1)","v":84},{"$f":"RANK(BR11,BR$11:BR$9927,1)","v":84},{"$f":"IFERROR(INDEX($O$11:$O$1004,MATCH(ROWS($BS$11:BS11),$BS$11:$BS$1002,0)),\"\")","v":"ETQP4M6R8YFN"},{"$f":"IF(BT11<>\"\",BT11,\"\")","v":"ETQP4M6R8YFN"}]
[45,"〇","2023/3/10MP,  2022/5/27 UD扱いへ(誤記だったとのこと)。2022/1/12 MPカタログ扱いへ。2021/11/12カタログUD 扱い。2021/3/23追加。","OK",null,"MP","Panasonic","SMD","Metal Composite","PCC","High Current (≥□12)","8M-JFA","PCC-M1280MF","Yes","ETQP8MR33JFA",{"$f":"MID(All_PCC_a[[#This Row],[Part Number]],7,3)","v":"R33"},0.33,{"$f":"IF(All_PCC_a[[#This Row],[Lo (uH)]]<1,\"<1\",IF(All_PCC_a[[#This Row],[Lo (uH)]]<10,\"<10\",IF(All_PCC_a[[#This Row],[Lo (uH)]]<100,\"<100\",IF(All_PCC_a[[#This Row],[Lo (uH)]]<2000,\"<2000\",\"\"))))","v":"<1"},{"$f":"IFERROR(VLOOKUP(All_PCC_a[[#This Row],[Lo (uH)]],Utility!$D$5:$E$43,2,1),\"-\")","v":"≤    0.4"},0.2,0.7,0.77,10,53.5,44.4,84.5,{"$f":"ROUND(55.8461538461538,2)","v":55.85},12.6,13.2,8,{"$f":"ROUND(All_PCC_a[[#This Row],[L (mm)]]*All_PCC_a[[#This Row],[W (mm)]],1)","v":166.3},{"$f":"All_PCC_a[[#This Row],[L (mm)]]&\"  x  \"&All_PCC_a[[#This Row],[W (mm)]]","v":"12.6  x  13.2"},"12 x 12",{"$f":"IF(All_PCC_a[[#This Row],[Max Height (mm)]]<=9,\"≤ \"&ROUNDUP(AD12,0),\"≤\"&ROUNDUP(AD12,0))","v":"≤ 8"},-40,160,{"$f":"All_PCC_a[[#This Row],[Min Temp (deg.C)]]&\" to +\"&All_PCC_a[[#This Row],[Max Temp (deg.C)]]","v":"-40 to +160"},null,null,"15Gと聞いたがカタログは30G","-",{"$f":"IFERROR(IF(L1Round>1,ROUND(L1Round,1),L1Round),\"-\")","v":"-"},"-","-","https://industrial.panasonic.com/ww/products/pt/automotive-inductors/models/ETQP8MR33JFA","https://industrial.panasonic.com/content/data/CC/pictures/lineup-Large%20current.gif",{"$f":"_xlfn.IMAGE(All_PCC_a[[#This Row],[Image URL]])","v":{"$error":"#VALUE!"}},null,null,null,{"$f":"--ISNUMBER(IFERROR(SEARCH(#REF!,'[1]All Data'!M41,1),\"no match\"))","v":0},{"$f":"IF(AY12=1,COUNTIF($AY$11:AY12,1),\"\")","v":""},null,null,{"$f":"IF(Z12<('DCDC Ref'!$J$24/'DCDC Ref'!$J$26)*'DCDC Ref'!$J$28/100,0,1)","v":1},{"$f":"IF(BC12=0,\"\",('All Data'!Q12-'DCDC Ref'!$J$30)/'DCDC Ref'!$J$30*100)","v":-94.778021978021982},{"$f":"ABS(BD12)","v":94.778021978021982},null,null,0,null,{"$f":"IF(BC12=0,\"\",('All Data'!Z12-'DCDC Ref'!$J$28*('DCDC Ref'!$J$29/100))/'DCDC Ref'!$J$28*('DCDC Ref'!$J$29/100)*100)","v":278.79310344827582},278.79310344827582,null,null,null,null,null,{"$f":"IFERROR(BE12*$BP$6+BK12*$BP$7,\"\")","v":475284.07540735131},{"$f":"IF(BQ12=\"\",\"\",RANK(BQ12,BQ$11:BQ$9927,1)+COUNTIF(BQ$11:BQ12,BQ12)-1)","v":85},85,{"$f":"IFERROR(INDEX($O$11:$O$1004,MATCH(ROWS($BS$11:BS12),$BS$11:$BS$1002,0)),\"\")","v":"ETQP5M6R8YFM"},{"$f":"IF(BT12<>\"\",BT12,\"\")","v":"ETQP5M6R8YFM"}]
[106,"〇",null,"OK",null,"MP","Panasonic","SMD","Metal Composite","PCC","LP (Low Profile)","3M-KVP","PCC-M0530M-LP","Yes","ETQP3MR33KVP",{"$f":"MID(All_PCC_a[[#This Row],[Part Number]],7,3)","v":"R33"},0.33,{"$f":"IF(All_PCC_a[[#This Row],[Lo (uH)]]<1,\"<1\",IF(All_PCC_a[[#This Row],[Lo (uH)]]<10,\"<10\",IF(All_PCC_a[[#This Row],[Lo (uH)]]<100,\"<100\",IF(All_PCC_a[[#This Row],[Lo (uH)]]<2000,\"<2000\",\"\"))))","v":"<1"},{"$f":"IFERROR(VLOOKUP(All_PCC_a[[#This Row],[Lo (uH)]],Utility!$D$5:$E$43,2,1),\"-\")","v":"≤    0.4"},0.2,4.8499999999999996,5.34,10,12.7,10.6,21.8,14.5,5.5,5,3,{"$f":"ROUND(All_PCC_a[[#This Row],[L (mm)]]*All_PCC_a[[#This Row],[W (mm)]],1)","v":27.5},{"$f":"All_PCC_a[[#This Row],[L (mm)]]&\"  x  \"&All_PCC_a[[#This Row],[W (mm)]]","v":"5.5  x  5"},"_5 x 5",{"$f":"IF(All_PCC_a[[#This Row],[Max Height (mm)]]<=9,\"≤ \"&ROUNDUP(AD13,0),\"≤\"&ROUNDUP(AD13,0))","v":"≤ 3"},-55,155,{"$f":"All_PCC_a[[#This Row],[Min Temp (deg.C)]]&\" to +\"&All_PCC_a[[#This Row],[Max Temp (deg.C)]]","v":"-55 to +155"},null,null,null,"-",{"$f":"IFERROR(IF(L1Round>1,ROUND(L1Round,1),L1Round),\"-\")","v":"-"},"-","-","https://industrial.panasonic.com/ww/products/pt/automotive-inductors/models/ETQP3MR33KVP","https://industrial.panasonic.com/content/data/CC/pictures/lineup-LP.gif",{"$f":"_xlfn.IMAGE(All_PCC_a[[#This Row],[Image URL]])","v":{"$error":"#VALUE!"}},null,null,null,null,null,null,null,{"$f":"IF(Z13<('DCDC Ref'!$J$24/'DCDC Ref'!$J$26)*'DCDC Ref'!$J$28/100,0,1)","v":1},{"$f":"IF(BC13=0,\"\",('All Data'!Q13-'DCDC Ref'!$J$30)/'DCDC Ref'!$J$30*100)","v":-94.778021978021982},94.778021978021982,null,null,0,null,{"$f":"IF(BC13=0,\"\",('All Data'!Z13-'DCDC Ref'!$J$28*('DCDC Ref'!$J$29/100))/'DCDC Ref'!$J$28*('DCDC Ref'!$J$29/100)*100)","v":-2.2758620689655249},10000,null,null,null,null,null,523890.10989010992,{"$f":"IF(BQ13=\"\",\"\",RANK(BQ13,BQ$11:BQ$9927,1)+COUNTIF(BQ$11:BQ13,BQ13)-1)","v":90},90,{"$f":"IFERROR(INDEX($O$11:$O$1004,MATCH(ROWS($BS$11:BS13),$BS$11:$BS$1002,0)),\"\")","v":"ETQP3M6R8KVP"},"ETQP3M6R8KVP"]
[116,"〇","2022-04-26","OK",null,"MP","Panasonic","SMD","Metal Composite","PCC","LP (Low Profile)","3M-KVP","PCC-M0530M-LP","Yes","ETQP3MR47KVP",{"$f":"MID(All_PCC_a[[#This Row],[Part Number]],7,3)","v":"R47"},0.47,{"$f":"IF(All_PCC_a[[#This Row],[Lo (uH)]]<1,\"<1\",IF(All_PCC_a[[#This Row],[Lo (uH)]]<10,\"<10\",IF(All_PCC_a[[#This Row],[Lo (uH)]]<100,\"<100\",IF(All_PCC_a[[#This Row],[Lo (uH)]]<2000,\"<2000\",\"\"))))","v":"<1"},{"$f":"IFERROR(VLOOKUP(All_PCC_a[[#This Row],[Lo (uH)]],Utility!$D$5:$E$43,2,1),\"-\")","v":"≤    0.5"},0.2,5.8,6.38,10,11.6,9.6,17.899999999999999,12.9,5.5,5,3,{"$f":"ROUND(All_PCC_a[[#This Row],[L (mm)]]*All_PCC_a[[#This Row],[W (mm)]],1)","v":27.5},{"$f":"All_PCC_a[[#This Row],[L (mm)]]&\"  x  \"&All_PCC_a[[#This Row],[W (mm)]]","v":"5.5  x  5"},"_5 x 5",{"$f":"IF(All_PCC_a[[#This Row],[Max Height (mm)]]<=9,\"≤ \"&ROUNDUP(AD14,0),\"≤\"&ROUNDUP(AD14,0))","v":"≤ 3"},-55,155,{"$f":"All_PCC_a[[#This Row],[Min Temp (deg.C)]]&\" to +\"&All_PCC_a[[#This Row],[Max Temp (deg.C)]]","v":"-55 to +155"},null,null,null,"-","-","-","-","https://industrial.panasonic.com/ww/products/pt/automotive-inductors/models/ETQP3MR47KVP","https://industrial.panasonic.com/content/data/CC/pictures/lineup-LP.gif",{"$f":"_xlfn.IMAGE(All_PCC_a[[#This Row],[Image URL]])","v":{"$error":"#VALUE!"}},null,null,null,{"$f":"--ISNUMBER(IFERROR(SEARCH(#REF!,'[1]All Data'!M42,1),\"no match\"))","v":0},{"$f":"IF(AY14=1,COUNTIF($AY$11:AY14,1),\"\")","v":""},null,null,{"$f":"IF(Z14<('DCDC Ref'!$J$24/'DCDC Ref'!$J$26)*'DCDC Ref'!$J$28/100,0,1)","v":1},{"$f":"IF(BC14=0,\"\",('All Data'!Q14-'DCDC Ref'!$J$30)/'DCDC Ref'!$J$30*100)","v":-92.562637362637361},92.562637362637361,null,null,0,null,{"$f":"IF(BC14=0,\"\",('All Data'!Z14-'DCDC Ref'!$J$28*('DCDC Ref'!$J$29/100))/'DCDC Ref'!$J$28*('DCDC Ref'!$J$29/100)*100)","v":-19.758620689655189},10000,null,null,null,null,null,512813.1868131868,{"$f":"IF(BQ14=\"\",\"\",RANK(BQ14,BQ$11:BQ$9927,1)+COUNTIF(BQ$11:BQ14,BQ14)-1)","v":89},89,{"$f":"IFERROR(INDEX($O$11:$O$1004,MATCH(ROWS($BS$11:BS14),$BS$11:$BS$1002,0)),\"\")","v":"ETQP3M6R8KVN"},"ETQP3M6R8KVN"]
[119,"〇","2022/6/30カタログ追加","OK",null,"MP","Panasonic","SMD","Metal Composite","PCC","High Isat (Standard)","4M-KLC","PCC-M1040ML","Yes","ETQP4MR47KLC",{"$f":"MID(All_PCC_a[[#This Row],[Part Number]],7,3)","v":"R47"},0.47,{"$f":"IF(All_PCC_a[[#This Row],[Lo (uH)]]<1,\"<1\",IF(All_PCC_a[[#This Row],[Lo (uH)]]<10,\"<10\",IF(All_PCC_a[[#This Row],[Lo (uH)]]<100,\"<100\",IF(All_PCC_a[[#This Row],[Lo (uH)]]<2000,\"<2000\",\"\"))))","v":"<1"},{"$f":"IFERROR(VLOOKUP(All_PCC_a[[#This Row],[Lo (uH)]],Utility!$D$5:$E$43,2,1),\"-\")","v":"≤    0.5"},0.2,1.53,1.68,10,31.1,24.9,47.3,33.200000000000003,10.9,10,4,{"$f":"ROUND(All_PCC_a[[#This Row],[L (mm)]]*All_PCC_a[[#This Row],[W (mm)]],1)","v":109},{"$f":"All_PCC_a[[#This Row],[L (mm)]]&\"  x  \"&All_PCC_a[[#This Row],[W (mm)]]","v":"10.9  x  10"},"10 x 10",{"$f":"IF(All_PCC_a[[#This Row],[Max Height (mm)]]<=9,\"≤ \"&ROUNDUP(AD15,0),\"≤\"&ROUNDUP(AD15,0))","v":"≤ 4"},-40,150,{"$f":"All_PCC_a[[#This Row],[Min Temp (deg.C)]]&\" to +\"&All_PCC_a[[#This Row],[Max Temp (deg.C)]]","v":"-40 to +150"},null,null,null,"-",{"$f":"IFERROR(IF(L1Round>1,ROUND(L1Round,1),L1Round),\"-\")","v":"-"},"-","-","https://industrial.panasonic.com/ww/products/pt/automotive-inductors/models/ETQP4MR47KLC","https://industrial.panasonic.com/content/data/CC/pictures/lineup-Metal-core.gif",{"$f":"_xlfn.IMAGE(All_PCC_a[[#This Row],[Image URL]])","v":{"$error":"#VALUE!"}},null,null,null,{"$f":"--ISNUMBER(IFERROR(SEARCH(#REF!,'[1]All Data'!M43,1),\"no match\"))","v":0},{"$f":"IF(AY15=1,COUNTIF($AY$11:AY15,1),\"\")","v":""},null,null,{"$f":"IF(Z15<('DCDC Ref'!$J$24/'DCDC Ref'!$J$26)*'DCDC Ref'!$J$28/100,0,1)","v":1},{"$f":"IF(BC15=0,\"\",('All Data'!Q15-'DCDC Ref'!$J$30)/'DCDC Ref'!$J$30*100)","v":-92.562637362637361},92.562637362637361,null,null,0,null,{"$f":"IF(BC15=0,\"\",('All Data'!Z15-'DCDC Ref'!$J$28*('DCDC Ref'!$J$29/100))/'DCDC Ref'!$J$28*('DCDC Ref'!$J$29/100)*100)","v":112.03448275862064},112.03448275862064,null,null,null,null,null,463373.3592269799,{"$f":"IF(BQ15=\"\",\"\",RANK(BQ15,BQ$11:BQ$9927,1)+COUNTIF(BQ$11:BQ15,BQ15)-1)","v":80},80,{"$f":"IFERROR(INDEX($O$11:$O$1004,MATCH(ROWS($BS$11:BS15),$BS$11:$BS$1002,0)),\"\")","v":"ETQP4M6R8KVK"},"ETQP4M6R8KVK"]
[1,"〇",null,"OK",null,"MP","Panasonic","SMD","Metal Composite","PCC","High Isat (Standard)","3M-YFN","PCC-M0630M","Yes","ETQP3MR68YFN",{"$f":"MID(All_PCC_a[[#This Row],[Part Number]],7,3)","v":"R68"},0.68,{"$f":"IF(All_PCC_a[[#This Row],[Lo (uH)]]<1,\"<1\",IF(All_PCC_a[[#This Row],[Lo (uH)]]<10,\"<10\",IF(All_PCC_a[[#This Row],[Lo (uH)]]<100,\"<100\",IF(All_PCC_a[[#This Row],[Lo (uH)]]<2000,\"<2000\",\"\"))))","v":"<1"},{"$f":"IFERROR(VLOOKUP(All_PCC_a[[#This Row],[Lo (uH)]],Utility!$D$5:$E$43,2,1),\"-\")","v":"≤    0.7"},0.2,6.3,6.9300000000000006,10,12,9.8000000000000007,24,17.66,6.5,6,3,{"$f":"ROUND(All_PCC_a[[#This Row],[L (mm)]]*All_PCC_a[[#This Row],[W (mm)]],1)","v":39},{"$f":"All_PCC_a[[#This Row],[L (mm)]]&\"  x  \"&All_PCC_a[[#This Row],[W (mm)]]","v":"6.5  x  6"},"_6 x 6",{"$f":"IF(All_PCC_a[[#This Row],[Max Height (mm)]]<=9,\"≤ \"&ROUNDUP(AD16,0),\"≤\"&ROUNDUP(AD16,0))","v":"≤ 3"},-40,150,{"$f":"All_PCC_a[[#This Row],[Min Temp (deg.C)]]&\" to +\"&All_PCC_a[[#This Row],[Max Temp (deg.C)]]","v":"-40 to +150"},null,null,null,"-","-","-","-","https://industrial.panasonic.com/ww/products/pt/automotive-inductors/models/ETQP3MR68YFN","https://industrial.panasonic.com/content/data/CC/pictures/lineup-Metal-core.gif",{"$f":"_xlfn.IMAGE(All_PCC_a[[#This Row],[Image URL]])","v":{"$error":"#VALUE!"}},null,null,null,null,null,null,null,{"$f":"IF(Z16<('DCDC Ref'!$J$24/'DCDC Ref'!$J$26)*'DCDC Ref'!$J$28/100,0,1)","v":1},{"$f":"IF(BC16=0,\"\",('All Data'!Q16-'DCDC Ref'!$J$30)/'DCDC Ref'!$J$30*100)","v":-89.239560439560435},89.239560439560435,null,null,0,null,{"$f":"IF(BC16=0,\"\",('All Data'!Z16-'DCDC Ref'!$J$28*('DCDC Ref'!$J$29/100))/'DCDC Ref'!$J$28*('DCDC Ref'!$J$29/100)*100)","v":7.5862068965517127},7.5862068965517127,null,null,null,null,null,446235.73323228495,{"$f":"IF(BQ16=\"\",\"\",RANK(BQ16,BQ$11:BQ$9927,1)+COUNTIF(BQ$11:BQ16,BQ16)-1)","v":74},74,{"$f":"IFERROR(INDEX($O$11:$O$1004,MATCH(ROWS($BS$11:BS16),$BS$11:$BS$1002,0)),\"\")","v":"ETQP4M6R8KVC"},"ETQP4M6R8KVC"]
[38,"〇",null,"OK",null,"MP","Panasonic","SMD","Metal Composite","PCC","High Isat (Standard)","5M-YLC","PCC-M1050ML","Yes","ETQP5MR68YLC",{"$f":"MID(All_PCC_a[[#This Row],[Part Number]],7,3)","v":"R68"},0.68,{"$f":"IF(All_PCC_a[[#This Row],[Lo (uH)]]<1,\"<1\",IF(All_PCC_a[[#This Row],[Lo (uH)]]<10,\"<10\",IF(All_PCC_a[[#This Row],[Lo (uH)]]<100,\"<100\",IF(All_PCC_a[[#This Row],[Lo (uH)]]<2000,\"<2000\",\"\"))))","v":"<1"},{"$f":"IFERROR(VLOOKUP(All_PCC_a[[#This Row],[Lo (uH)]],Utility!$D$5:$E$43,2,1),\"-\")","v":"≤    0.7"},0.2,1.75,1.93,10,31.5,26.3,40,28.37,10.9,10,5,{"$f":"ROUND(All_PCC_a[[#This Row],[L (mm)]]*All_PCC_a[[#This Row],[W (mm)]],1)","v":109},{"$f":"All_PCC_a[[#This Row],[L (mm)]]&\"  x  \"&All_PCC_a[[#This Row],[W (mm)]]","v":"10.9  x  10"},"10 x 10",{"$f":"IF(All_PCC_a[[#This Row],[Max Height (mm)]]<=9,\"≤ \"&ROUNDUP(AD17,0),\"≤\"&ROUNDUP(AD17,0))","v":"≤ 5"},-40,150,{"$f":"All_PCC_a[[#This Row],[Min Temp (deg.C)]]&\" to +\"&All_PCC_a[[#This Row],[Max Temp (deg.C)]]","v":"-40 to +150"},null,null,null,"-","-","-","-","https://industrial.panasonic.com/ww/products/pt/automotive-inductors/models/ETQP5MR68YLC","https://industrial.panasonic.com/content/data/CC/pictures/lineup-Metal-core.gif",{"$f":"_xlfn.IMAGE(All_PCC_a[[#This Row],[Image URL]])","v":{"$error":"#VALUE!"}},null,null,null,null,null,null,null,{"$f":"IF(Z17<('DCDC Ref'!$J$24/'DCDC Ref'!$J$26)*'DCDC Ref'!$J$28/100,0,1)","v":1},{"$f":"IF(BC17=0,\"\",('All Data'!Q17-'DCDC Ref'!$J$30)/'DCDC Ref'!$J$30*100)","v":-89.239560439560435},89.239560439560435,null,null,0,null,{"$f":"IF(BC17=0,\"\",('All Data'!Z17-'DCDC Ref'!$J$28*('DCDC Ref'!$J$29/100))/'DCDC Ref'!$J$28*('DCDC Ref'!$J$29/100)*100)","v":79.310344827586192},79.310344827586192,null,null,null,null,null,446594.35392194008,{"$f":"IF(BQ17=\"\",\"\",RANK(BQ17,BQ$11:BQ$9927,1)+COUNTIF(BQ$11:BQ17,BQ17)-1)","v":76},76,{"$f":"IFERROR(INDEX($O$11:$O$1004,MATCH(ROWS($BS$11:BS17),$BS$11:$BS$1002,0)),\"\")","v":"ETQP4M6R8KFN"},"ETQP4M6R8KFN"]
[46,"〇",null,"OK",null,"MP","Panasonic","SMD","Metal Composite","PCC","High Current (≥□12)","8M-JFA","PCC-M1280MF","Yes","ETQP8MR68JFA",{"$f":"MID(All_PCC_a[[#This Row],[Part Number]],7,3)","v":"R68"},0.68,{"$f":"IF(All_PCC_a[[#This Row],[Lo (uH)]]<1,\"<1\",IF(All_PCC_a[[#This Row],[Lo (uH)]]<10,\"<10\",IF(All_PCC_a[[#This Row],[Lo (uH)]]<100,\"<100\",IF(All_PCC_a[[#This Row],[Lo (uH)]]<2000,\"<2000\",\"\"))))","v":"<1"},{"$f":"IFERROR(VLOOKUP(All_PCC_a[[#This Row],[Lo (uH)]],Utility!$D$5:$E$43,2,1),\"-\")","v":"≤    0.7"},0.2,1.1000000000000001,1.21,10,42.6,35.4,56.9,{"$f":"ROUND(40.3333333333333,2)","v":40.33},12.6,13.2,8,{"$f":"ROUND(All_PCC_a[[#This Row],[L (mm)]]*All_PCC_a[[#This Row],[W (mm)]],1)","v":166.3},{"$f":"All_PCC_a[[#This Row],[L (mm)]]&\"  x  \"&All_PCC_a[[#This Row],[W (mm)]]","v":"12.6  x  13.2"},"12 x 12",{"$f":"IF(All_PCC_a[[#This Row],[Max Height (mm)]]<=9,\"≤ \"&ROUNDUP(AD18,0),\"≤\"&ROUNDUP(AD18,0))","v":"≤ 8"},-40,160,{"$f":"All_PCC_a[[#This Row],[Min Temp (deg.C)]]&\" to +\"&All_PCC_a[[#This Row],[Max Temp (deg.C)]]","v":"-40 to +160"},null,null,"15Gと聞いたがカタログは30G","-","-","-","-","https://industrial.panasonic.com/ww/products/pt/automotive-inductors/models/ETQP8MR68JFA","https://industrial.panasonic.com/content/data/CC/pictures/lineup-Large%20current.gif",{"$f":"_xlfn.IMAGE(All_PCC_a[[#This Row],[Image URL]])","v":{"$error":"#VALUE!"}},null,null,null,{"$f":"--ISNUMBER(IFERROR(SEARCH(#REF!,'[1]All Data'!M44,1),\"no match\"))","v":0},{"$f":"IF(AY18=1,COUNTIF($AY$11:AY18,1),\"\")","v":""},null,null,{"$f":"IF(Z18<('DCDC Ref'!$J$24/'DCDC Ref'!$J$26)*'DCDC Ref'!$J$28/100,0,1)","v":1},{"$f":"IF(BC18=0,\"\",('All Data'!Q18-'DCDC Ref'!$J$30)/'DCDC Ref'!$J$30*100)","v":-89.239560439560435},89.239560439560435,null,null,0,null,{"$f":"IF(BC18=0,\"\",('All Data'!Z18-'DCDC Ref'!$J$28*('DCDC Ref'!$J$29/100))/'DCDC Ref'!$J$28*('DCDC Ref'!$J$29/100)*100)","v":155.06896551724131},155.06896551724131,null,null,null,null,null,446973.14702538837,{"$f":"IF(BQ18=\"\",\"\",RANK(BQ18,BQ$11:BQ$9927,1)+COUNTIF(BQ$11:BQ18,BQ18)-1)","v":78},78,{"$f":"IFERROR(INDEX($O$11:$O$1004,MATCH(ROWS($BS$11:BS18),$BS$11:$BS$1002,0)),\"\")","v":"ETQP6M4R7YLC"},"ETQP6M4R7YLC"]
[59,"〇",null,"OK",null,"MP","Panasonic","SMD","Metal Composite","PCC","LP (Low Profile)","3M-KVP","PCC-M0530M-LP","Yes","ETQP3MR68KVP",{"$f":"MID(All_PCC_a[[#This Row],[Part Number]],7,3)","v":"R68"},0.68,{"$f":"IF(All_PCC_a[[#This Row],[Lo (uH)]]<1,\"<1\",IF(All_PCC_a[[#This Row],[Lo (uH)]]<10,\"<10\",IF(All_PCC_a[[#This Row],[Lo (uH)]]<100,\"<100\",IF(All_PCC_a[[#This Row],[Lo (uH)]]<2000,\"<2000\",\"\"))))","v":"<1"},{"$f":"IFERROR(VLOOKUP(All_PCC_a[[#This Row],[Lo (uH)]],Utility!$D$5:$E$43,2,1),\"-\")","v":"≤    0.7"},0.2,7.6,8.36,10,10.199999999999999,8.4,15.9,10.4,5.5,5,3,{"$f":"ROUND(All_PCC_a[[#This Row],[L (mm)]]*All_PCC_a[[#This Row],[W (mm)]],1)","v":27.5},{"$f":"All_PCC_a[[#This Row],[L (mm)]]&\"  x  \"&All_PCC_a[[#This Row],[W (mm)]]","v":"5.5  x  5"},"_5 x 5",{"$f":"IF(All_PCC_a[[#This Row],[Max Height (mm)]]<=9,\"≤ \"&ROUNDUP(AD19,0),\"≤\"&ROUNDUP(AD19,0))","v":"≤ 3"},-55,155,{"$f":"All_PCC_a[[#This Row],[Min Temp (deg.C)]]&\" to +\"&All_PCC_a[[#This Row],[Max Temp (deg.C)]]","v":"-55 to +155"},null,null,null,"-","-","-","-","https://industrial.panasonic.com/ww/products/pt/automotive-inductors/models/ETQP3MR68KVP","https://industrial.panasonic.com/content/data/CC/pictures/lineup-LP.gif",{"$f":"_xlfn.IMAGE(All_PCC_a[[#This Row],[Image URL]])","v":{"$error":"#VALUE!"}},null,null,null,{"$f":"--ISNUMBER(IFERROR(SEARCH(#REF!,'[1]All Data'!M45,1),\"no match\"))","v":0},{"$f":"IF(AY19=1,COUNTIF($AY$11:AY19,1),\"\")","v":""},null,null,{"$f":"IF(Z19<('DCDC Ref'!$J$24/'DCDC Ref'!$J$26)*'DCDC Ref'!$J$28/100,0,1)","v":1},{"$f":"IF(BC19=0,\"\",('All Data'!Q19-'DCDC Ref'!$J$30)/'DCDC Ref'!$J$30*100)","v":-89.239560439560435},89.239560439560435,null,null,0,null,{"$f":"IF(BC19=0,\"\",('All Data'!Z19-'DCDC Ref'!$J$28*('DCDC Ref'!$J$29/100))/'DCDC Ref'!$J$28*('DCDC Ref'!$J$29/100)*100)","v":-28.724137931034488},10000,null,null,null,null,null,496197.80219780217,{"$f":"IF(BQ19=\"\",\"\",RANK(BQ19,BQ$11:BQ$9927,1)+COUNTIF(BQ$11:BQ19,BQ19)-1)","v":87},87,{"$f":"IFERROR(INDEX($O$11:$O$1004,MATCH(ROWS($BS$11:BS19),$BS$11:$BS$1002,0)),\"\")","v":"ETQP8M4R7JFA"},"ETQP8M4R7JFA"]
[70,"〇",null,"OK",null,"MP","Panasonic","SMD","Metal Composite","PCC","LP (Low Profile)","3M-KVN","PCC-M0630M-LP","Yes","ETQP3MR68KVN",{"$f":"MID(All_PCC_a[[#This Row],[Part Number]],7,3)","v":"R68"},0.68,{"$f":"IF(All_PCC_a[[#This Row],[Lo (uH)]]<1,\"<1\",IF(All_PCC_a[[#This Row],[Lo (uH)]]<10,\"<10\",IF(All_PCC_a[[#This Row],[Lo (uH)]]<100,\"<100\",IF(All_PCC_a[[#This Row],[Lo (uH)]]<2000,\"<2000\",\"\"))))","v":"<1"},{"$f":"IFERROR(VLOOKUP(All_PCC_a[[#This Row],[Lo (uH)]],Utility!$D$5:$E$43,2,1),\"-\")","v":"≤    0.7"},0.2,5.2,5.7200000000000006,10,13.2,10.8,20.2,14.25,6.4,6,3,{"$f":"ROUND(All_PCC_a[[#This Row],[L (mm)]]*All_PCC_a[[#This Row],[W (mm)]],1)","v":38.4},{"$f":"All_PCC_a[[#This Row],[L (mm)]]&\"  x  \"&All_PCC_a[[#This Row],[W (mm)]]","v":"6.4  x  6"},"_6 x 6",{"$f":"IF(All_PCC_a[[#This Row],[Max Height (mm)]]<=9,\"≤ \"&ROUNDUP(AD20,0),\"≤\"&ROUNDUP(AD20,0))","v":"≤ 3"},-55,155,{"$f":"All_PCC_a[[#This Row],[Min Temp (deg.C)]]&\" to +\"&All_PCC_a[[#This Row],[Max Temp (deg.C)]]","v":"-55 to +155"},null,null,null,"-","-","-","-","https://industrial.panasonic.com/ww/products/pt/automotive-inductors/models/ETQP3MR68KVN","https://industrial.panasonic.com/content/data/CC/pictures/lineup-LP.gif",{"$f":"_xlfn.IMAGE(All_PCC_a[[#This Row],[Image URL]])","v":{"$error":"#VALUE!"}},null,null,null,{"$f":"--ISNUMBER(IFERROR(SEARCH(#REF!,'[1]All Data'!M46,1),\"no match\"))","v":0},{"$f":"IF(AY20=1,COUNTIF($AY$11:AY20,1),\"\")","v":""},null,null,{"$f":"IF(Z20<('DCDC Ref'!$J$24/'DCDC Ref'!$J$26)*'DCDC Ref'!$J$28/100,0,1)","v":1},{"$f":"IF(BC20=0,\"\",('All Data'!Q20-'DCDC Ref'!$J$30)/'DCDC Ref'!$J$30*100)","v":-89.239560439560435},89.239560439560435,null,null,0,null,{"$f":"IF(BC20=0,\"\",('All Data'!Z20-'DCDC Ref'!$J$28*('DCDC Ref'!$J$29/100))/'DCDC Ref'!$J$28*('DCDC Ref'!$J$29/100)*100)","v":-9.4482758620689786},10000,null,null,null,null,null,496197.80219780217,{"$f":"IF(BQ20=\"\",\"\",RANK(BQ20,BQ$11:BQ$9927,1)+COUNTIF(BQ$11:BQ20,BQ20)-1)","v":88},88,{"$f":"IFERROR(INDEX($O$11:$O$1004,MATCH(ROWS($BS$11:BS20),$BS$11:$BS$1002,0)),\"\")","v":"ETQPAM4R7JFW"},"ETQPAM4R7JFW"]
[81,"〇",null,"OK",null,"MP","Panasonic","SMD","Metal Composite","PCC","LP (Low Profile)","4M-KVK","PCC-M0840M-LP","Yes","ETQP4MR68KVK",{"$f":"MID(All_PCC_a[[#This Row],[Part Number]],7,3)","v":"R68"},0.68,{"$f":"IF(All_PCC_a[[#This Row],[Lo (uH)]]<1,\"<1\",IF(All_PCC_a[[#This Row],[Lo (uH)]]<10,\"<10\",IF(All_PCC_a[[#This Row],[Lo (uH)]]<100,\"<100\",IF(All_PCC_a[[#This Row],[Lo (uH)]]<2000,\"<2000\",\"\"))))","v":"<1"},{"$f":"IFERROR(VLOOKUP(All_PCC_a[[#This Row],[Lo (uH)]],Utility!$D$5:$E$43,2,1),\"-\")","v":"≤    0.7"},0.2,2.92,3.21,10,19.5,16.600000000000001,29,20.99,8.5,8,4,{"$f":"ROUND(All_PCC_a[[#This Row],[L (mm)]]*All_PCC_a[[#This Row],[W (mm)]],1)","v":68},{"$f":"All_PCC_a[[#This Row],[L (mm)]]&\"  x  \"&All_PCC_a[[#This Row],[W (mm)]]","v":"8.5  x  8"},"_8 x 8",{"$f":"IF(All_PCC_a[[#This Row],[Max Height (mm)]]<=9,\"≤ \"&ROUNDUP(AD21,0),\"≤\"&ROUNDUP(AD21,0))","v":"≤ 4"},-55,155,{"$f":"All_PCC_a[[#This Row],[Min Temp (deg.C)]]&\" to +\"&All_PCC_a[[#This Row],[Max Temp (deg.C)]]","v":"-55 to +155"},null,null,null,"-","-","-","-","https://industrial.panasonic.com/ww/products/pt/automotive-inductors/models/ETQP4MR68KVK","https://industrial.panasonic.com/content/data/CC/pictures/lineup-LP.gif",{"$f":"_xlfn.IMAGE(All_PCC_a[[#This Row],[Image URL]])","v":{"$error":"#VALUE!"}},null,null,null,{"$f":"--ISNUMBER(IFERROR(SEARCH(#REF!,'[1]All Data'!M47,1),\"no match\"))","v":0},{"$f":"IF(AY21=1,COUNTIF($AY$11:AY21,1),\"\")","v":""},null,null,{"$f":"IF(Z21<('DCDC Ref'!$J$24/'DCDC Ref'!$J$26)*'DCDC Ref'!$J$28/100,0,1)","v":1},{"$f":"IF(BC21=0,\"\",('All Data'!Q21-'DCDC Ref'!$J$30)/'DCDC Ref'!$J$30*100)","v":-89.239560439560435},89.239560439560435,null,null,0,null,{"$f":"IF(BC21=0,\"\",('All Data'!Z21-'DCDC Ref'!$J$28*('DCDC Ref'!$J$29/100))/'DCDC Ref'!$J$28*('DCDC Ref'!$J$29/100)*100)","v":29.999999999999989},29.999999999999989,null,null,null,null,null,446347.80219780217,{"$f":"IF(BQ21=\"\",\"\",RANK(BQ21,BQ$11:BQ$9927,1)+COUNTIF(BQ$11:BQ21,BQ21)-1)","v":75},75,{"$f":"IFERROR(INDEX($O$11:$O$1004,MATCH(ROWS($BS$11:BS21),$BS$11:$BS$1002,0)),\"\")","v":"ETQP4M4R7YFP"},"ETQP4M4R7YFP"]
[96,"〇",null,"OK",null,"MP","Panasonic","SMD","Metal Composite","PCC","High Anti-vibration","5M-YSC","PCC-M1050MS","Yes","ETQP5MR68YSC",{"$f":"MID(All_PCC_a[[#This Row],[Part Number]],7,3)","v":"R68"},0.68,{"$f":"IF(All_PCC_a[[#This Row],[Lo (uH)]]<1,\"<1\",IF(All_PCC_a[[#This Row],[Lo (uH)]]<10,\"<10\",IF(All_PCC_a[[#This Row],[Lo (uH)]]<100,\"<100\",IF(All_PCC_a[[#This Row],[Lo (uH)]]<2000,\"<2000\",\"\"))))","v":"<1"},{"$f":"IFERROR(VLOOKUP(All_PCC_a[[#This Row],[Lo (uH)]],Utility!$D$5:$E$43,2,1),\"-\")","v":"≤    0.7"},0.2,1.66,1.83,10,32.299999999999997,27,40,28.1,10.9,10,5,{"$f":"ROUND(All_PCC_a[[#This Row],[L (mm)]]*All_PCC_a[[#This Row],[W (mm)]],1)","v":109},{"$f":"All_PCC_a[[#This Row],[L (mm)]]&\"  x  \"&All_PCC_a[[#This Row],[W (mm)]]","v":"10.9  x  10"},"10 x 10",{"$f":"IF(All_PCC_a[[#This Row],[Max Height (mm)]]<=9,\"≤ \"&ROUNDUP(AD22,0),\"≤\"&ROUNDUP(AD22,0))","v":"≤ 5"},-40,150,{"$f":"All_PCC_a[[#This Row],[Min Temp (deg.C)]]&\" to +\"&All_PCC_a[[#This Row],[Max Temp (deg.C)]]","v":"-40 to +150"},null,null,null,"-","-","-","-","https://industrial.panasonic.com/ww/products/pt/automotive-inductors/models/ETQP5MR68YSC","https://industrial.panasonic.com/content/data/CC/pictures/lineup-High%20Vibration%20Acceleration.gif",{"$f":"_xlfn.IMAGE(All_PCC_a[[#This Row],[Image URL]])","v":{"$error":"#VALUE!"}},null,null,null,{"$f":"--ISNUMBER(IFERROR(SEARCH(#REF!,'[1]All Data'!M48,1),\"no match\"))","v":0},{"$f":"IF(AY22=1,COUNTIF($AY$11:AY22,1),\"\")","v":""},null,null,{"$f":"IF(Z22<('DCDC Ref'!$J$24/'DCDC Ref'!$J$26)*'DCDC Ref'!$J$28/100,0,1)","v":1},{"$f":"IF(BC22=0,\"\",('All Data'!Q22-'DCDC Ref'!$J$30)/'DCDC Ref'!$J$30*100)","v":-89.239560439560435},89.239560439560435,null,null,0,null,{"$f":"IF(BC22=0,\"\",('All Data'!Z22-'DCDC Ref'!$J$28*('DCDC Ref'!$J$29/100))/'DCDC Ref'!$J$28*('DCDC Ref'!$J$29/100)*100)","v":79.310344827586192},79.310344827586192,null,null,null,null,null,446594.35392194008,{"$f":"IF(BQ22=\"\",\"\",RANK(BQ22,BQ$11:BQ$9927,1)+COUNTIF(BQ$11:BQ22,BQ22)-1)","v":77},77,{"$f":"IFERROR(INDEX($O$11:$O$1004,MATCH(ROWS($BS$11:BS22),$BS$11:$BS$1002,0)),\"\")","v":"ETQP5M4R7YFC"},"ETQP5M4R7YFC"]
[2,"〇",null,"OK",null,"MP","Panasonic","SMD","Metal Composite","PCC","High Isat (Standard)","3M-YFN","PCC-M0630M","Yes","ETQP3M1R0YFN",{"$f":"MID(All_PCC_a[[#This Row],[Part Number]],7,3)","v":"1R0"},1,{"$f":"IF(All_PCC_a[[#This Row],[Lo (uH)]]<1,\"<1\",IF(All_PCC_a[[#This Row],[Lo (uH)]]<10,\"<10\",IF(All_PCC_a[[#This Row],[Lo (uH)]]<100,\"<100\",IF(All_PCC_a[[#This Row],[Lo (uH)]]<2000,\"<2000\",\"\"))))","v":"<10"},{"$f":"IFERROR(VLOOKUP(All_PCC_a[[#This Row],[Lo (uH)]],Utility!$D$5:$E$43,2,1),\"-\")","v":"≤   1"},0.2,7.9,8.6900000000000013,10,10.7,8.8000000000000007,20,14.47,6.5,6,3,{"$f":"ROUND(All_PCC_a[[#This Row],[L (mm)]]*All_PCC_a[[#This Row],[W (mm)]],1)","v":39},{"$f":"All_PCC_a[[#This Row],[L (mm)]]&\"  x  \"&All_PCC_a[[#This Row],[W (mm)]]","v":"6.5  x  6"},"_6 x 6",{"$f":"IF(All_PCC_a[[#This Row],[Max Height (mm)]]<=9,\"≤ \"&ROUNDUP(AD23,0),\"≤\"&ROUNDUP(AD23,0))","v":"≤ 3"},-40,150,{"$f":"All_PCC_a[[#This Row],[Min Temp (deg.C)]]&\" to +\"&All_PCC_a[[#This Row],[Max Temp (deg.C)]]","v":"-40 to +150"},null,null,null,"-","-","-","-","https://industrial.panasonic.com/ww/products/pt/automotive-inductors/models/ETQP3M1R0YFN","https://industrial.panasonic.com/content/data/CC/pictures/lineup-Metal-core.gif",{"$f":"_xlfn.IMAGE(All_PCC_a[[#This Row],[Image URL]])","v":{"$error":"#VALUE!"}},null,null,null,{"$f":"--ISNUMBER(IFERROR(SEARCH(#REF!,'[1]All Data'!M49,1),\"no match\"))","v":0},{"$f":"IF(AY23=1,COUNTIF($AY$11:AY23,1),\"\")","v":""},null,null,{"$f":"IF(Z23<('DCDC Ref'!$J$24/'DCDC Ref'!$J$26)*'DCDC Ref'!$J$28/100,0,1)","v":1},{"$f":"IF(BC23=0,\"\",('All Data'!Q23-'DCDC Ref'!$J$30)/'DCDC Ref'!$J$30*100)","v":-84.175824175824175},84.175824175824175,null,null,0,null,{"$f":"IF(BC23=0,\"\",('All Data'!Z23-'DCDC Ref'!$J$28*('DCDC Ref'!$J$29/100))/'DCDC Ref'!$J$28*('DCDC Ref'!$J$29/100)*100)","v":-10.344827586206906},10000,null,null,null,null,null,470879.12087912089,{"$f":"IF(BQ23=\"\",\"\",RANK(BQ23,BQ$11:BQ$9927,1)+COUNTIF(BQ$11:BQ23,BQ23)-1)","v":81},81,{"$f":"IFERROR(INDEX($O$11:$O$1004,MATCH(ROWS($BS$11:BS23),$BS$11:$BS$1002,0)),\"\")","v":"ETQP5M4R7YFM"},"ETQP5M4R7YFM"]
[39,"〇",null,"OK",null,"MP","Panasonic","SMD","Metal Composite","PCC","High Isat (Standard)","5M-YLC","PCC-M1050ML","Yes","ETQP5M1R0YLC",{"$f":"MID(All_PCC_a[[#This Row],[Part Number]],7,3)","v":"1R0"},1,{"$f":"IF(All_PCC_a[[#This Row],[Lo (uH)]]<1,\"<1\",IF(All_PCC_a[[#This Row],[Lo (uH)]]<10,\"<10\",IF(All_PCC_a[[#This Row],[Lo (uH)]]<100,\"<100\",IF(All_PCC_a[[#This Row],[Lo (uH)]]<2000,\"<2000\",\"\"))))","v":"<10"},{"$f":"IFERROR(VLOOKUP(All_PCC_a[[#This Row],[Lo (uH)]],Utility!$D$5:$E$43,2,1),\"-\")","v":"≤   1"},0.2,2.2999999999999998,2.5299999999999998,10,27.5,23,37.799999999999997,24.6,10.9,10,5,{"$f":"ROUND(All_PCC_a[[#This Row],[L (mm)]]*All_PCC_a[[#This Row],[W (mm)]],1)","v":109},{"$f":"All_PCC_a[[#This Row],[L (mm)]]&\"  x  \"&All_PCC_a[[#This Row],[W (mm)]]","v":"10.9  x  10"},"10 x 10",{"$f":"IF(All_PCC_a[[#This Row],[Max Height (mm)]]<=9,\"≤ \"&ROUNDUP(AD24,0),\"≤\"&ROUNDUP(AD24,0))","v":"≤ 5"},-40,150,{"$f":"All_PCC_a[[#This Row],[Min Temp (deg.C)]]&\" to +\"&All_PCC_a[[#This Row],[Max Temp (deg.C)]]","v":"-40 to +150"},null,null,null,"-","-","-","-","https://industrial.panasonic.com/ww/products/pt/automotive-inductors/models/ETQP5M1R0YLC","https://industrial.panasonic.com/content/data/CC/pictures/lineup-Metal-core.gif",{"$f":"_xlfn.IMAGE(All_PCC_a[[#This Row],[Image URL]])","v":{"$error":"#VALUE!"}},null,null,null,null,null,null,null,{"$f":"IF(Z24<('DCDC Ref'!$J$24/'DCDC Ref'!$J$26)*'DCDC Ref'!$J$28/100,0,1)","v":1},{"$f":"IF(BC24=0,\"\",('All Data'!Q24-'DCDC Ref'!$J$30)/'DCDC Ref'!$J$30*100)","v":-84.175824175824175},84.175824175824175,null,null,0,null,{"$f":"IF(BC24=0,\"\",('All Data'!Z24-'DCDC Ref'!$J$28*('DCDC Ref'!$J$29/100))/'DCDC Ref'!$J$28*('DCDC Ref'!$J$29/100)*100)","v":69.448275862068925},69.448275862068925,null,null,null,null,null,421226.36225843121,{"$f":"IF(BQ24=\"\",\"\",RANK(BQ24,BQ$11:BQ$9927,1)+COUNTIF(BQ$11:BQ24,BQ24)-1)","v":69},69,{"$f":"IFERROR(INDEX($O$11:$O$1004,MATCH(ROWS($BS$11:BS24),$BS$11:$BS$1002,0)),\"\")","v":"ETQP3M4R7KVP"},"ETQP3M4R7KVP"]
[47,"〇",null,"OK",null,"MP","Panasonic","SMD","Metal Composite","PCC","High Current (≥□12)","8M-JFA","PCC-M1280MF","Yes","ETQP8M1R0JFA",{"$f":"MID(All_PCC_a[[#This Row],[Part Number]],7,3)","v":"1R0"},1,{"$f":"IF(All_PCC_a[[#This Row],[Lo (uH)]]<1,\"<1\",IF(All_PCC_a[[#This Row],[Lo (uH)]]<10,\"<10\",IF(All_PCC_a[[#This Row],[Lo (uH)]]<100,\"<100\",IF(All_PCC_a[[#This Row],[Lo (uH)]]<2000,\"<2000\",\"\"))))","v":"<10"},{"$f":"IFERROR(VLOOKUP(All_PCC_a[[#This Row],[Lo (uH)]],Utility!$D$5:$E$43,2,1),\"-\")","v":"≤   1"},0.2,1.36,1.5,10,38.299999999999997,31.8,44.4,{"$f":"ROUND(31.5641025641026,2)","v":31.56},12.6,13.2,8,{"$f":"ROUND(All_PCC_a[[#This Row],[L (mm)]]*All_PCC_a[[#This Row],[W (mm)]],1)","v":166.3},{"$f":"All_PCC_a[[#This Row],[L (mm)]]&\"  x  \"&All_PCC_a[[#This Row],[W (mm)]]","v":"12.6  x  13.2"},"12 x 12",{"$f":"IF(All_PCC_a[[#This Row],[Max Height (mm)]]<=9,\"≤ \"&ROUNDUP(AD25,0),\"≤\"&ROUNDUP(AD25,0))","v":"≤ 8"},-40,160,{"$f":"All_PCC_a[[#This Row],[Min Temp (deg.C)]]&\" to +\"&All_PCC_a[[#This Row],[Max Temp (deg.C)]]","v":"-40 to +160"},null,null,"15Gと聞いたがカタログは30G","-","-","-","-","https://industrial.panasonic.com/ww/products/pt/automotive-inductors/models/ETQP8M1R0JFA","https://industrial.panasonic.com/content/data/CC/pictures/lineup-Large%20current.gif",{"$f":"_xlfn.IMAGE(All_PCC_a[[#This Row],[Image URL]])","v":{"$error":"#VALUE!"}},null,null,null,{"$f":"--ISNUMBER(IFERROR(SEARCH(#REF!,'[1]All Data'!M50,1),\"no match\"))","v":0},{"$f":"IF(AY25=1,COUNTIF($AY$11:AY25,1),\"\")","v":""},null,null,{"$f":"IF(Z25<('DCDC Ref'!$J$24/'DCDC Ref'!$J$26)*'DCDC Ref'!$J$28/100,0,1)","v":1},{"$f":"IF(BC25=0,\"\",('All Data'!Q25-'DCDC Ref'!$J$30)/'DCDC Ref'!$J$30*100)","v":-84.175824175824175},84.175824175824175,null,null,0,null,{"$f":"IF(BC25=0,\"\",('All Data'!Z25-'DCDC Ref'!$J$28*('DCDC Ref'!$J$29/100))/'DCDC Ref'!$J$28*('DCDC Ref'!$J$29/100)*100)","v":99.034482758620655},99.034482758620655,null,null,null,null,null,421374.29329291399,{"$f":"IF(BQ25=\"\",\"\",RANK(BQ25,BQ$11:BQ$9927,1)+COUNTIF(BQ$11:BQ25,BQ25)-1)","v":70},70,{"$f":"IFERROR(INDEX($O$11:$O$1004,MATCH(ROWS($BS$11:BS25),$BS$11:$BS$1002,0)),\"\")","v":"ETQP3M4R7KVN"},"ETQP3M4R7KVN"]
[58,"〇",null,"OK",null,"MP","Panasonic","SMD","Metal Composite","PCC","LP (Low Profile)","3M-KVP","PCC-M0530M-LP","Yes","ETQP3M1R0KVP",{"$f":"MID(All_PCC_a[[#This Row],[Part Number]],7,3)","v":"1R0"},1,{"$f":"IF(All_PCC_a[[#This Row],[Lo (uH)]]<1,\"<1\",IF(All_PCC_a[[#This Row],[Lo (uH)]]<10,\"<10\",IF(All_PCC_a[[#This Row],[Lo (uH)]]<100,\"<100\",IF(All_PCC_a[[#This Row],[Lo (uH)]]<2000,\"<2000\",\"\"))))","v":"<10"},{"$f":"IFERROR(VLOOKUP(All_PCC_a[[#This Row],[Lo (uH)]],Utility!$D$5:$E$43,2,1),\"-\")","v":"≤   1"},0.2,9.6,10.56,10,9,7.5,14.1,10.4,5.5,5,3,{"$f":"ROUND(All_PCC_a[[#This Row],[L (mm)]]*All_PCC_a[[#This Row],[W (mm)]],1)","v":27.5},{"$f":"All_PCC_a[[#This Row],[L (mm)]]&\"  x  \"&All_PCC_a[[#This Row],[W (mm)]]","v":"5.5  x  5"},"_5 x 5",{"$f":"IF(All_PCC_a[[#This Row],[Max Height (mm)]]<=9,\"≤ \"&ROUNDUP(AD26,0),\"≤\"&ROUNDUP(AD26,0))","v":"≤ 3"},-55,155,{"$f":"All_PCC_a[[#This Row],[Min Temp (deg.C)]]&\" to +\"&All_PCC_a[[#This Row],[Max Temp (deg.C)]]","v":"-55 to +155"},null,null,null,"-","-","-","-","https://industrial.panasonic.com/ww/products/pt/automotive-inductors/models/ETQP3M1R0KVP","https://industrial.panasonic.com/content/data/CC/pictures/lineup-LP.gif",{"$f":"_xlfn.IMAGE(All_PCC_a[[#This Row],[Image URL]])","v":{"$error":"#VALUE!"}},null,null,null,{"$f":"--ISNUMBER(IFERROR(SEARCH(#REF!,'[1]All Data'!M51,1),\"no match\"))","v":0},{"$f":"IF(AY26=1,COUNTIF($AY$11:AY26,1),\"\")","v":""},null,null,{"$f":"IF(Z26<('DCDC Ref'!$J$24/'DCDC Ref'!$J$26)*'DCDC Ref'!$J$28/100,0,1)","v":1},{"$f":"IF(BC26=0,\"\",('All Data'!Q26-'DCDC Ref'!$J$30)/'DCDC Ref'!$J$30*100)","v":-84.175824175824175},84.175824175824175,null,null,0,null,{"$f":"IF(BC26=0,\"\",('All Data'!Z26-'DCDC Ref'!$J$28*('DCDC Ref'!$J$29/100))/'DCDC Ref'!$J$28*('DCDC Ref'!$J$29/100)*100)","v":-36.793103448275872},10000,null,null,null,null,null,470879.12087912089,{"$f":"IF(BQ26=\"\",\"\",RANK(BQ26,BQ$11:BQ$9927,1)+COUNTIF(BQ$11:BQ26,BQ26)-1)","v":82},82,{"$f":"IFERROR(INDEX($O$11:$O$1004,MATCH(ROWS($BS$11:BS26),$BS$11:$BS$1002,0)),\"\")","v":"ETQP4M4R7KVK"},"ETQP4M4R7KVK"]
[69,"〇",null,"OK",null,"MP","Panasonic","SMD","Metal Composite","PCC","LP (Low Profile)","3M-KVN","PCC-M0630M-LP","Yes","ETQP3M1R0KVN",{"$f":"MID(All_PCC_a[[#This Row],[Part Number]],7,3)","v":"1R0"},1,{"$f":"IF(All_PCC_a[[#This Row],[Lo (uH)]]<1,\"<1\",IF(All_PCC_a[[#This Row],[Lo (uH)]]<10,\"<10\",IF(All_PCC_a[[#This Row],[Lo (uH)]]<100,\"<100\",IF(All_PCC_a[[#This Row],[Lo (uH)]]<2000,\"<2000\",\"\"))))","v":"<10"},{"$f":"IFERROR(VLOOKUP(All_PCC_a[[#This Row],[Lo (uH)]],Utility!$D$5:$E$43,2,1),\"-\")","v":"≤   1"},0.2,6.2,6.8200000000000012,10,12.1,9.9,16,10.65,6.4,6,3,{"$f":"ROUND(All_PCC_a[[#This Row],[L (mm)]]*All_PCC_a[[#This Row],[W (mm)]],1)","v":38.4},{"$f":"All_PCC_a[[#This Row],[L (mm)]]&\"  x  \"&All_PCC_a[[#This Row],[W (mm)]]","v":"6.4  x  6"},"_6 x 6",{"$f":"IF(All_PCC_a[[#This Row],[Max Height (mm)]]<=9,\"≤ \"&ROUNDUP(AD27,0),\"≤\"&ROUNDUP(AD27,0))","v":"≤ 3"},-55,155,{"$f":"All_PCC_a[[#This Row],[Min Temp (deg.C)]]&\" to +\"&All_PCC_a[[#This Row],[Max Temp (deg.C)]]","v":"-55 to +155"},null,null,null,"-","-","-","-","https://industrial.panasonic.com/ww/products/pt/automotive-inductors/models/ETQP3M1R0KVN","https://industrial.panasonic.com/content/data/CC/pictures/lineup-LP.gif",{"$f":"_xlfn.IMAGE(All_PCC_a[[#This Row],[Image URL]])","v":{"$error":"#VALUE!"}},null,null,null,{"$f":"--ISNUMBER(IFERROR(SEARCH(#REF!,'[1]All Data'!M52,1),\"no match\"))","v":0},{"$f":"IF(AY27=1,COUNTIF($AY$11:AY27,1),\"\")","v":""},null,null,{"$f":"IF(Z27<('DCDC Ref'!$J$24/'DCDC Ref'!$J$26)*'DCDC Ref'!$J$28/100,0,1)","v":1},{"$f":"IF(BC27=0,\"\",('All Data'!Q27-'DCDC Ref'!$J$30)/'DCDC Ref'!$J$30*100)","v":-84.175824175824175},84.175824175824175,null,null,0,null,{"$f":"IF(BC27=0,\"\",('All Data'!Z27-'DCDC Ref'!$J$28*('DCDC Ref'!$J$29/100))/'DCDC Ref'!$J$28*('DCDC Ref'!$J$29/100)*100)","v":-28.275862068965523},10000,null,null,null,null,null,470879.12087912089,{"$f":"IF(BQ27=\"\",\"\",RANK(BQ27,BQ$11:BQ$9927,1)+COUNTIF(BQ$11:BQ27,BQ27)-1)","v":83},83,{"$f":"IFERROR(INDEX($O$11:$O$1004,MATCH(ROWS($BS$11:BS27),$BS$11:$BS$1002,0)),\"\")","v":"ETQP4M4R7KVC"},"ETQP4M4R7KVC"]
[80,"〇",null,"OK",null,"MP","Panasonic","SMD","Metal Composite","PCC","LP (Low Profile)","4M-KVK","PCC-M0840M-LP","Yes","ETQP4M1R0KVK",{"$f":"MID(All_PCC_a[[#This Row],[Part Number]],7,3)","v":"1R0"},1,{"$f":"IF(All_PCC_a[[#This Row],[Lo (uH)]]<1,\"<1\",IF(All_PCC_a[[#This Row],[Lo (uH)]]<10,\"<10\",IF(All_PCC_a[[#This Row],[Lo (uH)]]<100,\"<100\",IF(All_PCC_a[[#This Row],[Lo (uH)]]<2000,\"<2000\",\"\"))))","v":"<10"},{"$f":"IFERROR(VLOOKUP(All_PCC_a[[#This Row],[Lo (uH)]],Utility!$D$5:$E$43,2,1),\"-\")","v":"≤   1"},0.2,3.7,4.07,10,17.3,14.8,24.4,19.059999999999999,8.5,8,4,{"$f":"ROUND(All_PCC_a[[#This Row],[L (mm)]]*All_PCC_a[[#This Row],[W (mm)]],1)","v":68},{"$f":"All_PCC_a[[#This Row],[L (mm)]]&\"  x  \"&All_PCC_a[[#This Row],[W (mm)]]","v":"8.5  x  8"},"_8 x 8",{"$f":"IF(All_PCC_a[[#This Row],[Max Height (mm)]]<=9,\"≤ \"&ROUNDUP(AD28,0),\"≤\"&ROUNDUP(AD28,0))","v":"≤ 4"},-55,155,{"$f":"All_PCC_a[[#This Row],[Min Temp (deg.C)]]&\" to +\"&All_PCC_a[[#This Row],[Max Temp (deg.C)]]","v":"-55 to +155"},null,null,null,"-","-","-","-","https://industrial.panasonic.com/ww/products/pt/automotive-inductors/models/ETQP4M1R0KVK","https://industrial.panasonic.com/content/data/CC/pictures/lineup-LP.gif",{"$f":"_xlfn.IMAGE(All_PCC_a[[#This Row],[Image URL]])","v":{"$error":"#VALUE!"}},null,null,null,null,null,null,null,{"$f":"IF(Z28<('DCDC Ref'!$J$24/'DCDC Ref'!$J$26)*'DCDC Ref'!$J$28/100,0,1)","v":1},{"$f":"IF(BC28=0,\"\",('All Data'!Q28-'DCDC Ref'!$J$30)/'DCDC Ref'!$J$30*100)","v":-84.175824175824175},84.175824175824175,null,null,0,null,{"$f":"IF(BC28=0,\"\",('All Data'!Z28-'DCDC Ref'!$J$28*('DCDC Ref'!$J$29/100))/'DCDC Ref'!$J$28*('DCDC Ref'!$J$29/100)*100)","v":9.3793103448275676},9.3793103448275676,null,null,null,null,null,420926.01743084501,{"$f":"IF(BQ28=\"\",\"\",RANK(BQ28,BQ$11:BQ$9927,1)+COUNTIF(BQ$11:BQ28,BQ28)-1)","v":67},67,{"$f":"IFERROR(INDEX($O$11:$O$1004,MATCH(ROWS($BS$11:BS28),$BS$11:$BS$1002,0)),\"\")","v":"ETQP4M4R7KFN"},"ETQP4M4R7KFN"]
[92,"〇",null,"OK",null,"MP","Panasonic","SMD","Metal Composite","PCC","LP (Low Profile)","4M-KVC","PCC-M1040M-LP","Yes","ETQP4M1R0KVC",{"$f":"MID(All_PCC_a[[#This Row],[Part Number]],7,3)","v":"1R0"},1,{"$f":"IF(All_PCC_a[[#This Row],[Lo (uH)]]<1,\"<1\",IF(All_PCC_a[[#This Row],[Lo (uH)]]<10,\"<10\",IF(All_PCC_a[[#This Row],[Lo (uH)]]<100,\"<100\",IF(All_PCC_a[[#This Row],[Lo (uH)]]<2000,\"<2000\",\"\"))))","v":"<10"},{"$f":"IFERROR(VLOOKUP(All_PCC_a[[#This Row],[Lo (uH)]],Utility!$D$5:$E$43,2,1),\"-\")","v":"≤   1"},0.2,2.6,2.8600000000000003,10,23.9,19.600000000000001,34.6,24.000000000000028,10.7,10,4,{"$f":"ROUND(All_PCC_a[[#This Row],[L (mm)]]*All_PCC_a[[#This Row],[W (mm)]],1)","v":107},{"$f":"All_PCC_a[[#This Row],[L (mm)]]&\"  x  \"&All_PCC_a[[#This Row],[W (mm)]]","v":"10.7  x  10"},"10 x 10",{"$f":"IF(All_PCC_a[[#This Row],[Max Height (mm)]]<=9,\"≤ \"&ROUNDUP(AD29,0),\"≤\"&ROUNDUP(AD29,0))","v":"≤ 4"},-55,155,{"$f":"All_PCC_a[[#This Row],[Min Temp (deg.C)]]&\" to +\"&All_PCC_a[[#This Row],[Max Temp (deg.C)]]","v":"-55 to +155"},null,null,null,"-","-","-","-","https://industrial.panasonic.com/ww/products/pt/automotive-inductors/models/ETQP4M1R0KVC","https://industrial.panasonic.com/content/data/CC/pictures/lineup-LP.gif",{"$f":"_xlfn.IMAGE(All_PCC_a[[#This Row],[Image URL]])","v":{"$error":"#VALUE!"}},null,null,null,{"$f":"--ISNUMBER(IFERROR(SEARCH(#REF!,'[1]All Data'!M53,1),\"no match\"))","v":0},{"$f":"IF(AY29=1,COUNTIF($AY$11:AY29,1),\"\")","v":""},null,null,{"$f":"IF(Z29<('DCDC Ref'!$J$24/'DCDC Ref'!$J$26)*'DCDC Ref'!$J$28/100,0,1)","v":1},{"$f":"IF(BC29=0,\"\",('All Data'!Q29-'DCDC Ref'!$J$30)/'DCDC Ref'!$J$30*100)","v":-84.175824175824175},84.175824175824175,null,null,0,null,{"$f":"IF(BC29=0,\"\",('All Data'!Z29-'DCDC Ref'!$J$28*('DCDC Ref'!$J$29/100))/'DCDC Ref'!$J$28*('DCDC Ref'!$J$29/100)*100)","v":55.103448275862057},55.103448275862057,null,null,null,null,null,421154.6381205002,{"$f":"IF(BQ29=\"\",\"\",RANK(BQ29,BQ$11:BQ$9927,1)+COUNTIF(BQ$11:BQ29,BQ29)-1)","v":68},68,{"$f":"IFERROR(INDEX($O$11:$O$1004,MATCH(ROWS($BS$11:BS29),$BS$11:$BS$1002,0)),\"\")","v":"ETQP4M4R7KFM"},"ETQP4M4R7KFM"]
[13,"〇",null,"OK",null,"MP","Panasonic","SMD","Metal Composite","PCC","High Isat (Standard)","5M-YFC","PCC-M1054M","Yes","ETQP5M1R5YFC",{"$f":"MID(All_PCC_a[[#This Row],[Part Number]],7,3)","v":"1R5"},1.5,{"$f":"IF(All_PCC_a[[#This Row],[Lo (uH)]]<1,\"<1\",IF(All_PCC_a[[#This Row],[Lo (uH)]]<10,\"<10\",IF(All_PCC_a[[#This Row],[Lo (uH)]]<100,\"<100\",IF(All_PCC_a[[#This Row],[Lo (uH)]]<2000,\"<2000\",\"\"))))","v":"<10"},{"$f":"IFERROR(VLOOKUP(All_PCC_a[[#This Row],[Lo (uH)]],Utility!$D$5:$E$43,2,1),\"-\")","v":"≤   2"},0.2,3.8,4.18,10,21.4,17.899999999999999,35.1,25.52,10.7,10,5.4,{"$f":"ROUND(All_PCC_a[[#This Row],[L (mm)]]*All_PCC_a[[#This Row],[W (mm)]],1)","v":107},{"$f":"All_PCC_a[[#This Row],[L (mm)]]&\"  x  \"&All_PCC_a[[#This Row],[W (mm)]]","v":"10.7  x  10"},"10 x 10",{"$f":"IF(All_PCC_a[[#This Row],[Max Height (mm)]]<=9,\"≤ \"&ROUNDUP(AD30,0),\"≤\"&ROUNDUP(AD30,0))","v":"≤ 6"},-40,150,{"$f":"All_PCC_a[[#This Row],[Min Temp (deg.C)]]&\" to +\"&All_PCC_a[[#This Row],[Max Temp (deg.C)]]","v":"-40 to +150"},null,null,null,"-","-","-","-","https://industrial.panasonic.com/ww/products/pt/automotive-inductors/models/ETQP5M1R5YFC","https://industrial.panasonic.com/content/data/CC/pictures/lineup-Metal-core.gif",{"$f":"_xlfn.IMAGE(All_PCC_a[[#This Row],[Image URL]])","v":{"$error":"#VALUE!"}},null,null,null,{"$f":"--ISNUMBER(IFERROR(SEARCH(#REF!,'[1]All Data'!M54,1),\"no match\"))","v":0},{"$f":"IF(AY30=1,COUNTIF($AY$11:AY30,1),\"\")","v":""},null,null,{"$f":"IF(Z30<('DCDC Ref'!$J$24/'DCDC Ref'!$J$26)*'DCDC Ref'!$J$28/100,0,1)","v":1},{"$f":"IF(BC30=0,\"\",('All Data'!Q30-'DCDC Ref'!$J$30)/'DCDC Ref'!$J$30*100)","v":-76.263736263736263},76.263736263736263,null,null,0,null,{"$f":"IF(BC30=0,\"\",('All Data'!Z30-'DCDC Ref'!$J$28*('DCDC Ref'!$J$29/100))/'DCDC Ref'!$J$28*('DCDC Ref'!$J$29/100)*100)","v":57.344827586206883},57.344827586206883,null,null,null,null,null,381605.40545661235,{"$f":"IF(BQ30=\"\",\"\",RANK(BQ30,BQ$11:BQ$9927,1)+COUNTIF(BQ$11:BQ30,BQ30)-1)","v":65},65,{"$f":"IFERROR(INDEX($O$11:$O$1004,MATCH(ROWS($BS$11:BS30),$BS$11:$BS$1002,0)),\"\")","v":"ETQP5M3R3YFC"},"ETQP5M3R3YFC"]
[41,"〇",null,"OK",null,"MP","Panasonic","SMD","Metal Composite","PCC","High Isat (Standard)","6M-YLC","PCC-M1060ML","Yes","ETQP6M1R5YLC",{"$f":"MID(All_PCC_a[[#This Row],[Part Number]],7,3)","v":"1R5"},1.5,{"$f":"IF(All_PCC_a[[#This Row],[Lo (uH)]]<1,\"<1\",IF(All_PCC_a[[#This Row],[Lo (uH)]]<10,\"<10\",IF(All_PCC_a[[#This Row],[Lo (uH)]]<100,\"<100\",IF(All_PCC_a[[#This Row],[Lo (uH)]]<2000,\"<2000\",\"\"))))","v":"<10"},{"$f":"IFERROR(VLOOKUP(All_PCC_a[[#This Row],[Lo (uH)]],Utility!$D$5:$E$43,2,1),\"-\")","v":"≤   2"},0.2,3.2,3.52,10,23.3,19.5,32,22.19,10.9,10,6,{"$f":"ROUND(All_PCC_a[[#This Row],[L (mm)]]*All_PCC_a[[#This Row],[W (mm)]],1)","v":109},{"$f":"All_PCC_a[[#This Row],[L (mm)]]&\"  x  \"&All_PCC_a[[#This Row],[W (mm)]]","v":"10.9  x  10"},"10 x 10",{"$f":"IF(All_PCC_a[[#This Row],[Max Height (mm)]]<=9,\"≤ \"&ROUNDUP(AD31,0),\"≤\"&ROUNDUP(AD31,0))","v":"≤ 6"},-40,150,{"$f":"All_PCC_a[[#This Row],[Min Temp (deg.C)]]&\" to +\"&All_PCC_a[[#This Row],[Max Temp (deg.C)]]","v":"-40 to +150"},null,null,null,"-","-","-","-","https://industrial.panasonic.com/ww/products/pt/automotive-inductors/models/ETQP6M1R5YLC","https://industrial.panasonic.com/content/data/CC/pictures/lineup-Metal-core.gif",{"$f":"_xlfn.IMAGE(All_PCC_a[[#This Row],[Image URL]])","v":{"$error":"#VALUE!"}},null,null,null,null,null,null,null,{"$f":"IF(Z31<('DCDC Ref'!$J$24/'DCDC Ref'!$J$26)*'DCDC Ref'!$J$28/100,0,1)","v":1},{"$f":"IF(BC31=0,\"\",('All Data'!Q31-'DCDC Ref'!$J$30)/'DCDC Ref'!$J$30*100)","v":-76.263736263736263},76.263736263736263,null,null,0,null,{"$f":"IF(BC31=0,\"\",('All Data'!Z31-'DCDC Ref'!$J$28*('DCDC Ref'!$J$29/100))/'DCDC Ref'!$J$28*('DCDC Ref'!$J$29/100)*100)","v":43.448275862068954},43.448275862068954,null,null,null,null,null,381535.92269799166,{"$f":"IF(BQ31=\"\",\"\",RANK(BQ31,BQ$11:BQ$9927,1)+COUNTIF(BQ$11:BQ31,BQ31)-1)","v":64},64,{"$f":"IFERROR(INDEX($O$11:$O$1004,MATCH(ROWS($BS$11:BS31),$BS$11:$BS$1002,0)),\"\")","v":"ETQP5M3R3YGC"},"ETQP5M3R3YGC"]
[48,"〇",null,"OK",null,"MP","Panasonic","SMD","Metal Composite","PCC","High Current (≥□12)","8M-JFA","PCC-M1280MF","Yes","ETQP8M1R5JFA",{"$f":"MID(All_PCC_a[[#This Row],[Part Number]],7,3)","v":"1R5"},1.5,{"$f":"IF(All_PCC_a[[#This Row],[Lo (uH)]]<1,\"<1\",IF(All_PCC_a[[#This Row],[Lo (uH)]]<10,\"<10\",IF(All_PCC_a[[#This Row],[Lo (uH)]]<100,\"<100\",IF(All_PCC_a[[#This Row],[Lo (uH)]]<2000,\"<2000\",\"\"))))","v":"<10"},{"$f":"IFERROR(VLOOKUP(All_PCC_a[[#This Row],[Lo (uH)]],Utility!$D$5:$E$43,2,1),\"-\")","v":"≤   2"},0.2,1.8,1.9800000000000002,10,33.299999999999997,27.7,29.9,21.51,12.6,13.2,8,{"$f":"ROUND(All_PCC_a[[#This Row],[L (mm)]]*All_PCC_a[[#This Row],[W (mm)]],1)","v":166.3},{"$f":"All_PCC_a[[#This Row],[L (mm)]]&\"  x  \"&All_PCC_a[[#This Row],[W (mm)]]","v":"12.6  x  13.2"},"12 x 12",{"$f":"IF(All_PCC_a[[#This Row],[Max Height (mm)]]<=9,\"≤ \"&ROUNDUP(AD32,0),\"≤\"&ROUNDUP(AD32,0))","v":"≤ 8"},-40,160,{"$f":"All_PCC_a[[#This Row],[Min Temp (deg.C)]]&\" to +\"&All_PCC_a[[#This Row],[Max Temp (deg.C)]]","v":"-40 to +160"},null,null,"15Gと聞いたがカタログは30G","-","-","-","-","https://industrial.panasonic.com/ww/products/pt/automotive-inductors/models/ETQP8M1R5JFA","https://industrial.panasonic.com/content/data/CC/pictures/lineup-Large%20current.gif",{"$f":"_xlfn.IMAGE(All_PCC_a[[#This Row],[Image URL]])","v":{"$error":"#VALUE!"}},null,null,null,null,null,null,null,{"$f":"IF(Z32<('DCDC Ref'!$J$24/'DCDC Ref'!$J$26)*'DCDC Ref'!$J$28/100,0,1)","v":1},{"$f":"IF(BC32=0,\"\",('All Data'!Q32-'DCDC Ref'!$J$30)/'DCDC Ref'!$J$30*100)","v":-76.263736263736263},76.263736263736263,null,null,0,null,{"$f":"IF(BC32=0,\"\",('All Data'!Z32-'DCDC Ref'!$J$28*('DCDC Ref'!$J$29/100))/'DCDC Ref'!$J$28*('DCDC Ref'!$J$29/100)*100)","v":34.034482758620669},34.034482758620669,null,null,null,null,null,381488.85373247444,{"$f":"IF(BQ32=\"\",\"\",RANK(BQ32,BQ$11:BQ$9927,1)+COUNTIF(BQ$11:BQ32,BQ32)-1)","v":63},63,{"$f":"IFERROR(INDEX($O$11:$O$1004,MATCH(ROWS($BS$11:BS32),$BS$11:$BS$1002,0)),\"\")","v":"ETQP6M3R3YLC"},"ETQP6M3R3YLC"]
[57,"〇",null,"OK",null,"MP","Panasonic","SMD","Metal Composite","PCC","LP (Low Profile)","3M-KVP","PCC-M0530M-LP","Yes","ETQP3M1R5KVP",{"$f":"MID(All_PCC_a[[#This Row],[Part Number]],7,3)","v":"1R5"},1.5,{"$f":"IF(All_PCC_a[[#This Row],[Lo (uH)]]<1,\"<1\",IF(All_PCC_a[[#This Row],[Lo (uH)]]<10,\"<10\",IF(All_PCC_a[[#This Row],[Lo (uH)]]<100,\"<100\",IF(All_PCC_a[[#This Row],[Lo (uH)]]<2000,\"<2000\",\"\"))))","v":"<10"},{"$f":"IFERROR(VLOOKUP(All_PCC_a[[#This Row],[Lo (uH)]],Utility!$D$5:$E$43,2,1),\"-\")","v":"≤   2"},0.2,12,13.200000000000001,10,8.1,6.7,12,9.61,5.5,5,3,{"$f":"ROUND(All_PCC_a[[#This Row],[L (mm)]]*All_PCC_a[[#This Row],[W (mm)]],1)","v":27.5},{"$f":"All_PCC_a[[#This Row],[L (mm)]]&\"  x  \"&All_PCC_a[[#This Row],[W (mm)]]","v":"5.5  x  5"},"_5 x 5",{"$f":"IF(All_PCC_a[[#This Row],[Max Height (mm)]]<=9,\"≤ \"&ROUNDUP(AD33,0),\"≤\"&ROUNDUP(AD33,0))","v":"≤ 3"},-55,155,{"$f":"All_PCC_a[[#This Row],[Min Temp (deg.C)]]&\" to +\"&All_PCC_a[[#This Row],[Max Temp (deg.C)]]","v":"-55 to +155"},null,null,null,"-","-","-","-","https://industrial.panasonic.com/ww/products/pt/automotive-inductors/models/ETQP3M1R5KVP","https://industrial.panasonic.com/content/data/CC/pictures/lineup-LP.gif",{"$f":"_xlfn.IMAGE(All_PCC_a[[#This Row],[Image URL]])","v":{"$error":"#VALUE!"}},null,null,null,{"$f":"--ISNUMBER(IFERROR(SEARCH(#REF!,'[1]All Data'!M55,1),\"no match\"))","v":0},{"$f":"IF(AY33=1,COUNTIF($AY$11:AY33,1),\"\")","v":""},null,null,{"$f":"IF(Z33<('DCDC Ref'!$J$24/'DCDC Ref'!$J$26)*'DCDC Ref'!$J$28/100,0,1)","v":1},{"$f":"IF(BC33=0,\"\",('All Data'!Q33-'DCDC Ref'!$J$30)/'DCDC Ref'!$J$30*100)","v":-76.263736263736263},76.263736263736263,null,null,0,null,{"$f":"IF(BC33=0,\"\",('All Data'!Z33-'DCDC Ref'!$J$28*('DCDC Ref'!$J$29/100))/'DCDC Ref'!$J$28*('DCDC Ref'!$J$29/100)*100)","v":-46.206896551724142},10000,null,null,null,null,null,431318.68131868134,{"$f":"IF(BQ33=\"\",\"\",RANK(BQ33,BQ$11:BQ$9927,1)+COUNTIF(BQ$11:BQ33,BQ33)-1)","v":72},72,{"$f":"IFERROR(INDEX($O$11:$O$1004,MATCH(ROWS($BS$11:BS33),$BS$11:$BS$1002,0)),\"\")","v":"ETQP8M3R3JFA"},"ETQP8M3R3JFA"]
[68,"〇",null,"OK",null,"MP","Panasonic","SMD","Metal Composite","PCC","LP (Low Profile)","3M-KVN","PCC-M0630M-LP","Yes","ETQP3M1R5KVN",{"$f":"MID(All_PCC_a[[#This Row],[Part Number]],7,3)","v":"1R5"},1.5,{"$f":"IF(All_PCC_a[[#This Row],[Lo (uH)]]<1,\"<1\",IF(All_PCC_a[[#This Row],[Lo (uH)]]<10,\"<10\",IF(All_PCC_a[[#This Row],[Lo (uH)]]<100,\"<100\",IF(All_PCC_a[[#This Row],[Lo (uH)]]<2000,\"<2000\",\"\"))))","v":"<10"},{"$f":"IFERROR(VLOOKUP(All_PCC_a[[#This Row],[Lo (uH)]],Utility!$D$5:$E$43,2,1),\"-\")","v":"≤   2"},0.2,11,12.100000000000001,10,9.1,7.4,14.2,10.37,6.4,6,3,{"$f":"ROUND(All_PCC_a[[#This Row],[L (mm)]]*All_PCC_a[[#This Row],[W (mm)]],1)","v":38.4},{"$f":"All_PCC_a[[#This Row],[L (mm)]]&\"  x  \"&All_PCC_a[[#This Row],[W (mm)]]","v":"6.4  x  6"},"_6 x 6",{"$f":"IF(All_PCC_a[[#This Row],[Max Height (mm)]]<=9,\"≤ \"&ROUNDUP(AD34,0),\"≤\"&ROUNDUP(AD34,0))","v":"≤ 3"},-55,155,{"$f":"All_PCC_a[[#This Row],[Min Temp (deg.C)]]&\" to +\"&All_PCC_a[[#This Row],[Max Temp (deg.C)]]","v":"-55 to +155"},null,null,null,"-","-","-","-","https://industrial.panasonic.com/ww/products/pt/automotive-inductors/models/ETQP3M1R5KVN","https://industrial.panasonic.com/content/data/CC/pictures/lineup-LP.gif",{"$f":"_xlfn.IMAGE(All_PCC_a[[#This Row],[Image URL]])","v":{"$error":"#VALUE!"}},null,null,null,{"$f":"--ISNUMBER(IFERROR(SEARCH(#REF!,'[1]All Data'!M56,1),\"no match\"))","v":0},{"$f":"IF(AY34=1,COUNTIF($AY$11:AY34,1),\"\")","v":""},null,null,{"$f":"IF(Z34<('DCDC Ref'!$J$24/'DCDC Ref'!$J$26)*'DCDC Ref'!$J$28/100,0,1)","v":1},{"$f":"IF(BC34=0,\"\",('All Data'!Q34-'DCDC Ref'!$J$30)/'DCDC Ref'!$J$30*100)","v":-76.263736263736263},76.263736263736263,null,null,0,null,{"$f":"IF(BC34=0,\"\",('All Data'!Z34-'DCDC Ref'!$J$28*('DCDC Ref'!$J$29/100))/'DCDC Ref'!$J$28*('DCDC Ref'!$J$29/100)*100)","v":-36.344827586206904},10000,null,null,null,null,null,431318.68131868134,{"$f":"IF(BQ34=\"\",\"\",RANK(BQ34,BQ$11:BQ$9927,1)+COUNTIF(BQ$11:BQ34,BQ34)-1)","v":73},73,{"$f":"IFERROR(INDEX($O$11:$O$1004,MATCH(ROWS($BS$11:BS34),$BS$11:$BS$1002,0)),\"\")","v":"ETQPAM3R3JFW"},"ETQPAM3R3JFW"]
[79,"〇",null,"OK",null,"MP","Panasonic","SMD","Metal Composite","PCC","LP (Low Profile)","4M-KVK","PCC-M0840M-LP","Yes","ETQP4M1R5KVK",{"$f":"MID(All_PCC_a[[#This Row],[Part Number]],7,3)","v":"1R5"},1.5,{"$f":"IF(All_PCC_a[[#This Row],[Lo (uH)]]<1,\"<1\",IF(All_PCC_a[[#This Row],[Lo (uH)]]<10,\"<10\",IF(All_PCC_a[[#This Row],[Lo (uH)]]<100,\"<100\",IF(All_PCC_a[[#This Row],[Lo (uH)]]<2000,\"<2000\",\"\"))))","v":"<10"},{"$f":"IFERROR(VLOOKUP(All_PCC_a[[#This Row],[Lo (uH)]],Utility!$D$5:$E$43,2,1),\"-\")","v":"≤   2"},0.2,4.9000000000000004,5.3900000000000006,10,15.1,12.8,22.5,17.559999999999999,8.5,8,4,{"$f":"ROUND(All_PCC_a[[#This Row],[L (mm)]]*All_PCC_a[[#This Row],[W (mm)]],1)","v":68},{"$f":"All_PCC_a[[#This Row],[L (mm)]]&\"  x  \"&All_PCC_a[[#This Row],[W (mm)]]","v":"8.5  x  8"},"_8 x 8",{"$f":"IF(All_PCC_a[[#This Row],[Max Height (mm)]]<=9,\"≤ \"&ROUNDUP(AD35,0),\"≤\"&ROUNDUP(AD35,0))","v":"≤ 4"},-55,155,{"$f":"All_PCC_a[[#This Row],[Min Temp (deg.C)]]&\" to +\"&All_PCC_a[[#This Row],[Max Temp (deg.C)]]","v":"-55 to +155"},null,null,null,"-","-","-","-","https://industrial.panasonic.com/ww/products/pt/automotive-inductors/models/ETQP4M1R5KVK","https://industrial.panasonic.com/content/data/CC/pictures/lineup-LP.gif",{"$f":"_xlfn.IMAGE(All_PCC_a[[#This Row],[Image URL]])","v":{"$error":"#VALUE!"}},null,null,null,{"$f":"--ISNUMBER(IFERROR(SEARCH(#REF!,'[1]All Data'!M57,1),\"no match\"))","v":0},{"$f":"IF(AY35=1,COUNTIF($AY$11:AY35,1),\"\")","v":""},null,null,{"$f":"IF(Z35<('DCDC Ref'!$J$24/'DCDC Ref'!$J$26)*'DCDC Ref'!$J$28/100,0,1)","v":1},{"$f":"IF(BC35=0,\"\",('All Data'!Q35-'DCDC Ref'!$J$30)/'DCDC Ref'!$J$30*100)","v":-76.263736263736263},76.263736263736263,null,null,0,null,{"$f":"IF(BC35=0,\"\",('All Data'!Z35-'DCDC Ref'!$J$28*('DCDC Ref'!$J$29/100))/'DCDC Ref'!$J$28*('DCDC Ref'!$J$29/100)*100)","v":0.86206896551723022},0.86206896551723022,null,null,null,null,null,381322.99166350893,{"$f":"IF(BQ35=\"\",\"\",RANK(BQ35,BQ$11:BQ$9927,1)+COUNTIF(BQ$11:BQ35,BQ35)-1)","v":61},61,{"$f":"IFERROR(INDEX($O$11:$O$1004,MATCH(ROWS($BS$11:BS35),$BS$11:$BS$1002,0)),\"\")","v":"ETQP4M3R3YFN"},"ETQP4M3R3YFN"]
[91,"〇",null,"OK",null,"MP","Panasonic","SMD","Metal Composite","PCC","LP (Low Profile)","4M-KVC","PCC-M1040M-LP","Yes","ETQP4M1R5KVC",{"$f":"MID(All_PCC_a[[#This Row],[Part Number]],7,3)","v":"1R5"},1.5,{"$f":"IF(All_PCC_a[[#This Row],[Lo (uH)]]<1,\"<1\",IF(All_PCC_a[[#This Row],[Lo (uH)]]<10,\"<10\",IF(All_PCC_a[[#This Row],[Lo (uH)]]<100,\"<100\",IF(All_PCC_a[[#This Row],[Lo (uH)]]<2000,\"<2000\",\"\"))))","v":"<10"},{"$f":"IFERROR(VLOOKUP(All_PCC_a[[#This Row],[Lo (uH)]],Utility!$D$5:$E$43,2,1),\"-\")","v":"≤   2"},0.2,4.9000000000000004,5.3900000000000006,10,17.399999999999999,14.3,25,19.36,10.7,10,4,{"$f":"ROUND(All_PCC_a[[#This Row],[L (mm)]]*All_PCC_a[[#This Row],[W (mm)]],1)","v":107},{"$f":"All_PCC_a[[#This Row],[L (mm)]]&\"  x  \"&All_PCC_a[[#This Row],[W (mm)]]","v":"10.7  x  10"},"10 x 10",{"$f":"IF(All_PCC_a[[#This Row],[Max Height (mm)]]<=9,\"≤ \"&ROUNDUP(AD36,0),\"≤\"&ROUNDUP(AD36,0))","v":"≤ 4"},-55,155,{"$f":"All_PCC_a[[#This Row],[Min Temp (deg.C)]]&\" to +\"&All_PCC_a[[#This Row],[Max Temp (deg.C)]]","v":"-55 to +155"},null,null,null,"-","-","-","-","https://industrial.panasonic.com/ww/products/pt/automotive-inductors/models/ETQP4M1R5KVC","https://industrial.panasonic.com/content/data/CC/pictures/lineup-LP.gif",{"$f":"_xlfn.IMAGE(All_PCC_a[[#This Row],[Image URL]])","v":{"$error":"#VALUE!"}},null,null,null,null,null,null,null,{"$f":"IF(Z36<('DCDC Ref'!$J$24/'DCDC Ref'!$J$26)*'DCDC Ref'!$J$28/100,0,1)","v":1},{"$f":"IF(BC36=0,\"\",('All Data'!Q36-'DCDC Ref'!$J$30)/'DCDC Ref'!$J$30*100)","v":-76.263736263736263},76.263736263736263,null,null,0,null,{"$f":"IF(BC36=0,\"\",('All Data'!Z36-'DCDC Ref'!$J$28*('DCDC Ref'!$J$29/100))/'DCDC Ref'!$J$28*('DCDC Ref'!$J$29/100)*100)","v":12.068965517241367},12.068965517241367,null,null,null,null,null,381379.02614626754,{"$f":"IF(BQ36=\"\",\"\",RANK(BQ36,BQ$11:BQ$9927,1)+COUNTIF(BQ$11:BQ36,BQ36)-1)","v":62},62,{"$f":"IFERROR(INDEX($O$11:$O$1004,MATCH(ROWS($BS$11:BS36),$BS$11:$BS$1002,0)),\"\")","v":"ETQP3M3R3YFP"},"ETQP3M3R3YFP"]
[113,"〇","2021/11/12 カタログ追加。2021/3/23追加。","OK",null,"MP","Panasonic","SMD","Metal Composite","PCC","High Anti-vibration","5M-YSC","PCC-M1050MS","Yes","ETQP5M2R0YSC",{"$f":"MID(All_PCC_a[[#This Row],[Part Number]],7,3)","v":"2R0"},1.9,{"$f":"IF(All_PCC_a[[#This Row],[Lo (uH)]]<1,\"<1\",IF(All_PCC_a[[#This Row],[Lo (uH)]]<10,\"<10\",IF(All_PCC_a[[#This Row],[Lo (uH)]]<100,\"<100\",IF(All_PCC_a[[#This Row],[Lo (uH)]]<2000,\"<2000\",\"\"))))","v":"<10"},{"$f":"IFERROR(VLOOKUP(All_PCC_a[[#This Row],[Lo (uH)]],Utility!$D$5:$E$43,2,1),\"-\")","v":"≤   2"},0.2,4.45,4.9000000000000004,10,19.8,16.5,29.8,21,10.9,10,5,{"$f":"ROUND(All_PCC_a[[#This Row],[L (mm)]]*All_PCC_a[[#This Row],[W (mm)]],1)","v":109},{"$f":"All_PCC_a[[#This Row],[L (mm)]]&\"  x  \"&All_PCC_a[[#This Row],[W (mm)]]","v":"10.9  x  10"},"10 x 10",{"$f":"IF(All_PCC_a[[#This Row],[Max Height (mm)]]<=9,\"≤ \"&ROUNDUP(AD37,0),\"≤\"&ROUNDUP(AD37,0))","v":"≤ 5"},-40,150,{"$f":"All_PCC_a[[#This Row],[Min Temp (deg.C)]]&\" to +\"&All_PCC_a[[#This Row],[Max Temp (deg.C)]]","v":"-40 to +150"},null,null,null,"-","-","-","-","https://industrial.panasonic.com/ww/products/pt/automotive-inductors/models/ETQP5M2R0YSC","https://industrial.panasonic.com/content/data/CC/pictures/lineup-Metal-core.gif",{"$f":"_xlfn.IMAGE(All_PCC_a[[#This Row],[Image URL]])","v":{"$error":"#VALUE!"}},null,null,null,{"$f":"--ISNUMBER(IFERROR(SEARCH(#REF!,'[1]All Data'!M58,1),\"no match\"))","v":0},{"$f":"IF(AY37=1,COUNTIF($AY$11:AY37,1),\"\")","v":""},null,null,{"$f":"IF(Z37<('DCDC Ref'!$J$24/'DCDC Ref'!$J$26)*'DCDC Ref'!$J$28/100,0,1)","v":1},{"$f":"IF(BC37=0,\"\",('All Data'!Q37-'DCDC Ref'!$J$30)/'DCDC Ref'!$J$30*100)","v":-69.934065934065927},69.934065934065927,null,null,0,null,{"$f":"IF(BC37=0,\"\",('All Data'!Z37-'DCDC Ref'!$J$28*('DCDC Ref'!$J$29/100))/'DCDC Ref'!$J$28*('DCDC Ref'!$J$29/100)*100)","v":33.586206896551715},33.586206896551715,null,null,null,null,null,349838.26070481242,{"$f":"IF(BQ37=\"\",\"\",RANK(BQ37,BQ$11:BQ$9927,1)+COUNTIF(BQ$11:BQ37,BQ37)-1)","v":51},51,{"$f":"IFERROR(INDEX($O$11:$O$1004,MATCH(ROWS($BS$11:BS37),$BS$11:$BS$1002,0)),\"\")","v":"ETQP3M3R3KVP"},"ETQP3M3R3KVP"]
[40,"〇",null,"OK",null,"MP","Panasonic","SMD","Metal Composite","PCC","High Isat (Standard)","5M-YLC","PCC-M1050ML","Yes","ETQP5M2R0YLC",{"$f":"MID(All_PCC_a[[#This Row],[Part Number]],7,3)","v":"2R0"},2,{"$f":"IF(All_PCC_a[[#This Row],[Lo (uH)]]<1,\"<1\",IF(All_PCC_a[[#This Row],[Lo (uH)]]<10,\"<10\",IF(All_PCC_a[[#This Row],[Lo (uH)]]<100,\"<100\",IF(All_PCC_a[[#This Row],[Lo (uH)]]<2000,\"<2000\",\"\"))))","v":"<10"},{"$f":"IFERROR(VLOOKUP(All_PCC_a[[#This Row],[Lo (uH)]],Utility!$D$5:$E$43,2,1),\"-\")","v":"≤   2"},0.2,4.5999999999999996,5.0599999999999996,10,19.399999999999999,16.2,31.3,22.17,10.9,10,5,{"$f":"ROUND(All_PCC_a[[#This Row],[L (mm)]]*All_PCC_a[[#This Row],[W (mm)]],1)","v":109},{"$f":"All_PCC_a[[#This Row],[L (mm)]]&\"  x  \"&All_PCC_a[[#This Row],[W (mm)]]","v":"10.9  x  10"},"10 x 10",{"$f":"IF(All_PCC_a[[#This Row],[Max Height (mm)]]<=9,\"≤ \"&ROUNDUP(AD38,0),\"≤\"&ROUNDUP(AD38,0))","v":"≤ 5"},-40,150,{"$f":"All_PCC_a[[#This Row],[Min Temp (deg.C)]]&\" to +\"&All_PCC_a[[#This Row],[Max Temp (deg.C)]]","v":"-40 to +150"},null,null,null,"-","-","-","-","https://industrial.panasonic.com/ww/products/pt/automotive-inductors/models/ETQP5M2R0YLC","https://industrial.panasonic.com/content/data/CC/pictures/lineup-Metal-core.gif",{"$f":"_xlfn.IMAGE(All_PCC_a[[#This Row],[Image URL]])","v":{"$error":"#VALUE!"}},null,null,null,{"$f":"--ISNUMBER(IFERROR(SEARCH(#REF!,'[1]All Data'!M60,1),\"no match\"))","v":0},{"$f":"IF(AY38=1,COUNTIF($AY$11:AY38,1),\"\")","v":""},null,null,{"$f":"IF(Z38<('DCDC Ref'!$J$24/'DCDC Ref'!$J$26)*'DCDC Ref'!$J$28/100,0,1)","v":1},{"$f":"IF(BC38=0,\"\",('All Data'!Q38-'DCDC Ref'!$J$30)/'DCDC Ref'!$J$30*100)","v":-68.35164835164835},68.35164835164835,null,null,0,null,{"$f":"IF(BC38=0,\"\",('All Data'!Z38-'DCDC Ref'!$J$28*('DCDC Ref'!$J$29/100))/'DCDC Ref'!$J$28*('DCDC Ref'!$J$29/100)*100)","v":40.310344827586192},40.310344827586192,null,null,null,null,null,341959.79348237964,{"$f":"IF(BQ38=\"\",\"\",RANK(BQ38,BQ$11:BQ$9927,1)+COUNTIF(BQ$11:BQ38,BQ38)-1)","v":50},50,{"$f":"IFERROR(INDEX($O$11:$O$1004,MATCH(ROWS($BS$11:BS38),$BS$11:$BS$1002,0)),\"\")","v":"ETQP3M3R3KVN"},"ETQP3M3R3KVN"]
[9,"〇",null,"OK",null,"MP","Panasonic","SMD","Metal Composite","PCC","High Isat (Standard)","3M-YFP","PCC-M0530M","Yes","ETQP3M2R2YFP",{"$f":"MID(All_PCC_a[[#This Row],[Part Number]],7,3)","v":"2R2"},2.2000000000000002,{"$f":"IF(All_PCC_a[[#This Row],[Lo (uH)]]<1,\"<1\",IF(All_PCC_a[[#This Row],[Lo (uH)]]<10,\"<10\",IF(All_PCC_a[[#This Row],[Lo (uH)]]<100,\"<100\",IF(All_PCC_a[[#This Row],[Lo (uH)]]<2000,\"<2000\",\"\"))))","v":"<10"},{"$f":"IFERROR(VLOOKUP(All_PCC_a[[#This Row],[Lo (uH)]],Utility!$D$5:$E$43,2,1),\"-\")","v":"≤   3"},0.2,22.6,24.8,10,5.8,4.8,10.9,{"$f":"ROUND(7.95610619469026,2)","v":7.96},5.5,5,3,{"$f":"ROUND(All_PCC_a[[#This Row],[L (mm)]]*All_PCC_a[[#This Row],[W (mm)]],1)","v":27.5},{"$f":"All_PCC_a[[#This Row],[L (mm)]]&\"  x  \"&All_PCC_a[[#This Row],[W (mm)]]","v":"5.5  x  5"},"_5 x 5",{"$f":"IF(All_PCC_a[[#This Row],[Max Height (mm)]]<=9,\"≤ \"&ROUNDUP(AD39,0),\"≤\"&ROUNDUP(AD39,0))","v":"≤ 3"},-40,150,{"$f":"All_PCC_a[[#This Row],[Min Temp (deg.C)]]&\" to +\"&All_PCC_a[[#This Row],[Max Temp (deg.C)]]","v":"-40 to +150"},null,null,null,"-","-","-","-","https://industrial.panasonic.com/ww/products/pt/automotive-inductors/models/ETQP3M2R2YFP","https://industrial.panasonic.com/content/data/CC/pictures/lineup-Metal-core.gif",{"$f":"_xlfn.IMAGE(All_PCC_a[[#This Row],[Image URL]])","v":{"$error":"#VALUE!"}},null,null,null,{"$f":"--ISNUMBER(IFERROR(SEARCH(#REF!,'[1]All Data'!M61,1),\"no match\"))","v":0},{"$f":"IF(AY39=1,COUNTIF($AY$11:AY39,1),\"\")","v":""},null,null,{"$f":"IF(Z39<('DCDC Ref'!$J$24/'DCDC Ref'!$J$26)*'DCDC Ref'!$J$28/100,0,1)","v":1},{"$f":"IF(BC39=0,\"\",('All Data'!Q39-'DCDC Ref'!$J$30)/'DCDC Ref'!$J$30*100)","v":-65.186813186813183},65.186813186813183,null,null,0,null,{"$f":"IF(BC39=0,\"\",('All Data'!Z39-'DCDC Ref'!$J$28*('DCDC Ref'!$J$29/100))/'DCDC Ref'!$J$28*('DCDC Ref'!$J$29/100)*100)","v":-51.137931034482762},10000,null,null,null,null,null,375934.0659340659,{"$f":"IF(BQ39=\"\",\"\",RANK(BQ39,BQ$11:BQ$9927,1)+COUNTIF(BQ$11:BQ39,BQ39)-1)","v":54},54,{"$f":"IFERROR(INDEX($O$11:$O$1004,MATCH(ROWS($BS$11:BS39),$BS$11:$BS$1002,0)),\"\")","v":"ETQP4M3R3KVK"},"ETQP4M3R3KVK"]
[56,"〇",null,"OK",null,"MP","Panasonic","SMD","Metal Composite","PCC","LP (Low Profile)","3M-KVP","PCC-M0530M-LP","Yes","ETQP3M2R2KVP",{"$f":"MID(All_PCC_a[[#This Row],[Part Number]],7,3)","v":"2R2"},2.2000000000000002,{"$f":"IF(All_PCC_a[[#This Row],[Lo (uH)]]<1,\"<1\",IF(All_PCC_a[[#This Row],[Lo (uH)]]<10,\"<10\",IF(All_PCC_a[[#This Row],[Lo (uH)]]<100,\"<100\",IF(All_PCC_a[[#This Row],[Lo (uH)]]<2000,\"<2000\",\"\"))))","v":"<10"},{"$f":"IFERROR(VLOOKUP(All_PCC_a[[#This Row],[Lo (uH)]],Utility!$D$5:$E$43,2,1),\"-\")","v":"≤   3"},0.2,20,22,10,6.3,5.2,10.1,7.38,5.5,5,3,{"$f":"ROUND(All_PCC_a[[#This Row],[L (mm)]]*All_PCC_a[[#This Row],[W (mm)]],1)","v":27.5},{"$f":"All_PCC_a[[#This Row],[L (mm)]]&\"  x  \"&All_PCC_a[[#This Row],[W (mm)]]","v":"5.5  x  5"},"_5 x 5",{"$f":"IF(All_PCC_a[[#This Row],[Max Height (mm)]]<=9,\"≤ \"&ROUNDUP(AD40,0),\"≤\"&ROUNDUP(AD40,0))","v":"≤ 3"},-55,155,{"$f":"All_PCC_a[[#This Row],[Min Temp (deg.C)]]&\" to +\"&All_PCC_a[[#This Row],[Max Temp (deg.C)]]","v":"-55 to +155"},null,null,null,"-","-","-","-","https://industrial.panasonic.com/ww/products/pt/automotive-inductors/models/ETQP3M2R2KVP","https://industrial.panasonic.com/content/data/CC/pictures/lineup-LP.gif",{"$f":"_xlfn.IMAGE(All_PCC_a[[#This Row],[Image URL]])","v":{"$error":"#VALUE!"}},null,null,null,null,null,null,null,{"$f":"IF(Z40<('DCDC Ref'!$J$24/'DCDC Ref'!$J$26)*'DCDC Ref'!$J$28/100,0,1)","v":1},{"$f":"IF(BC40=0,\"\",('All Data'!Q40-'DCDC Ref'!$J$30)/'DCDC Ref'!$J$30*100)","v":-65.186813186813183},65.186813186813183,null,null,0,null,{"$f":"IF(BC40=0,\"\",('All Data'!Z40-'DCDC Ref'!$J$28*('DCDC Ref'!$J$29/100))/'DCDC Ref'!$J$28*('DCDC Ref'!$J$29/100)*100)","v":-54.724137931034491},10000,null,null,null,null,null,375934.0659340659,{"$f":"IF(BQ40=\"\",\"\",RANK(BQ40,BQ$11:BQ$9927,1)+COUNTIF(BQ$11:BQ40,BQ40)-1)","v":55},55,{"$f":"IFERROR(INDEX($O$11:$O$1004,MATCH(ROWS($BS$11:BS40),$BS$11:$BS$1002,0)),\"\")","v":"ETQP4M3R3KVC"},"ETQP4M3R3KVC"]
[67,"〇",null,"OK",null,"MP","Panasonic","SMD","Metal Composite","PCC","LP (Low Profile)","3M-KVN","PCC-M0630M-LP","Yes","ETQP3M2R2KVN",{"$f":"MID(All_PCC_a[[#This Row],[Part Number]],7,3)","v":"2R2"},2.2000000000000002,{"$f":"IF(All_PCC_a[[#This Row],[Lo (uH)]]<1,\"<1\",IF(All_PCC_a[[#This Row],[Lo (uH)]]<10,\"<10\",IF(All_PCC_a[[#This Row],[Lo (uH)]]<100,\"<100\",IF(All_PCC_a[[#This Row],[Lo (uH)]]<2000,\"<2000\",\"\"))))","v":"<10"},{"$f":"IFERROR(VLOOKUP(All_PCC_a[[#This Row],[Lo (uH)]],Utility!$D$5:$E$43,2,1),\"-\")","v":"≤   3"},0.2,14.5,15.950000000000001,10,7.9,6.5,12.8,8.9,6.4,6,3,{"$f":"ROUND(All_PCC_a[[#This Row],[L (mm)]]*All_PCC_a[[#This Row],[W (mm)]],1)","v":38.4},{"$f":"All_PCC_a[[#This Row],[L (mm)]]&\"  x  \"&All_PCC_a[[#This Row],[W (mm)]]","v":"6.4  x  6"},"_6 x 6",{"$f":"IF(All_PCC_a[[#This Row],[Max Height (mm)]]<=9,\"≤ \"&ROUNDUP(AD41,0),\"≤\"&ROUNDUP(AD41,0))","v":"≤ 3"},-55,155,{"$f":"All_PCC_a[[#This Row],[Min Temp (deg.C)]]&\" to +\"&All_PCC_a[[#This Row],[Max Temp (deg.C)]]","v":"-55 to +155"},null,null,null,"-","-","-","-","https://industrial.panasonic.com/ww/products/pt/automotive-inductors/models/ETQP3M2R2KVN","https://industrial.panasonic.com/content/data/CC/pictures/lineup-LP.gif",{"$f":"_xlfn.IMAGE(All_PCC_a[[#This Row],[Image URL]])","v":{"$error":"#VALUE!"}},null,null,null,{"$f":"--ISNUMBER(IFERROR(SEARCH(#REF!,'[1]All Data'!M62,1),\"no match\"))","v":0},{"$f":"IF(AY41=1,COUNTIF($AY$11:AY41,1),\"\")","v":""},null,null,{"$f":"IF(Z41<('DCDC Ref'!$J$24/'DCDC Ref'!$J$26)*'DCDC Ref'!$J$28/100,0,1)","v":1},{"$f":"IF(BC41=0,\"\",('All Data'!Q41-'DCDC Ref'!$J$30)/'DCDC Ref'!$J$30*100)","v":-65.186813186813183},65.186813186813183,null,null,0,null,{"$f":"IF(BC41=0,\"\",('All Data'!Z41-'DCDC Ref'!$J$28*('DCDC Ref'!$J$29/100))/'DCDC Ref'!$J$28*('DCDC Ref'!$J$29/100)*100)","v":-42.62068965517242},10000,null,null,null,null,null,375934.0659340659,{"$f":"IF(BQ41=\"\",\"\",RANK(BQ41,BQ$11:BQ$9927,1)+COUNTIF(BQ$11:BQ41,BQ41)-1)","v":56},56,{"$f":"IFERROR(INDEX($O$11:$O$1004,MATCH(ROWS($BS$11:BS41),$BS$11:$BS$1002,0)),\"\")","v":"ETQP4M3R3KFN"},"ETQP4M3R3KFN"]
[78,"〇",null,"OK",null,"MP","Panasonic","SMD","Metal Composite","PCC","LP (Low Profile)","4M-KVK","PCC-M0840M-LP","Yes","ETQP4M2R2KVK",{"$f":"MID(All_PCC_a[[#This Row],[Part Number]],7,3)","v":"2R2"},2.2000000000000002,{"$f":"IF(All_PCC_a[[#This Row],[Lo (uH)]]<1,\"<1\",IF(All_PCC_a[[#This Row],[Lo (uH)]]<10,\"<10\",IF(All_PCC_a[[#This Row],[Lo (uH)]]<100,\"<100\",IF(All_PCC_a[[#This Row],[Lo (uH)]]<2000,\"<2000\",\"\"))))","v":"<10"},{"$f":"IFERROR(VLOOKUP(All_PCC_a[[#This Row],[Lo (uH)]],Utility!$D$5:$E$43,2,1),\"-\")","v":"≤   3"},0.2,8.5,9.3500000000000014,10,11.4,9.8000000000000007,20.399999999999999,15.16,8.5,8,4,{"$f":"ROUND(All_PCC_a[[#This Row],[L (mm)]]*All_PCC_a[[#This Row],[W (mm)]],1)","v":68},{"$f":"All_PCC_a[[#This Row],[L (mm)]]&\"  x  \"&All_PCC_a[[#This Row],[W (mm)]]","v":"8.5  x  8"},"_8 x 8",{"$f":"IF(All_PCC_a[[#This Row],[Max Height (mm)]]<=9,\"≤ \"&ROUNDUP(AD42,0),\"≤\"&ROUNDUP(AD42,0))","v":"≤ 4"},-55,155,{"$f":"All_PCC_a[[#This Row],[Min Temp (deg.C)]]&\" to +\"&All_PCC_a[[#This Row],[Max Temp (deg.C)]]","v":"-55 to +155"},null,null,null,"-","-","-","-","https://industrial.panasonic.com/ww/products/pt/automotive-inductors/models/ETQP4M2R2KVK","https://industrial.panasonic.com/content/data/CC/pictures/lineup-LP.gif",{"$f":"_xlfn.IMAGE(All_PCC_a[[#This Row],[Image URL]])","v":{"$error":"#VALUE!"}},null,null,null,{"$f":"--ISNUMBER(IFERROR(SEARCH(#REF!,'[1]All Data'!M63,1),\"no match\"))","v":0},{"$f":"IF(AY42=1,COUNTIF($AY$11:AY42,1),\"\")","v":""},null,null,{"$f":"IF(Z42<('DCDC Ref'!$J$24/'DCDC Ref'!$J$26)*'DCDC Ref'!$J$28/100,0,1)","v":1},{"$f":"IF(BC42=0,\"\",('All Data'!Q42-'DCDC Ref'!$J$30)/'DCDC Ref'!$J$30*100)","v":-65.186813186813183},65.186813186813183,null,null,0,null,{"$f":"IF(BC42=0,\"\",('All Data'!Z42-'DCDC Ref'!$J$28*('DCDC Ref'!$J$29/100))/'DCDC Ref'!$J$28*('DCDC Ref'!$J$29/100)*100)","v":-8.5517241379310516},10000,null,null,null,null,null,375934.0659340659,{"$f":"IF(BQ42=\"\",\"\",RANK(BQ42,BQ$11:BQ$9927,1)+COUNTIF(BQ$11:BQ42,BQ42)-1)","v":57},57,{"$f":"IFERROR(INDEX($O$11:$O$1004,MATCH(ROWS($BS$11:BS42),$BS$11:$BS$1002,0)),\"\")","v":"ETQP5M3R3YFM"},"ETQP5M3R3YFM"]
[90,"〇",null,"OK",null,"MP","Panasonic","SMD","Metal Composite","PCC","LP (Low Profile)","4M-KVC","PCC-M1040M-LP","Yes","ETQP4M2R2KVC",{"$f":"MID(All_PCC_a[[#This Row],[Part Number]],7,3)","v":"2R2"},2.2000000000000002,{"$f":"IF(All_PCC_a[[#This Row],[Lo (uH)]]<1,\"<1\",IF(All_PCC_a[[#This Row],[Lo (uH)]]<10,\"<10\",IF(All_PCC_a[[#This Row],[Lo (uH)]]<100,\"<100\",IF(All_PCC_a[[#This Row],[Lo (uH)]]<2000,\"<2000\",\"\"))))","v":"<10"},{"$f":"IFERROR(VLOOKUP(All_PCC_a[[#This Row],[Lo (uH)]],Utility!$D$5:$E$43,2,1),\"-\")","v":"≤   3"},0.2,6.8,7.48,10,14.8,12.1,21,16.920000000000002,10.7,10,4,{"$f":"ROUND(All_PCC_a[[#This Row],[L (mm)]]*All_PCC_a[[#This Row],[W (mm)]],1)","v":107},{"$f":"All_PCC_a[[#This Row],[L (mm)]]&\"  x  \"&All_PCC_a[[#This Row],[W (mm)]]","v":"10.7  x  10"},"10 x 10",{"$f":"IF(All_PCC_a[[#This Row],[Max Height (mm)]]<=9,\"≤ \"&ROUNDUP(AD43,0),\"≤\"&ROUNDUP(AD43,0))","v":"≤ 4"},-55,155,{"$f":"All_PCC_a[[#This Row],[Min Temp (deg.C)]]&\" to +\"&All_PCC_a[[#This Row],[Max Temp (deg.C)]]","v":"-55 to +155"},null,null,null,"-","-","-","-","https://industrial.panasonic.com/ww/products/pt/automotive-inductors/models/ETQP4M2R2KVC","https://industrial.panasonic.com/content/data/CC/pictures/lineup-LP.gif",{"$f":"_xlfn.IMAGE(All_PCC_a[[#This Row],[Image URL]])","v":{"$error":"#VALUE!"}},null,null,null,{"$f":"--ISNUMBER(IFERROR(SEARCH(#REF!,'[1]All Data'!M64,1),\"no match\"))","v":0},{"$f":"IF(AY43=1,COUNTIF($AY$11:AY43,1),\"\")","v":""},null,null,{"$f":"IF(Z43<('DCDC Ref'!$J$24/'DCDC Ref'!$J$26)*'DCDC Ref'!$J$28/100,0,1)","v":1},{"$f":"IF(BC43=0,\"\",('All Data'!Q43-'DCDC Ref'!$J$30)/'DCDC Ref'!$J$30*100)","v":-65.186813186813183},65.186813186813183,null,null,0,null,{"$f":"IF(BC43=0,\"\",('All Data'!Z43-'DCDC Ref'!$J$28*('DCDC Ref'!$J$29/100))/'DCDC Ref'!$J$28*('DCDC Ref'!$J$29/100)*100)","v":-5.8620689655172518},10000,null,null,null,null,null,375934.0659340659,{"$f":"IF(BQ43=\"\",\"\",RANK(BQ43,BQ$11:BQ$9927,1)+COUNTIF(BQ$11:BQ43,BQ43)-1)","v":58},{"$f":"RANK(BR43,BR$11:BR$9927,1)","v":58},{"$f":"IFERROR(INDEX($O$11:$O$1004,MATCH(ROWS($BS$11:BS43),$BS$11:$BS$1002,0)),\"\")","v":"ETQP5M3R3YFK"},"ETQP5M3R3YFK"]
[93,"〇",null,"OK",null,"MP","Panasonic","SMD","Metal Composite","PCC","High Frequency","3M-HFP","PCC-M0530M-H","Yes","ETQP3M2R2HFP",{"$f":"MID(All_PCC_a[[#This Row],[Part Number]],7,3)","v":"2R2"},2.2000000000000002,{"$f":"IF(All_PCC_a[[#This Row],[Lo (uH)]]<1,\"<1\",IF(All_PCC_a[[#This Row],[Lo (uH)]]<10,\"<10\",IF(All_PCC_a[[#This Row],[Lo (uH)]]<100,\"<100\",IF(All_PCC_a[[#This Row],[Lo (uH)]]<2000,\"<2000\",\"\"))))","v":"<10"},{"$f":"IFERROR(VLOOKUP(All_PCC_a[[#This Row],[Lo (uH)]],Utility!$D$5:$E$43,2,1),\"-\")","v":"≤   3"},0.2,19.5,21.45,20,6.3,5.2,9,6.4,5.5,5,3,{"$f":"ROUND(All_PCC_a[[#This Row],[L (mm)]]*All_PCC_a[[#This Row],[W (mm)]],1)","v":27.5},{"$f":"All_PCC_a[[#This Row],[L (mm)]]&\"  x  \"&All_PCC_a[[#This Row],[W (mm)]]","v":"5.5  x  5"},"_5 x 5",{"$f":"IF(All_PCC_a[[#This Row],[Max Height (mm)]]<=9,\"≤ \"&ROUNDUP(AD44,0),\"≤\"&ROUNDUP(AD44,0))","v":"≤ 3"},-40,150,{"$f":"All_PCC_a[[#This Row],[Min Temp (deg.C)]]&\" to +\"&All_PCC_a[[#This Row],[Max Temp (deg.C)]]","v":"-40 to +150"},null,null,null,"-","-","-","-","https://industrial.panasonic.com/ww/products/pt/automotive-inductors/models/ETQP3M2R2HFP","https://industrial.panasonic.com/content/data/CC/pictures/lineup-H.gif",{"$f":"_xlfn.IMAGE(All_PCC_a[[#This Row],[Image URL]])","v":{"$error":"#VALUE!"}},null,null,null,{"$f":"--ISNUMBER(IFERROR(SEARCH(#REF!,'[1]All Data'!M65,1),\"no match\"))","v":0},{"$f":"IF(AY44=1,COUNTIF($AY$11:AY44,1),\"\")","v":""},null,null,{"$f":"IF(Z44<('DCDC Ref'!$J$24/'DCDC Ref'!$J$26)*'DCDC Ref'!$J$28/100,0,1)","v":1},{"$f":"IF(BC44=0,\"\",('All Data'!Q44-'DCDC Ref'!$J$30)/'DCDC Ref'!$J$30*100)","v":-65.186813186813183},65.186813186813183,null,null,0,null,{"$f":"IF(BC44=0,\"\",('All Data'!Z44-'DCDC Ref'!$J$28*('DCDC Ref'!$J$29/100))/'DCDC Ref'!$J$28*('DCDC Ref'!$J$29/100)*100)","v":-59.65517241379311},10000,null,null,null,null,null,375934.0659340659,{"$f":"IF(BQ44=\"\",\"\",RANK(BQ44,BQ$11:BQ$9927,1)+COUNTIF(BQ$11:BQ44,BQ44)-1)","v":59},59,{"$f":"IFERROR(INDEX($O$11:$O$1004,MATCH(ROWS($BS$11:BS44),$BS$11:$BS$1002,0)),\"\")","v":"ETQP6M2R5YSC"},"ETQP6M2R5YSC"]
[107,"〇",null,"OK",null,"MP","Panasonic","SMD","Metal Composite","PCC","High Isat (Standard)","4M-YFN","PCC-M0645M","Yes","ETQP4M2R2YFN",{"$f":"MID(All_PCC_a[[#This Row],[Part Number]],7,3)","v":"2R2"},2.2000000000000002,{"$f":"IF(All_PCC_a[[#This Row],[Lo (uH)]]<1,\"<1\",IF(All_PCC_a[[#This Row],[Lo (uH)]]<10,\"<10\",IF(All_PCC_a[[#This Row],[Lo (uH)]]<100,\"<100\",IF(All_PCC_a[[#This Row],[Lo (uH)]]<2000,\"<2000\",\"\"))))","v":"<10"},{"$f":"IFERROR(VLOOKUP(All_PCC_a[[#This Row],[Lo (uH)]],Utility!$D$5:$E$43,2,1),\"-\")","v":"≤   3"},0.2,10.4,{"$f":"All_PCC_a[[#This Row],[DCR Typ (mOhm)]]*1.1","v":11.440000000000001},10,10.199999999999999,8,14.4,10.41,6.5,6,4.5,{"$f":"ROUND(All_PCC_a[[#This Row],[L (mm)]]*All_PCC_a[[#This Row],[W (mm)]],1)","v":39},{"$f":"All_PCC_a[[#This Row],[L (mm)]]&\"  x  \"&All_PCC_a[[#This Row],[W (mm)]]","v":"6.5  x  6"},"_6 x 6",{"$f":"IF(All_PCC_a[[#This Row],[Max Height (mm)]]<=9,\"≤ \"&ROUNDUP(AD45,0),\"≤\"&ROUNDUP(AD45,0))","v":"≤ 5"},-40,150,{"$f":"All_PCC_a[[#This Row],[Min Temp (deg.C)]]&\" to +\"&All_PCC_a[[#This Row],[Max Temp (deg.C)]]","v":"-40 to +150"},null,null,null,"-","-","-","-","https://industrial.panasonic.com/ww/products/pt/automotive-inductors/models/ETQP4M2R2YFN","https://industrial.panasonic.com/content/data/CC/pictures/lineup-Metal-core.gif",{"$f":"_xlfn.IMAGE(All_PCC_a[[#This Row],[Image URL]])","v":{"$error":"#VALUE!"}},null,null,null,null,null,null,null,{"$f":"IF(Z45<('DCDC Ref'!$J$24/'DCDC Ref'!$J$26)*'DCDC Ref'!$J$28/100,0,1)","v":1},{"$f":"IF(BC45=0,\"\",('All Data'!Q45-'DCDC Ref'!$J$30)/'DCDC Ref'!$J$30*100)","v":-65.186813186813183},65.186813186813183,null,null,0,null,{"$f":"IF(BC45=0,\"\",('All Data'!Z45-'DCDC Ref'!$J$28*('DCDC Ref'!$J$29/100))/'DCDC Ref'!$J$28*('DCDC Ref'!$J$29/100)*100)","v":-35.448275862068975},10000,null,null,null,null,null,375934.0659340659,{"$f":"IF(BQ45=\"\",\"\",RANK(BQ45,BQ$11:BQ$9927,1)+COUNTIF(BQ$11:BQ45,BQ45)-1)","v":60},60,{"$f":"IFERROR(INDEX($O$11:$O$1004,MATCH(ROWS($BS$11:BS45),$BS$11:$BS$1002,0)),\"\")","v":"ETQP6M2R5YLC"},"ETQP6M2R5YLC"]
[105,"〇",null,"OK",null,"MP","Panasonic","SMD","Metal Composite","PCC","High Anti-vibration","5M-YSK","PCC-M0854MS","Yes","ETQP5M2R5YSK",{"$f":"MID(All_PCC_a[[#This Row],[Part Number]],7,3)","v":"2R5"},2.4500000000000002,{"$f":"IF(All_PCC_a[[#This Row],[Lo (uH)]]<1,\"<1\",IF(All_PCC_a[[#This Row],[Lo (uH)]]<10,\"<10\",IF(All_PCC_a[[#This Row],[Lo (uH)]]<100,\"<100\",IF(All_PCC_a[[#This Row],[Lo (uH)]]<2000,\"<2000\",\"\"))))","v":"<10"},{"$f":"IFERROR(VLOOKUP(All_PCC_a[[#This Row],[Lo (uH)]],Utility!$D$5:$E$43,2,1),\"-\")","v":"≤   3"},0.2,7.4,8.14,10,14.1,12,19.3,13.7,8.5,8,5.4,{"$f":"ROUND(All_PCC_a[[#This Row],[L (mm)]]*All_PCC_a[[#This Row],[W (mm)]],1)","v":68},{"$f":"All_PCC_a[[#This Row],[L (mm)]]&\"  x  \"&All_PCC_a[[#This Row],[W (mm)]]","v":"8.5  x  8"},"_8 x 8",{"$f":"IF(All_PCC_a[[#This Row],[Max Height (mm)]]<=9,\"≤ \"&ROUNDUP(AD46,0),\"≤\"&ROUNDUP(AD46,0))","v":"≤ 6"},-40,150,{"$f":"All_PCC_a[[#This Row],[Min Temp (deg.C)]]&\" to +\"&All_PCC_a[[#This Row],[Max Temp (deg.C)]]","v":"-40 to +150"},null,null,null,"-",{"$f":"IFERROR(IF(L1Round>1,ROUND(L1Round,1),L1Round),\"-\")","v":"-"},"-","-","https://industrial.panasonic.com/ww/products/pt/automotive-inductors/models/ETQP5M2R5YSK","https://industrial.panasonic.com/content/data/CC/pictures/lineup-High%20Vibration%20Acceleration.gif",{"$f":"_xlfn.IMAGE(All_PCC_a[[#This Row],[Image URL]])","v":{"$error":"#VALUE!"}},null,null,null,null,null,null,null,{"$f":"IF(Z46<('DCDC Ref'!$J$24/'DCDC Ref'!$J$26)*'DCDC Ref'!$J$28/100,0,1)","v":1},{"$f":"IF(BC46=0,\"\",('All Data'!Q46-'DCDC Ref'!$J$30)/'DCDC Ref'!$J$30*100)","v":-61.230769230769234},61.230769230769234,null,null,0,null,{"$f":"IF(BC46=0,\"\",('All Data'!Z46-'DCDC Ref'!$J$28*('DCDC Ref'!$J$29/100))/'DCDC Ref'!$J$28*('DCDC Ref'!$J$29/100)*100)","v":-13.482758620689662},10000,null,null,null,null,null,356153.84615384619,{"$f":"IF(BQ46=\"\",\"\",RANK(BQ46,BQ$11:BQ$9927,1)+COUNTIF(BQ$11:BQ46,BQ46)-1)","v":53},53,{"$f":"IFERROR(INDEX($O$11:$O$1004,MATCH(ROWS($BS$11:BS46),$BS$11:$BS$1002,0)),\"\")","v":"ETQP5M2R5YFC"},"ETQP5M2R5YFC"]
[14,"〇",null,"OK",null,"MP","Panasonic","SMD","Metal Composite","PCC","High Isat (Standard)","5M-YFC","PCC-M1054M","Yes","ETQP5M2R5YFC",{"$f":"MID(All_PCC_a[[#This Row],[Part Number]],7,3)","v":"2R5"},2.5,{"$f":"IF(All_PCC_a[[#This Row],[Lo (uH)]]<1,\"<1\",IF(All_PCC_a[[#This Row],[Lo (uH)]]<10,\"<10\",IF(All_PCC_a[[#This Row],[Lo (uH)]]<100,\"<100\",IF(All_PCC_a[[#This Row],[Lo (uH)]]<2000,\"<2000\",\"\"))))","v":"<10"},{"$f":"IFERROR(VLOOKUP(All_PCC_a[[#This Row],[Lo (uH)]],Utility!$D$5:$E$43,2,1),\"-\")","v":"≤   3"},0.2,5.3,5.9,10,18.100000000000001,15.1,27.2,19.739999999999998,10.7,10,5.4,{"$f":"ROUND(All_PCC_a[[#This Row],[L (mm)]]*All_PCC_a[[#This Row],[W (mm)]],1)","v":107},{"$f":"All_PCC_a[[#This Row],[L (mm)]]&\"  x  \"&All_PCC_a[[#This Row],[W (mm)]]","v":"10.7  x  10"},"10 x 10",{"$f":"IF(All_PCC_a[[#This Row],[Max Height (mm)]]<=9,\"≤ \"&ROUNDUP(AD47,0),\"≤\"&ROUNDUP(AD47,0))","v":"≤ 6"},-40,150,{"$f":"All_PCC_a[[#This Row],[Min Temp (deg.C)]]&\" to +\"&All_PCC_a[[#This Row],[Max Temp (deg.C)]]","v":"-40 to +150"},null,null,null,"-","-","-","-","https://industrial.panasonic.com/ww/products/pt/automotive-inductors/models/ETQP5M2R5YFC","https://industrial.panasonic.com/content/data/CC/pictures/lineup-Metal-core.gif",{"$f":"_xlfn.IMAGE(All_PCC_a[[#This Row],[Image URL]])","v":{"$error":"#VALUE!"}},null,null,null,{"$f":"--ISNUMBER(IFERROR(SEARCH(#REF!,'[1]All Data'!M66,1),\"no match\"))","v":0},{"$f":"IF(AY47=1,COUNTIF($AY$11:AY47,1),\"\")","v":""},null,null,{"$f":"IF(Z47<('DCDC Ref'!$J$24/'DCDC Ref'!$J$26)*'DCDC Ref'!$J$28/100,0,1)","v":1},{"$f":"IF(BC47=0,\"\",('All Data'!Q47-'DCDC Ref'!$J$30)/'DCDC Ref'!$J$30*100)","v":-60.439560439560438},60.439560439560438,null,null,0,null,{"$f":"IF(BC47=0,\"\",('All Data'!Z47-'DCDC Ref'!$J$28*('DCDC Ref'!$J$29/100))/'DCDC Ref'!$J$28*('DCDC Ref'!$J$29/100)*100)","v":21.931034482758605},21.931034482758605,null,null,null,null,null,302307.45737021597,{"$f":"IF(BQ47=\"\",\"\",RANK(BQ47,BQ$11:BQ$9927,1)+COUNTIF(BQ$11:BQ47,BQ47)-1)","v":36},36,{"$f":"IFERROR(INDEX($O$11:$O$1004,MATCH(ROWS($BS$11:BS47),$BS$11:$BS$1002,0)),\"\")","v":"ETQP8M2R5JFA"},"ETQP8M2R5JFA"]
[24,"〇",null,"OK",null,"MP","Panasonic","SMD","Metal Composite","PCC","High Isat (Standard)","5M-YFK","PCC-M0854M","Yes","ETQP5M2R5YFK",{"$f":"MID(All_PCC_a[[#This Row],[Part Number]],7,3)","v":"2R5"},2.5,{"$f":"IF(All_PCC_a[[#This Row],[Lo (uH)]]<1,\"<1\",IF(All_PCC_a[[#This Row],[Lo (uH)]]<10,\"<10\",IF(All_PCC_a[[#This Row],[Lo (uH)]]<100,\"<100\",IF(All_PCC_a[[#This Row],[Lo (uH)]]<2000,\"<2000\",\"\"))))","v":"<10"},{"$f":"IFERROR(VLOOKUP(All_PCC_a[[#This Row],[Lo (uH)]],Utility!$D$5:$E$43,2,1),\"-\")","v":"≤   3"},0.2,7.6,8.36,10,14,11.9,20.100000000000001,14.54,8.5,8,5.4,{"$f":"ROUND(All_PCC_a[[#This Row],[L (mm)]]*All_PCC_a[[#This Row],[W (mm)]],1)","v":68},{"$f":"All_PCC_a[[#This Row],[L (mm)]]&\"  x  \"&All_PCC_a[[#This Row],[W (mm)]]","v":"8.5  x  8"},"_8 x 8",{"$f":"IF(All_PCC_a[[#This Row],[Max Height (mm)]]<=9,\"≤ \"&ROUNDUP(AD48,0),\"≤\"&ROUNDUP(AD48,0))","v":"≤ 6"},-40,150,{"$f":"All_PCC_a[[#This Row],[Min Temp (deg.C)]]&\" to +\"&All_PCC_a[[#This Row],[Max Temp (deg.C)]]","v":"-40 to +150"},null,null,null,"-","-","-","-","https://industrial.panasonic.com/ww/products/pt/automotive-inductors/models/ETQP5M2R5YFK","https://industrial.panasonic.com/content/data/CC/pictures/lineup-Metal-core.gif",{"$f":"_xlfn.IMAGE(All_PCC_a[[#This Row],[Image URL]])","v":{"$error":"#VALUE!"}},null,null,null,{"$f":"--ISNUMBER(IFERROR(SEARCH(#REF!,'[1]All Data'!M67,1),\"no match\"))","v":0},{"$f":"IF(AY48=1,COUNTIF($AY$11:AY48,1),\"\")","v":""},null,null,{"$f":"IF(Z48<('DCDC Ref'!$J$24/'DCDC Ref'!$J$26)*'DCDC Ref'!$J$28/100,0,1)","v":1},{"$f":"IF(BC48=0,\"\",('All Data'!Q48-'DCDC Ref'!$J$30)/'DCDC Ref'!$J$30*100)","v":-60.439560439560438},60.439560439560438,null,null,0,null,{"$f":"IF(BC48=0,\"\",('All Data'!Z48-'DCDC Ref'!$J$28*('DCDC Ref'!$J$29/100))/'DCDC Ref'!$J$28*('DCDC Ref'!$J$29/100)*100)","v":-9.8965517241379342},10000,null,null,null,null,null,352197.80219780217,{"$f":"IF(BQ48=\"\",\"\",RANK(BQ48,BQ$11:BQ$9927,1)+COUNTIF(BQ$11:BQ48,BQ48)-1)","v":52},52,{"$f":"IFERROR(INDEX($O$11:$O$1004,MATCH(ROWS($BS$11:BS48),$BS$11:$BS$1002,0)),\"\")","v":"ETQPAM2R5JFW"},"ETQPAM2R5JFW"]
[42,"〇",null,"OK",null,"MP","Panasonic","SMD","Metal Composite","PCC","High Isat (Standard)","6M-YLC","PCC-M1060ML","Yes","ETQP6M2R5YLC",{"$f":"MID(All_PCC_a[[#This Row],[Part Number]],7,3)","v":"2R5"},2.5,{"$f":"IF(All_PCC_a[[#This Row],[Lo (uH)]]<1,\"<1\",IF(All_PCC_a[[#This Row],[Lo (uH)]]<10,\"<10\",IF(All_PCC_a[[#This Row],[Lo (uH)]]<100,\"<100\",IF(All_PCC_a[[#This Row],[Lo (uH)]]<2000,\"<2000\",\"\"))))","v":"<10"},{"$f":"IFERROR(VLOOKUP(All_PCC_a[[#This Row],[Lo (uH)]],Utility!$D$5:$E$43,2,1),\"-\")","v":"≤   3"},0.2,4.55,5,10,19.600000000000001,16.3,25.8,17.2,10.9,10,6,{"$f":"ROUND(All_PCC_a[[#This Row],[L (mm)]]*All_PCC_a[[#This Row],[W (mm)]],1)","v":109},{"$f":"All_PCC_a[[#This Row],[L (mm)]]&\"  x  \"&All_PCC_a[[#This Row],[W (mm)]]","v":"10.9  x  10"},"10 x 10",{"$f":"IF(All_PCC_a[[#This Row],[Max Height (mm)]]<=9,\"≤ \"&ROUNDUP(AD49,0),\"≤\"&ROUNDUP(AD49,0))","v":"≤ 6"},-40,150,{"$f":"All_PCC_a[[#This Row],[Min Temp (deg.C)]]&\" to +\"&All_PCC_a[[#This Row],[Max Temp (deg.C)]]","v":"-40 to +150"},null,null,null,"-","-","-","-","https://industrial.panasonic.com/ww/products/pt/automotive-inductors/models/ETQP6M2R5YLC","https://industrial.panasonic.com/content/data/CC/pictures/lineup-Metal-core.gif",{"$f":"_xlfn.IMAGE(All_PCC_a[[#This Row],[Image URL]])","v":{"$error":"#VALUE!"}},null,null,null,null,null,null,null,{"$f":"IF(Z49<('DCDC Ref'!$J$24/'DCDC Ref'!$J$26)*'DCDC Ref'!$J$28/100,0,1)","v":1},{"$f":"IF(BC49=0,\"\",('All Data'!Q49-'DCDC Ref'!$J$30)/'DCDC Ref'!$J$30*100)","v":-60.439560439560438},60.439560439560438,null,null,0,null,{"$f":"IF(BC49=0,\"\",('All Data'!Z49-'DCDC Ref'!$J$28*('DCDC Ref'!$J$29/100))/'DCDC Ref'!$J$28*('DCDC Ref'!$J$29/100)*100)","v":15.655172413793094},15.655172413793094,null,null,null,null,null,302276.07805987116,{"$f":"IF(BQ49=\"\",\"\",RANK(BQ49,BQ$11:BQ$9927,1)+COUNTIF(BQ$11:BQ49,BQ49)-1)","v":35},35,{"$f":"IFERROR(INDEX($O$11:$O$1004,MATCH(ROWS($BS$11:BS49),$BS$11:$BS$1002,0)),\"\")","v":"ETQP4M100YFN"},"ETQP4M100YFN"]
[49,"〇",null,"OK",null,"MP","Panasonic","SMD","Metal Composite","PCC","High Current (≥□12)","8M-JFA","PCC-M1280MF","Yes","ETQP8M2R5JFA",{"$f":"MID(All_PCC_a[[#This Row],[Part Number]],7,3)","v":"2R5"},2.5,{"$f":"IF(All_PCC_a[[#This Row],[Lo (uH)]]<1,\"<1\",IF(All_PCC_a[[#This Row],[Lo (uH)]]<10,\"<10\",IF(All_PCC_a[[#This Row],[Lo (uH)]]<100,\"<100\",IF(All_PCC_a[[#This Row],[Lo (uH)]]<2000,\"<2000\",\"\"))))","v":"<10"},{"$f":"IFERROR(VLOOKUP(All_PCC_a[[#This Row],[Lo (uH)]],Utility!$D$5:$E$43,2,1),\"-\")","v":"≤   3"},0.2,2.6,2.8600000000000003,10,27.7,23,32.1,{"$f":"ROUND(23.0676691729323,2)","v":23.07},12.6,13.2,8,{"$f":"ROUND(All_PCC_a[[#This Row],[L (mm)]]*All_PCC_a[[#This Row],[W (mm)]],1)","v":166.3},{"$f":"All_PCC_a[[#This Row],[L (mm)]]&\"  x  \"&All_PCC_a[[#This Row],[W (mm)]]","v":"12.6  x  13.2"},"12 x 12",{"$f":"IF(All_PCC_a[[#This Row],[Max Height (mm)]]<=9,\"≤ \"&ROUNDUP(AD50,0),\"≤\"&ROUNDUP(AD50,0))","v":"≤ 8"},-40,160,{"$f":"All_PCC_a[[#This Row],[Min Temp (deg.C)]]&\" to +\"&All_PCC_a[[#This Row],[Max Temp (deg.C)]]","v":"-40 to +160"},null,null,"15Gと聞いたがカタログは30G","-","-","-","-","https://industrial.panasonic.com/ww/products/pt/automotive-inductors/models/ETQP8M2R5JFA","https://industrial.panasonic.com/content/data/CC/pictures/lineup-Large%20current.gif",{"$f":"_xlfn.IMAGE(All_PCC_a[[#This Row],[Image URL]])","v":{"$error":"#VALUE!"}},null,null,null,null,null,null,null,{"$f":"IF(Z50<('DCDC Ref'!$J$24/'DCDC Ref'!$J$26)*'DCDC Ref'!$J$28/100,0,1)","v":1},{"$f":"IF(BC50=0,\"\",('All Data'!Q50-'DCDC Ref'!$J$30)/'DCDC Ref'!$J$30*100)","v":-60.439560439560438},60.439560439560438,null,null,0,null,{"$f":"IF(BC50=0,\"\",('All Data'!Z50-'DCDC Ref'!$J$28*('DCDC Ref'!$J$29/100))/'DCDC Ref'!$J$28*('DCDC Ref'!$J$29/100)*100)","v":43.896551724137922},43.896551724137922,null,null,null,null,null,302417.28495642287,{"$f":"IF(BQ50=\"\",\"\",RANK(BQ50,BQ$11:BQ$9927,1)+COUNTIF(BQ$11:BQ50,BQ50)-1)","v":37},37,{"$f":"IFERROR(INDEX($O$11:$O$1004,MATCH(ROWS($BS$11:BS50),$BS$11:$BS$1002,0)),\"\")","v":"ETQP5M100YFC"},"ETQP5M100YFC"]
[3,"〇",null,"OK",null,"MP","Panasonic","SMD","Metal Composite","PCC","High Isat (Standard)","4M-YFN","PCC-M0645M","Yes","ETQP4M3R3YFN",{"$f":"MID(All_PCC_a[[#This Row],[Part Number]],7,3)","v":"3R3"},3.3,{"$f":"IF(All_PCC_a[[#This Row],[Lo (uH)]]<1,\"<1\",IF(All_PCC_a[[#This Row],[Lo (uH)]]<10,\"<10\",IF(All_PCC_a[[#This Row],[Lo (uH)]]<100,\"<100\",IF(All_PCC_a[[#This Row],[Lo (uH)]]<2000,\"<2000\",\"\"))))","v":"<10"},{"$f":"IFERROR(VLOOKUP(All_PCC_a[[#This Row],[Lo (uH)]],Utility!$D$5:$E$43,2,1),\"-\")","v":"≤   4"},0.2,16.100000000000001,17.71,10,8.1999999999999993,6.4,13.3,9.2799999999999994,6.5,6,4.5,{"$f":"ROUND(All_PCC_a[[#This Row],[L (mm)]]*All_PCC_a[[#This Row],[W (mm)]],1)","v":39},{"$f":"All_PCC_a[[#This Row],[L (mm)]]&\"  x  \"&All_PCC_a[[#This Row],[W (mm)]]","v":"6.5  x  6"},"_6 x 6",{"$f":"IF(All_PCC_a[[#This Row],[Max Height (mm)]]<=9,\"≤ \"&ROUNDUP(AD51,0),\"≤\"&ROUNDUP(AD51,0))","v":"≤ 5"},-40,150,{"$f":"All_PCC_a[[#This Row],[Min Temp (deg.C)]]&\" to +\"&All_PCC_a[[#This Row],[Max Temp (deg.C)]]","v":"-40 to +150"},null,null,null,"-","-","-","-","https://industrial.panasonic.com/ww/products/pt/automotive-inductors/models/ETQP4M3R3YFN","https://industrial.panasonic.com/content/data/CC/pictures/lineup-Metal-core.gif",{"$f":"_xlfn.IMAGE(All_PCC_a[[#This Row],[Image URL]])","v":{"$error":"#VALUE!"}},null,null,null,{"$f":"--ISNUMBER(IFERROR(SEARCH(#REF!,'[1]All Data'!M68,1),\"no match\"))","v":0},{"$f":"IF(AY51=1,COUNTIF($AY$11:AY51,1),\"\")","v":""},null,null,{"$f":"IF(Z51<('DCDC Ref'!$J$24/'DCDC Ref'!$J$26)*'DCDC Ref'!$J$28/100,0,1)","v":1},{"$f":"IF(BC51=0,\"\",('All Data'!Q51-'DCDC Ref'!$J$30)/'DCDC Ref'!$J$30*100)","v":-47.780219780219788},47.780219780219788,null,null,0,null,{"$f":"IF(BC51=0,\"\",('All Data'!Z51-'DCDC Ref'!$J$28*('DCDC Ref'!$J$29/100))/'DCDC Ref'!$J$28*('DCDC Ref'!$J$29/100)*100)","v":-40.379310344827587},10000,null,null,null,null,null,288901.09890109894,{"$f":"IF(BQ51=\"\",\"\",RANK(BQ51,BQ$11:BQ$9927,1)+COUNTIF(BQ$11:BQ51,BQ51)-1)","v":25},25,{"$f":"IFERROR(INDEX($O$11:$O$1004,MATCH(ROWS($BS$11:BS51),$BS$11:$BS$1002,0)),\"\")","v":"ETQP5M100YFK"},"ETQP5M100YFK"]
[10,"〇",null,"OK",null,"MP","Panasonic","SMD","Metal Composite","PCC","High Isat (Standard)","3M-YFP","PCC-M0530M","Yes","ETQP3M3R3YFP",{"$f":"MID(All_PCC_a[[#This Row],[Part Number]],7,3)","v":"3R3"},3.3,{"$f":"IF(All_PCC_a[[#This Row],[Lo (uH)]]<1,\"<1\",IF(All_PCC_a[[#This Row],[Lo (uH)]]<10,\"<10\",IF(All_PCC_a[[#This Row],[Lo (uH)]]<100,\"<100\",IF(All_PCC_a[[#This Row],[Lo (uH)]]<2000,\"<2000\",\"\"))))","v":"<10"},{"$f":"IFERROR(VLOOKUP(All_PCC_a[[#This Row],[Lo (uH)]],Utility!$D$5:$E$43,2,1),\"-\")","v":"≤   4"},0.2,31.3,34.430000000000007,10,5,4.0999999999999996,8.6,6.15,5.5,5,3,{"$f":"ROUND(All_PCC_a[[#This Row],[L (mm)]]*All_PCC_a[[#This Row],[W (mm)]],1)","v":27.5},{"$f":"All_PCC_a[[#This Row],[L (mm)]]&\"  x  \"&All_PCC_a[[#This Row],[W (mm)]]","v":"5.5  x  5"},"_5 x 5",{"$f":"IF(All_PCC_a[[#This Row],[Max Height (mm)]]<=9,\"≤ \"&ROUNDUP(AD52,0),\"≤\"&ROUNDUP(AD52,0))","v":"≤ 3"},-40,150,{"$f":"All_PCC_a[[#This Row],[Min Temp (deg.C)]]&\" to +\"&All_PCC_a[[#This Row],[Max Temp (deg.C)]]","v":"-40 to +150"},null,null,null,"-","-","-","-","https://industrial.panasonic.com/ww/products/pt/automotive-inductors/models/ETQP3M3R3YFP","https://industrial.panasonic.com/content/data/CC/pictures/lineup-Metal-core.gif",{"$f":"_xlfn.IMAGE(All_PCC_a[[#This Row],[Image URL]])","v":{"$error":"#VALUE!"}},null,null,null,{"$f":"--ISNUMBER(IFERROR(SEARCH(#REF!,'[1]All Data'!M69,1),\"no match\"))","v":0},{"$f":"IF(AY52=1,COUNTIF($AY$11:AY52,1),\"\")","v":""},null,null,{"$f":"IF(Z52<('DCDC Ref'!$J$24/'DCDC Ref'!$J$26)*'DCDC Ref'!$J$28/100,0,1)","v":1},{"$f":"IF(BC52=0,\"\",('All Data'!Q52-'DCDC Ref'!$J$30)/'DCDC Ref'!$J$30*100)","v":-47.780219780219788},47.780219780219788,null,null,0,null,{"$f":"IF(BC52=0,\"\",('All Data'!Z52-'DCDC Ref'!$J$28*('DCDC Ref'!$J$29/100))/'DCDC Ref'!$J$28*('DCDC Ref'!$J$29/100)*100)","v":-61.448275862068968},10000,null,null,null,null,null,288901.09890109894,{"$f":"IF(BQ52=\"\",\"\",RANK(BQ52,BQ$11:BQ$9927,1)+COUNTIF(BQ$11:BQ52,BQ52)-1)","v":26},26,{"$f":"IFERROR(INDEX($O$11:$O$1004,MATCH(ROWS($BS$11:BS52),$BS$11:$BS$1002,0)),\"\")","v":"ETQP5M100YFM"},"ETQP5M100YFM"]
[15,"〇",null,"OK",null,"MP","Panasonic","SMD","Metal Composite","PCC","High Isat (Standard)","5M-YFC","PCC-M1054M","Yes","ETQP5M3R3YFC",{"$f":"MID(All_PCC_a[[#This Row],[Part Number]],7,3)","v":"3R3"},3.3,{"$f":"IF(All_PCC_a[[#This Row],[Lo (uH)]]<1,\"<1\",IF(All_PCC_a[[#This Row],[Lo (uH)]]<10,\"<10\",IF(All_PCC_a[[#This Row],[Lo (uH)]]<100,\"<100\",IF(All_PCC_a[[#This Row],[Lo (uH)]]<2000,\"<2000\",\"\"))))","v":"<10"},{"$f":"IFERROR(VLOOKUP(All_PCC_a[[#This Row],[Lo (uH)]],Utility!$D$5:$E$43,2,1),\"-\")","v":"≤   4"},0.2,7.1,7.81,10,15.7,13.1,22.7,16.27,10.7,10,5.4,{"$f":"ROUND(All_PCC_a[[#This Row],[L (mm)]]*All_PCC_a[[#This Row],[W (mm)]],1)","v":107},{"$f":"All_PCC_a[[#This Row],[L (mm)]]&\"  x  \"&All_PCC_a[[#This Row],[W (mm)]]","v":"10.7  x  10"},"10 x 10",{"$f":"IF(All_PCC_a[[#This Row],[Max Height (mm)]]<=9,\"≤ \"&ROUNDUP(AD53,0),\"≤\"&ROUNDUP(AD53,0))","v":"≤ 6"},-40,150,{"$f":"All_PCC_a[[#This Row],[Min Temp (deg.C)]]&\" to +\"&All_PCC_a[[#This Row],[Max Temp (deg.C)]]","v":"-40 to +150"},null,null,null,"-","-","-","-","https://industrial.panasonic.com/ww/products/pt/automotive-inductors/models/ETQP5M3R3YFC","https://industrial.panasonic.com/content/data/CC/pictures/lineup-Metal-core.gif",{"$f":"_xlfn.IMAGE(All_PCC_a[[#This Row],[Image URL]])","v":{"$error":"#VALUE!"}},null,null,null,null,null,null,null,{"$f":"IF(Z53<('DCDC Ref'!$J$24/'DCDC Ref'!$J$26)*'DCDC Ref'!$J$28/100,0,1)","v":1},{"$f":"IF(BC53=0,\"\",('All Data'!Q53-'DCDC Ref'!$J$30)/'DCDC Ref'!$J$30*100)","v":-47.780219780219788},47.780219780219788,null,null,0,null,{"$f":"IF(BC53=0,\"\",('All Data'!Z53-'DCDC Ref'!$J$28*('DCDC Ref'!$J$29/100))/'DCDC Ref'!$J$28*('DCDC Ref'!$J$29/100)*100)","v":1.7586206896551579},1.7586206896551579,null,null,null,null,null,238909.89200454723,{"$f":"IF(BQ53=\"\",\"\",RANK(BQ53,BQ$11:BQ$9927,1)+COUNTIF(BQ$11:BQ53,BQ53)-1)","v":20},20,{"$f":"IFERROR(INDEX($O$11:$O$1004,MATCH(ROWS($BS$11:BS53),$BS$11:$BS$1002,0)),\"\")","v":"ETQP3M100KVN"},"ETQP3M100KVN"]
[43,"〇",null,"OK",null,"MP","Panasonic","SMD","Metal Composite","PCC","High Isat (Standard)","6M-YLC","PCC-M1060ML","Yes","ETQP6M3R3YLC",{"$f":"MID(All_PCC_a[[#This Row],[Part Number]],7,3)","v":"3R3"},3.3,{"$f":"IF(All_PCC_a[[#This Row],[Lo (uH)]]<1,\"<1\",IF(All_PCC_a[[#This Row],[Lo (uH)]]<10,\"<10\",IF(All_PCC_a[[#This Row],[Lo (uH)]]<100,\"<100\",IF(All_PCC_a[[#This Row],[Lo (uH)]]<2000,\"<2000\",\"\"))))","v":"<10"},{"$f":"IFERROR(VLOOKUP(All_PCC_a[[#This Row],[Lo (uH)]],Utility!$D$5:$E$43,2,1),\"-\")","v":"≤   4"},0.2,6,6.6000000000000005,10,17,14.2,26.3,19.690000000000001,10.9,10,6,{"$f":"ROUND(All_PCC_a[[#This Row],[L (mm)]]*All_PCC_a[[#This Row],[W (mm)]],1)","v":109},{"$f":"All_PCC_a[[#This Row],[L (mm)]]&\"  x  \"&All_PCC_a[[#This Row],[W (mm)]]","v":"10.9  x  10"},"10 x 10",{"$f":"IF(All_PCC_a[[#This Row],[Max Height (mm)]]<=9,\"≤ \"&ROUNDUP(AD54,0),\"≤\"&ROUNDUP(AD54,0))","v":"≤ 6"},-40,150,{"$f":"All_PCC_a[[#This Row],[Min Temp (deg.C)]]&\" to +\"&All_PCC_a[[#This Row],[Max Temp (deg.C)]]","v":"-40 to +150"},null,null,null,"-","-","-","-","https://industrial.panasonic.com/ww/products/pt/automotive-inductors/models/ETQP6M3R3YLC","https://industrial.panasonic.com/content/data/CC/pictures/lineup-Metal-core.gif",{"$f":"_xlfn.IMAGE(All_PCC_a[[#This Row],[Image URL]])","v":{"$error":"#VALUE!"}},null,null,null,null,null,null,null,{"$f":"IF(Z54<('DCDC Ref'!$J$24/'DCDC Ref'!$J$26)*'DCDC Ref'!$J$28/100,0,1)","v":1},{"$f":"IF(BC54=0,\"\",('All Data'!Q54-'DCDC Ref'!$J$30)/'DCDC Ref'!$J$30*100)","v":-47.780219780219788},47.780219780219788,null,null,0,null,{"$f":"IF(BC54=0,\"\",('All Data'!Z54-'DCDC Ref'!$J$28*('DCDC Ref'!$J$29/100))/'DCDC Ref'!$J$28*('DCDC Ref'!$J$29/100)*100)","v":17.896551724137922},17.896551724137922,null,null,null,null,null,238990.58165971964,{"$f":"IF(BQ54=\"\",\"\",RANK(BQ54,BQ$11:BQ$9927,1)+COUNTIF(BQ$11:BQ54,BQ54)-1)","v":22},22,{"$f":"IFERROR(INDEX($O$11:$O$1004,MATCH(ROWS($BS$11:BS54),$BS$11:$BS$1002,0)),\"\")","v":"ETQP4M100KVK"},"ETQP4M100KVK"]
[50,"〇",null,"OK",null,"MP","Panasonic","SMD","Metal Composite","PCC","High Current (≥□12)","8M-JFA","PCC-M1280MF","Yes","ETQP8M3R3JFA",{"$f":"MID(All_PCC_a[[#This Row],[Part Number]],7,3)","v":"3R3"},3.3,{"$f":"IF(All_PCC_a[[#This Row],[Lo (uH)]]<1,\"<1\",IF(All_PCC_a[[#This Row],[Lo (uH)]]<10,\"<10\",IF(All_PCC_a[[#This Row],[Lo (uH)]]<100,\"<100\",IF(All_PCC_a[[#This Row],[Lo (uH)]]<2000,\"<2000\",\"\"))))","v":"<10"},{"$f":"IFERROR(VLOOKUP(All_PCC_a[[#This Row],[Lo (uH)]],Utility!$D$5:$E$43,2,1),\"-\")","v":"≤   4"},0.2,3.6,3.9600000000000004,10,23.6,19.600000000000001,27.6,{"$f":"ROUND(19.7757437070938,2)","v":19.78},12.6,13.1,8,{"$f":"ROUND(All_PCC_a[[#This Row],[L (mm)]]*All_PCC_a[[#This Row],[W (mm)]],1)","v":165.1},{"$f":"All_PCC_a[[#This Row],[L (mm)]]&\"  x  \"&All_PCC_a[[#This Row],[W (mm)]]","v":"12.6  x  13.1"},"12 x 12",{"$f":"IF(All_PCC_a[[#This Row],[Max Height (mm)]]<=9,\"≤ \"&ROUNDUP(AD55,0),\"≤\"&ROUNDUP(AD55,0))","v":"≤ 8"},-40,160,{"$f":"All_PCC_a[[#This Row],[Min Temp (deg.C)]]&\" to +\"&All_PCC_a[[#This Row],[Max Temp (deg.C)]]","v":"-40 to +160"},null,null,"15Gと聞いたがカタログは30G","-","-","-","-","https://industrial.panasonic.com/ww/products/pt/automotive-inductors/models/ETQP8M3R3JFA","https://industrial.panasonic.com/content/data/CC/pictures/lineup-Large%20current.gif",{"$f":"_xlfn.IMAGE(All_PCC_a[[#This Row],[Image URL]])","v":{"$error":"#VALUE!"}},null,null,null,null,null,null,null,{"$f":"IF(Z55<('DCDC Ref'!$J$24/'DCDC Ref'!$J$26)*'DCDC Ref'!$J$28/100,0,1)","v":1},{"$f":"IF(BC55=0,\"\",('All Data'!Q55-'DCDC Ref'!$J$30)/'DCDC Ref'!$J$30*100)","v":-47.780219780219788},47.780219780219788,null,null,0,null,{"$f":"IF(BC55=0,\"\",('All Data'!Z55-'DCDC Ref'!$J$28*('DCDC Ref'!$J$29/100))/'DCDC Ref'!$J$28*('DCDC Ref'!$J$29/100)*100)","v":23.724137931034477},23.724137931034477,null,null,null,null,null,239019.7195907541,{"$f":"IF(BQ55=\"\",\"\",RANK(BQ55,BQ$11:BQ$9927,1)+COUNTIF(BQ$11:BQ55,BQ55)-1)","v":23},23,{"$f":"IFERROR(INDEX($O$11:$O$1004,MATCH(ROWS($BS$11:BS55),$BS$11:$BS$1002,0)),\"\")","v":"ETQP4M100KVC"},"ETQP4M100KVC"]
[55,"〇",null,"OK",null,"MP","Panasonic","SMD","Metal Composite","PCC","LP (Low Profile)","3M-KVP","PCC-M0530M-LP","Yes","ETQP3M3R3KVP",{"$f":"MID(All_PCC_a[[#This Row],[Part Number]],7,3)","v":"3R3"},3.3,{"$f":"IF(All_PCC_a[[#This Row],[Lo (uH)]]<1,\"<1\",IF(All_PCC_a[[#This Row],[Lo (uH)]]<10,\"<10\",IF(All_PCC_a[[#This Row],[Lo (uH)]]<100,\"<100\",IF(All_PCC_a[[#This Row],[Lo (uH)]]<2000,\"<2000\",\"\"))))","v":"<10"},{"$f":"IFERROR(VLOOKUP(All_PCC_a[[#This Row],[Lo (uH)]],Utility!$D$5:$E$43,2,1),\"-\")","v":"≤   4"},0.2,27.3,30.030000000000005,10,5.4,4.4000000000000004,8,5.81,5.5,5,3,{"$f":"ROUND(All_PCC_a[[#This Row],[L (mm)]]*All_PCC_a[[#This Row],[W (mm)]],1)","v":27.5},{"$f":"All_PCC_a[[#This Row],[L (mm)]]&\"  x  \"&All_PCC_a[[#This Row],[W (mm)]]","v":"5.5  x  5"},"_5 x 5",{"$f":"IF(All_PCC_a[[#This Row],[Max Height (mm)]]<=9,\"≤ \"&ROUNDUP(AD56,0),\"≤\"&ROUNDUP(AD56,0))","v":"≤ 3"},-55,155,{"$f":"All_PCC_a[[#This Row],[Min Temp (deg.C)]]&\" to +\"&All_PCC_a[[#This Row],[Max Temp (deg.C)]]","v":"-55 to +155"},null,null,null,"-","-","-","-","https://industrial.panasonic.com/ww/products/pt/automotive-inductors/models/ETQP3M3R3KVP","https://industrial.panasonic.com/content/data/CC/pictures/lineup-LP.gif",{"$f":"_xlfn.IMAGE(All_PCC_a[[#This Row],[Image URL]])","v":{"$error":"#VALUE!"}},null,null,null,null,null,null,null,{"$f":"IF(Z56<('DCDC Ref'!$J$24/'DCDC Ref'!$J$26)*'DCDC Ref'!$J$28/100,0,1)","v":1},{"$f":"IF(BC56=0,\"\",('All Data'!Q56-'DCDC Ref'!$J$30)/'DCDC Ref'!$J$30*100)","v":-47.780219780219788},47.780219780219788,null,null,0,null,{"$f":"IF(BC56=0,\"\",('All Data'!Z56-'DCDC Ref'!$J$28*('DCDC Ref'!$J$29/100))/'DCDC Ref'!$J$28*('DCDC Ref'!$J$29/100)*100)","v":-64.137931034482762},10000,null,null,null,null,null,288901.09890109894,{"$f":"IF(BQ56=\"\",\"\",RANK(BQ56,BQ$11:BQ$9927,1)+COUNTIF(BQ$11:BQ56,BQ56)-1)","v":27},27,{"$f":"IFERROR(INDEX($O$11:$O$1004,MATCH(ROWS($BS$11:BS56),$BS$11:$BS$1002,0)),\"\")","v":"ETQP3M100HFN"},"ETQP3M100HFN"]
[66,"〇",null,"OK",null,"MP","Panasonic","SMD","Metal Composite","PCC","LP (Low Profile)","3M-KVN","PCC-M0630M-LP","Yes","ETQP3M3R3KVN",{"$f":"MID(All_PCC_a[[#This Row],[Part Number]],7,3)","v":"3R3"},3.3,{"$f":"IF(All_PCC_a[[#This Row],[Lo (uH)]]<1,\"<1\",IF(All_PCC_a[[#This Row],[Lo (uH)]]<10,\"<10\",IF(All_PCC_a[[#This Row],[Lo (uH)]]<100,\"<100\",IF(All_PCC_a[[#This Row],[Lo (uH)]]<2000,\"<2000\",\"\"))))","v":"<10"},{"$f":"IFERROR(VLOOKUP(All_PCC_a[[#This Row],[Lo (uH)]],Utility!$D$5:$E$43,2,1),\"-\")","v":"≤   4"},0.2,24.1,26.510000000000005,10,6.1,5,11.5,7.3,6.4,6,3,{"$f":"ROUND(All_PCC_a[[#This Row],[L (mm)]]*All_PCC_a[[#This Row],[W (mm)]],1)","v":38.4},{"$f":"All_PCC_a[[#This Row],[L (mm)]]&\"  x  \"&All_PCC_a[[#This Row],[W (mm)]]","v":"6.4  x  6"},"_6 x 6",{"$f":"IF(All_PCC_a[[#This Row],[Max Height (mm)]]<=9,\"≤ \"&ROUNDUP(AD57,0),\"≤\"&ROUNDUP(AD57,0))","v":"≤ 3"},-55,155,{"$f":"All_PCC_a[[#This Row],[Min Temp (deg.C)]]&\" to +\"&All_PCC_a[[#This Row],[Max Temp (deg.C)]]","v":"-55 to +155"},null,null,null,"-","-","-","-","https://industrial.panasonic.com/ww/products/pt/automotive-inductors/models/ETQP3M3R3KVN","https://industrial.panasonic.com/content/data/CC/pictures/lineup-LP.gif",{"$f":"_xlfn.IMAGE(All_PCC_a[[#This Row],[Image URL]])","v":{"$error":"#VALUE!"}},null,null,null,null,null,null,null,{"$f":"IF(Z57<('DCDC Ref'!$J$24/'DCDC Ref'!$J$26)*'DCDC Ref'!$J$28/100,0,1)","v":1},{"$f":"IF(BC57=0,\"\",('All Data'!Q57-'DCDC Ref'!$J$30)/'DCDC Ref'!$J$30*100)","v":-47.780219780219788},47.780219780219788,null,null,0,null,{"$f":"IF(BC57=0,\"\",('All Data'!Z57-'DCDC Ref'!$J$28*('DCDC Ref'!$J$29/100))/'DCDC Ref'!$J$28*('DCDC Ref'!$J$29/100)*100)","v":-48.448275862068975},10000,null,null,null,null,null,288901.09890109894,{"$f":"IF(BQ57=\"\",\"\",RANK(BQ57,BQ$11:BQ$9927,1)+COUNTIF(BQ$11:BQ57,BQ57)-1)","v":28},28,{"$f":"IFERROR(INDEX($O$11:$O$1004,MATCH(ROWS($BS$11:BS57),$BS$11:$BS$1002,0)),\"\")","v":"ETQP4M100KFN"},"ETQP4M100KFN"]
[77,"〇",null,"OK",null,"MP","Panasonic","SMD","Metal Composite","PCC","LP (Low Profile)","4M-KVK","PCC-M0840M-LP","Yes","ETQP4M3R3KVK",{"$f":"MID(All_PCC_a[[#This Row],[Part Number]],7,3)","v":"3R3"},3.3,{"$f":"IF(All_PCC_a[[#This Row],[Lo (uH)]]<1,\"<1\",IF(All_PCC_a[[#This Row],[Lo (uH)]]<10,\"<10\",IF(All_PCC_a[[#This Row],[Lo (uH)]]<100,\"<100\",IF(All_PCC_a[[#This Row],[Lo (uH)]]<2000,\"<2000\",\"\"))))","v":"<10"},{"$f":"IFERROR(VLOOKUP(All_PCC_a[[#This Row],[Lo (uH)]],Utility!$D$5:$E$43,2,1),\"-\")","v":"≤   4"},0.2,14.1,15.51,10,8.9,7.6,17.399999999999999,11.71,8.5,8,4,{"$f":"ROUND(All_PCC_a[[#This Row],[L (mm)]]*All_PCC_a[[#This Row],[W (mm)]],1)","v":68},{"$f":"All_PCC_a[[#This Row],[L (mm)]]&\"  x  \"&All_PCC_a[[#This Row],[W (mm)]]","v":"8.5  x  8"},"_8 x 8",{"$f":"IF(All_PCC_a[[#This Row],[Max Height (mm)]]<=9,\"≤ \"&ROUNDUP(AD58,0),\"≤\"&ROUNDUP(AD58,0))","v":"≤ 4"},-55,155,{"$f":"All_PCC_a[[#This Row],[Min Temp (deg.C)]]&\" to +\"&All_PCC_a[[#This Row],[Max Temp (deg.C)]]","v":"-55 to +155"},null,null,null,"-","-","-","-","https://industrial.panasonic.com/ww/products/pt/automotive-inductors/models/ETQP4M3R3KVK","https://industrial.panasonic.com/content/data/CC/pictures/lineup-LP.gif",{"$f":"_xlfn.IMAGE(All_PCC_a[[#This Row],[Image URL]])","v":{"$error":"#VALUE!"}},null,null,null,null,null,null,null,{"$f":"IF(Z58<('DCDC Ref'!$J$24/'DCDC Ref'!$J$26)*'DCDC Ref'!$J$28/100,0,1)","v":1},{"$f":"IF(BC58=0,\"\",('All Data'!Q58-'DCDC Ref'!$J$30)/'DCDC Ref'!$J$30*100)","v":-47.780219780219788},47.780219780219788,null,null,0,null,{"$f":"IF(BC58=0,\"\",('All Data'!Z58-'DCDC Ref'!$J$28*('DCDC Ref'!$J$29/100))/'DCDC Ref'!$J$28*('DCDC Ref'!$J$29/100)*100)","v":-22.000000000000014},10000,null,null,null,null,null,288901.09890109894,{"$f":"IF(BQ58=\"\",\"\",RANK(BQ58,BQ$11:BQ$9927,1)+COUNTIF(BQ$11:BQ58,BQ58)-1)","v":29},29,{"$f":"IFERROR(INDEX($O$11:$O$1004,MATCH(ROWS($BS$11:BS58),$BS$11:$BS$1002,0)),\"\")","v":"ETQP4M100KFM"},"ETQP4M100KFM"]
[89,"〇",null,"OK",null,"MP","Panasonic","SMD","Metal Composite","PCC","LP (Low Profile)","4M-KVC","PCC-M1040M-LP","Yes","ETQP4M3R3KVC",{"$f":"MID(All_PCC_a[[#This Row],[Part Number]],7,3)","v":"3R3"},3.3,{"$f":"IF(All_PCC_a[[#This Row],[Lo (uH)]]<1,\"<1\",IF(All_PCC_a[[#This Row],[Lo (uH)]]<10,\"<10\",IF(All_PCC_a[[#This Row],[Lo (uH)]]<100,\"<100\",IF(All_PCC_a[[#This Row],[Lo (uH)]]<2000,\"<2000\",\"\"))))","v":"<10"},{"$f":"IFERROR(VLOOKUP(All_PCC_a[[#This Row],[Lo (uH)]],Utility!$D$5:$E$43,2,1),\"-\")","v":"≤   4"},0.2,9.4,10.340000000000002,10,12.6,10.3,17.100000000000001,12.66,10.7,10,4,{"$f":"ROUND(All_PCC_a[[#This Row],[L (mm)]]*All_PCC_a[[#This Row],[W (mm)]],1)","v":107},{"$f":"All_PCC_a[[#This Row],[L (mm)]]&\"  x  \"&All_PCC_a[[#This Row],[W (mm)]]","v":"10.7  x  10"},"10 x 10",{"$f":"IF(All_PCC_a[[#This Row],[Max Height (mm)]]<=9,\"≤ \"&ROUNDUP(AD59,0),\"≤\"&ROUNDUP(AD59,0))","v":"≤ 4"},-55,155,{"$f":"All_PCC_a[[#This Row],[Min Temp (deg.C)]]&\" to +\"&All_PCC_a[[#This Row],[Max Temp (deg.C)]]","v":"-55 to +155"},null,null,null,"-","-","-","-","https://industrial.panasonic.com/ww/products/pt/automotive-inductors/models/ETQP4M3R3KVC","https://industrial.panasonic.com/content/data/CC/pictures/lineup-LP.gif",{"$f":"_xlfn.IMAGE(All_PCC_a[[#This Row],[Image URL]])","v":{"$error":"#VALUE!"}},null,null,null,null,null,null,null,{"$f":"IF(Z59<('DCDC Ref'!$J$24/'DCDC Ref'!$J$26)*'DCDC Ref'!$J$28/100,0,1)","v":1},{"$f":"IF(BC59=0,\"\",('All Data'!Q59-'DCDC Ref'!$J$30)/'DCDC Ref'!$J$30*100)","v":-47.780219780219788},47.780219780219788,null,null,0,null,{"$f":"IF(BC59=0,\"\",('All Data'!Z59-'DCDC Ref'!$J$28*('DCDC Ref'!$J$29/100))/'DCDC Ref'!$J$28*('DCDC Ref'!$J$29/100)*100)","v":-23.344827586206897},10000,null,null,null,null,null,288901.09890109894,{"$f":"IF(BQ59=\"\",\"\",RANK(BQ59,BQ$11:BQ$9927,1)+COUNTIF(BQ$11:BQ59,BQ59)-1)","v":30},30,{"$f":"IFERROR(INDEX($O$11:$O$1004,MATCH(ROWS($BS$11:BS59),$BS$11:$BS$1002,0)),\"\")","v":"ETQP5M100GAK"},"ETQP5M100GAK"]
[97,"〇",null,"OK",null,"MP","Panasonic","SMD","Metal Composite","PCC","LE (Low Price)","4M-KFN","PCC-M0648M-LE","Yes","ETQP4M3R3KFN",{"$f":"MID(All_PCC_a[[#This Row],[Part Number]],7,3)","v":"3R3"},3.3,{"$f":"IF(All_PCC_a[[#This Row],[Lo (uH)]]<1,\"<1\",IF(All_PCC_a[[#This Row],[Lo (uH)]]<10,\"<10\",IF(All_PCC_a[[#This Row],[Lo (uH)]]<100,\"<100\",IF(All_PCC_a[[#This Row],[Lo (uH)]]<2000,\"<2000\",\"\"))))","v":"<10"},{"$f":"IFERROR(VLOOKUP(All_PCC_a[[#This Row],[Lo (uH)]],Utility!$D$5:$E$43,2,1),\"-\")","v":"≤   4"},0.2,13.1,14.41,10,9.1999999999999993,7.2,12,8.9,6.4,6,4.8,{"$f":"ROUND(All_PCC_a[[#This Row],[L (mm)]]*All_PCC_a[[#This Row],[W (mm)]],1)","v":38.4},{"$f":"All_PCC_a[[#This Row],[L (mm)]]&\"  x  \"&All_PCC_a[[#This Row],[W (mm)]]","v":"6.4  x  6"},"_6 x 6",{"$f":"IF(All_PCC_a[[#This Row],[Max Height (mm)]]<=9,\"≤ \"&ROUNDUP(AD60,0),\"≤\"&ROUNDUP(AD60,0))","v":"≤ 5"},-40,150,{"$f":"All_PCC_a[[#This Row],[Min Temp (deg.C)]]&\" to +\"&All_PCC_a[[#This Row],[Max Temp (deg.C)]]","v":"-40 to +150"},null,null,null,"-","-","-","-","https://industrial.panasonic.com/ww/products/pt/automotive-inductors/models/ETQP4M3R3KFN","https://industrial.panasonic.com/content/data/CC/pictures/lineup-LE.gif",{"$f":"_xlfn.IMAGE(All_PCC_a[[#This Row],[Image URL]])","v":{"$error":"#VALUE!"}},null,null,null,null,null,null,null,{"$f":"IF(Z60<('DCDC Ref'!$J$24/'DCDC Ref'!$J$26)*'DCDC Ref'!$J$28/100,0,1)","v":1},{"$f":"IF(BC60=0,\"\",('All Data'!Q60-'DCDC Ref'!$J$30)/'DCDC Ref'!$J$30*100)","v":-47.780219780219788},47.780219780219788,null,null,0,null,{"$f":"IF(BC60=0,\"\",('All Data'!Z60-'DCDC Ref'!$J$28*('DCDC Ref'!$J$29/100))/'DCDC Ref'!$J$28*('DCDC Ref'!$J$29/100)*100)","v":-46.206896551724142},10000,null,null,null,null,null,288901.09890109894,{"$f":"IF(BQ60=\"\",\"\",RANK(BQ60,BQ$11:BQ$9927,1)+COUNTIF(BQ$11:BQ60,BQ60)-1)","v":31},31,{"$f":"IFERROR(INDEX($O$11:$O$1004,MATCH(ROWS($BS$11:BS60),$BS$11:$BS$1002,0)),\"\")","v":"ETQP5M2R0YLC"},"ETQP5M2R0YLC"]
[109,"〇",null,"OK",null,"MP","Panasonic","SMD","Metal Composite","PCC","High Isat (Standard)","5M-YFM","PCC-M0754M","Yes","ETQP5M3R3YFM",{"$f":"MID(All_PCC_a[[#This Row],[Part Number]],7,3)","v":"3R3"},3.3,{"$f":"IF(All_PCC_a[[#This Row],[Lo (uH)]]<1,\"<1\",IF(All_PCC_a[[#This Row],[Lo (uH)]]<10,\"<10\",IF(All_PCC_a[[#This Row],[Lo (uH)]]<100,\"<100\",IF(All_PCC_a[[#This Row],[Lo (uH)]]<2000,\"<2000\",\"\"))))","v":"<10"},{"$f":"IFERROR(VLOOKUP(All_PCC_a[[#This Row],[Lo (uH)]],Utility!$D$5:$E$43,2,1),\"-\")","v":"≤   4"},0.2,11.9,{"$f":"All_PCC_a[[#This Row],[DCR Typ (mOhm)]]*1.1","v":13.090000000000002},10,10.4,8.3000000000000007,14.4,10.34,7.5,7,5.4,{"$f":"ROUND(All_PCC_a[[#This Row],[L (mm)]]*All_PCC_a[[#This Row],[W (mm)]],1)","v":52.5},{"$f":"All_PCC_a[[#This Row],[L (mm)]]&\"  x  \"&All_PCC_a[[#This Row],[W (mm)]]","v":"7.5  x  7"},"_7 x 7",{"$f":"IF(All_PCC_a[[#This Row],[Max Height (mm)]]<=9,\"≤ \"&ROUNDUP(AD61,0),\"≤\"&ROUNDUP(AD61,0))","v":"≤ 6"},-40,150,{"$f":"All_PCC_a[[#This Row],[Min Temp (deg.C)]]&\" to +\"&All_PCC_a[[#This Row],[Max Temp (deg.C)]]","v":"-40 to +150"},null,null,null,"-","-","-","-","https://industrial.panasonic.com/ww/products/pt/automotive-inductors/models/ETQP5M3R3YFM","https://industrial.panasonic.com/content/data/CC/pictures/lineup-Metal-core.gif",{"$f":"_xlfn.IMAGE(All_PCC_a[[#This Row],[Image URL]])","v":{"$error":"#VALUE!"}},null,null,null,null,null,null,null,{"$f":"IF(Z61<('DCDC Ref'!$J$24/'DCDC Ref'!$J$26)*'DCDC Ref'!$J$28/100,0,1)","v":1},{"$f":"IF(BC61=0,\"\",('All Data'!Q61-'DCDC Ref'!$J$30)/'DCDC Ref'!$J$30*100)","v":-47.780219780219788},47.780219780219788,null,null,0,null,{"$f":"IF(BC61=0,\"\",('All Data'!Z61-'DCDC Ref'!$J$28*('DCDC Ref'!$J$29/100))/'DCDC Ref'!$J$28*('DCDC Ref'!$J$29/100)*100)","v":-35.448275862068975},10000,null,null,null,null,null,288901.09890109894,{"$f":"IF(BQ61=\"\",\"\",RANK(BQ61,BQ$11:BQ$9927,1)+COUNTIF(BQ$11:BQ61,BQ61)-1)","v":32},32,{"$f":"IFERROR(INDEX($O$11:$O$1004,MATCH(ROWS($BS$11:BS61),$BS$11:$BS$1002,0)),\"\")","v":"ETQP5M2R0YSC"},"ETQP5M2R0YSC"]
[110,"〇",null,"OK",null,"MP","Panasonic","SMD","Metal Composite","PCC","High Isat (Standard)","5M-YFK","PCC-M0854M","Yes","ETQP5M3R3YFK",{"$f":"MID(All_PCC_a[[#This Row],[Part Number]],7,3)","v":"3R3"},3.3,{"$f":"IF(All_PCC_a[[#This Row],[Lo (uH)]]<1,\"<1\",IF(All_PCC_a[[#This Row],[Lo (uH)]]<10,\"<10\",IF(All_PCC_a[[#This Row],[Lo (uH)]]<100,\"<100\",IF(All_PCC_a[[#This Row],[Lo (uH)]]<2000,\"<2000\",\"\"))))","v":"<10"},{"$f":"IFERROR(VLOOKUP(All_PCC_a[[#This Row],[Lo (uH)]],Utility!$D$5:$E$43,2,1),\"-\")","v":"≤   4"},0.2,9.5,{"$f":"All_PCC_a[[#This Row],[DCR Typ (mOhm)]]*1.1","v":10.450000000000001},10,12.5,10.7,17.899999999999999,12.96,8.5,8,5.4,{"$f":"ROUND(All_PCC_a[[#This Row],[L (mm)]]*All_PCC_a[[#This Row],[W (mm)]],1)","v":68},{"$f":"All_PCC_a[[#This Row],[L (mm)]]&\"  x  \"&All_PCC_a[[#This Row],[W (mm)]]","v":"8.5  x  8"},"_8 x 8",{"$f":"IF(All_PCC_a[[#This Row],[Max Height (mm)]]<=9,\"≤ \"&ROUNDUP(AD62,0),\"≤\"&ROUNDUP(AD62,0))","v":"≤ 6"},-40,150,{"$f":"All_PCC_a[[#This Row],[Min Temp (deg.C)]]&\" to +\"&All_PCC_a[[#This Row],[Max Temp (deg.C)]]","v":"-40 to +150"},null,null,null,"-","-","-","-","https://industrial.panasonic.com/ww/products/pt/automotive-inductors/models/ETQP5M3R3YFK","https://industrial.panasonic.com/content/data/CC/pictures/lineup-Metal-core.gif",{"$f":"_xlfn.IMAGE(All_PCC_a[[#This Row],[Image URL]])","v":{"$error":"#VALUE!"}},null,null,null,null,null,null,null,{"$f":"IF(Z62<('DCDC Ref'!$J$24/'DCDC Ref'!$J$26)*'DCDC Ref'!$J$28/100,0,1)","v":1},{"$f":"IF(BC62=0,\"\",('All Data'!Q62-'DCDC Ref'!$J$30)/'DCDC Ref'!$J$30*100)","v":-47.780219780219788},47.780219780219788,null,null,0,null,{"$f":"IF(BC62=0,\"\",('All Data'!Z62-'DCDC Ref'!$J$28*('DCDC Ref'!$J$29/100))/'DCDC Ref'!$J$28*('DCDC Ref'!$J$29/100)*100)","v":-19.758620689655189},10000,null,null,null,null,null,288901.09890109894,{"$f":"IF(BQ62=\"\",\"\",RANK(BQ62,BQ$11:BQ$9927,1)+COUNTIF(BQ$11:BQ62,BQ62)-1)","v":33},33,{"$f":"IFERROR(INDEX($O$11:$O$1004,MATCH(ROWS($BS$11:BS62),$BS$11:$BS$1002,0)),\"\")","v":"ETQP5M2R5YFK"},"ETQP5M2R5YFK"]
[111,"〇",null,"OK",null,"MP","Panasonic","SMD","Metal Composite","PCC","High Isat (Standard)","5M-YGC","PCC-M1050M","Yes","ETQP5M3R3YGC",{"$f":"MID(All_PCC_a[[#This Row],[Part Number]],7,3)","v":"3R3"},3.3,{"$f":"IF(All_PCC_a[[#This Row],[Lo (uH)]]<1,\"<1\",IF(All_PCC_a[[#This Row],[Lo (uH)]]<10,\"<10\",IF(All_PCC_a[[#This Row],[Lo (uH)]]<100,\"<100\",IF(All_PCC_a[[#This Row],[Lo (uH)]]<2000,\"<2000\",\"\"))))","v":"<10"},{"$f":"IFERROR(VLOOKUP(All_PCC_a[[#This Row],[Lo (uH)]],Utility!$D$5:$E$43,2,1),\"-\")","v":"≤   4"},0.2,7.1,7.81,10,14.7,11.8,23.4,16.63,10.7,10,5,{"$f":"ROUND(All_PCC_a[[#This Row],[L (mm)]]*All_PCC_a[[#This Row],[W (mm)]],1)","v":107},{"$f":"All_PCC_a[[#This Row],[L (mm)]]&\"  x  \"&All_PCC_a[[#This Row],[W (mm)]]","v":"10.7  x  10"},"10 x 10",{"$f":"IF(All_PCC_a[[#This Row],[Max Height (mm)]]<=9,\"≤ \"&ROUNDUP(AD63,0),\"≤\"&ROUNDUP(AD63,0))","v":"≤ 5"},-40,150,{"$f":"All_PCC_a[[#This Row],[Min Temp (deg.C)]]&\" to +\"&All_PCC_a[[#This Row],[Max Temp (deg.C)]]","v":"-40 to +150"},null,null,null,"-","-","-","-","https://industrial.panasonic.com/ww/products/pt/automotive-inductors/models/ETQP5M3R3YGC","https://industrial.panasonic.com/content/data/CC/pictures/lineup-Metal-core.gif",{"$f":"_xlfn.IMAGE(All_PCC_a[[#This Row],[Image URL]])","v":{"$error":"#VALUE!"}},null,null,null,null,null,null,null,{"$f":"IF(Z63<('DCDC Ref'!$J$24/'DCDC Ref'!$J$26)*'DCDC Ref'!$J$28/100,0,1)","v":1},{"$f":"IF(BC63=0,\"\",('All Data'!Q63-'DCDC Ref'!$J$30)/'DCDC Ref'!$J$30*100)","v":-47.780219780219788},47.780219780219788,null,null,0,null,{"$f":"IF(BC63=0,\"\",('All Data'!Z63-'DCDC Ref'!$J$28*('DCDC Ref'!$J$29/100))/'DCDC Ref'!$J$28*('DCDC Ref'!$J$29/100)*100)","v":4.8965517241379128},4.8965517241379128,null,null,null,null,null,238925.58165971964,{"$f":"IF(BQ63=\"\",\"\",RANK(BQ63,BQ$11:BQ$9927,1)+COUNTIF(BQ$11:BQ63,BQ63)-1)","v":21},21,{"$f":"IFERROR(INDEX($O$11:$O$1004,MATCH(ROWS($BS$11:BS63),$BS$11:$BS$1002,0)),\"\")","v":"ETQP5M2R5YSK"},"ETQP5M2R5YSK"]
[11,"〇",null,"OK",null,"MP","Panasonic","SMD","Metal Composite","PCC","High Isat (Standard)","4M-YFP","PCC-M0540M","Yes","ETQP4M4R7YFP",{"$f":"MID(All_PCC_a[[#This Row],[Part Number]],7,3)","v":"4R7"},4.7,{"$f":"IF(All_PCC_a[[#This Row],[Lo (uH)]]<1,\"<1\",IF(All_PCC_a[[#This Row],[Lo (uH)]]<10,\"<10\",IF(All_PCC_a[[#This Row],[Lo (uH)]]<100,\"<100\",IF(All_PCC_a[[#This Row],[Lo (uH)]]<2000,\"<2000\",\"\"))))","v":"<10"},{"$f":"IFERROR(VLOOKUP(All_PCC_a[[#This Row],[Lo (uH)]],Utility!$D$5:$E$43,2,1),\"-\")","v":"≤   5"},0.2,36,39.6,10,4.8,4,7.7,5.6,5.5,5,4,{"$f":"ROUND(All_PCC_a[[#This Row],[L (mm)]]*All_PCC_a[[#This Row],[W (mm)]],1)","v":27.5},{"$f":"All_PCC_a[[#This Row],[L (mm)]]&\"  x  \"&All_PCC_a[[#This Row],[W (mm)]]","v":"5.5  x  5"},"_5 x 5",{"$f":"IF(All_PCC_a[[#This Row],[Max Height (mm)]]<=9,\"≤ \"&ROUNDUP(AD64,0),\"≤\"&ROUNDUP(AD64,0))","v":"≤ 4"},-40,150,{"$f":"All_PCC_a[[#This Row],[Min Temp (deg.C)]]&\" to +\"&All_PCC_a[[#This Row],[Max Temp (deg.C)]]","v":"-40 to +150"},null,null,null,"-","-","-","-","https://industrial.panasonic.com/ww/products/pt/automotive-inductors/models/ETQP4M4R7YFP","https://industrial.panasonic.com/content/data/CC/pictures/lineup-Metal-core.gif",{"$f":"_xlfn.IMAGE(All_PCC_a[[#This Row],[Image URL]])","v":{"$error":"#VALUE!"}},null,null,null,null,null,null,null,{"$f":"IF(Z64<('DCDC Ref'!$J$24/'DCDC Ref'!$J$26)*'DCDC Ref'!$J$28/100,0,1)","v":1},{"$f":"IF(BC64=0,\"\",('All Data'!Q64-'DCDC Ref'!$J$30)/'DCDC Ref'!$J$30*100)","v":-25.626373626373628},25.626373626373628,null,null,0,null,{"$f":"IF(BC64=0,\"\",('All Data'!Z64-'DCDC Ref'!$J$28*('DCDC Ref'!$J$29/100))/'DCDC Ref'!$J$28*('DCDC Ref'!$J$29/100)*100)","v":-65.482758620689665},10000,null,null,null,null,null,178131.86813186813,{"$f":"IF(BQ64=\"\",\"\",RANK(BQ64,BQ$11:BQ$9927,1)+COUNTIF(BQ$11:BQ64,BQ64)-1)","v":11},11,{"$f":"IFERROR(INDEX($O$11:$O$1004,MATCH(ROWS($BS$11:BS64),$BS$11:$BS$1002,0)),\"\")","v":"ETQP3M2R2YFP"},"ETQP3M2R2YFP"]
[16,"〇",null,"OK",null,"MP","Panasonic","SMD","Metal Composite","PCC","High Isat (Standard)","5M-YFC","PCC-M1054M","Yes","ETQP5M4R7YFC",{"$f":"MID(All_PCC_a[[#This Row],[Part Number]],7,3)","v":"4R7"},4.7,{"$f":"IF(All_PCC_a[[#This Row],[Lo (uH)]]<1,\"<1\",IF(All_PCC_a[[#This Row],[Lo (uH)]]<10,\"<10\",IF(All_PCC_a[[#This Row],[Lo (uH)]]<100,\"<100\",IF(All_PCC_a[[#This Row],[Lo (uH)]]<2000,\"<2000\",\"\"))))","v":"<10"},{"$f":"IFERROR(VLOOKUP(All_PCC_a[[#This Row],[Lo (uH)]],Utility!$D$5:$E$43,2,1),\"-\")","v":"≤   5"},0.2,10.199999999999999,11.3,10,13.1,10.9,20,14.75,10.7,10,5.4,{"$f":"ROUND(All_PCC_a[[#This Row],[L (mm)]]*All_PCC_a[[#This Row],[W (mm)]],1)","v":107},{"$f":"All_PCC_a[[#This Row],[L (mm)]]&\"  x  \"&All_PCC_a[[#This Row],[W (mm)]]","v":"10.7  x  10"},"10 x 10",{"$f":"IF(All_PCC_a[[#This Row],[Max Height (mm)]]<=9,\"≤ \"&ROUNDUP(AD65,0),\"≤\"&ROUNDUP(AD65,0))","v":"≤ 6"},-40,150,{"$f":"All_PCC_a[[#This Row],[Min Temp (deg.C)]]&\" to +\"&All_PCC_a[[#This Row],[Max Temp (deg.C)]]","v":"-40 to +150"},null,null,null,"-","-","-","-","https://industrial.panasonic.com/ww/products/pt/automotive-inductors/models/ETQP5M4R7YFC","https://industrial.panasonic.com/content/data/CC/pictures/lineup-Metal-core.gif",{"$f":"_xlfn.IMAGE(All_PCC_a[[#This Row],[Image URL]])","v":{"$error":"#VALUE!"}},null,null,null,null,null,null,null,{"$f":"IF(Z65<('DCDC Ref'!$J$24/'DCDC Ref'!$J$26)*'DCDC Ref'!$J$28/100,0,1)","v":1},{"$f":"IF(BC65=0,\"\",('All Data'!Q65-'DCDC Ref'!$J$30)/'DCDC Ref'!$J$30*100)","v":-25.626373626373628},25.626373626373628,null,null,0,null,{"$f":"IF(BC65=0,\"\",('All Data'!Z65-'DCDC Ref'!$J$28*('DCDC Ref'!$J$29/100))/'DCDC Ref'!$J$28*('DCDC Ref'!$J$29/100)*100)","v":-10.344827586206906},10000,null,null,null,null,null,178131.86813186813,{"$f":"IF(BQ65=\"\",\"\",RANK(BQ65,BQ$11:BQ$9927,1)+COUNTIF(BQ$11:BQ65,BQ65)-1)","v":12},12,{"$f":"IFERROR(INDEX($O$11:$O$1004,MATCH(ROWS($BS$11:BS65),$BS$11:$BS$1002,0)),\"\")","v":"ETQP3M2R2KVP"},"ETQP3M2R2KVP"]
[30,"〇",null,"OK",null,"MP","Panasonic","SMD","Metal Composite","PCC","High Isat (Standard)","5M-YFM","PCC-M0754M","Yes","ETQP5M4R7YFM",{"$f":"MID(All_PCC_a[[#This Row],[Part Number]],7,3)","v":"4R7"},4.7,{"$f":"IF(All_PCC_a[[#This Row],[Lo (uH)]]<1,\"<1\",IF(All_PCC_a[[#This Row],[Lo (uH)]]<10,\"<10\",IF(All_PCC_a[[#This Row],[Lo (uH)]]<100,\"<100\",IF(All_PCC_a[[#This Row],[Lo (uH)]]<2000,\"<2000\",\"\"))))","v":"<10"},{"$f":"IFERROR(VLOOKUP(All_PCC_a[[#This Row],[Lo (uH)]],Utility!$D$5:$E$43,2,1),\"-\")","v":"≤   5"},0.2,20.399999999999999,22.5,10,8,6.3,13.1,9.4499999999999993,7.5,7,5.4,{"$f":"ROUND(All_PCC_a[[#This Row],[L (mm)]]*All_PCC_a[[#This Row],[W (mm)]],1)","v":52.5},{"$f":"All_PCC_a[[#This Row],[L (mm)]]&\"  x  \"&All_PCC_a[[#This Row],[W (mm)]]","v":"7.5  x  7"},"_7 x 7",{"$f":"IF(All_PCC_a[[#This Row],[Max Height (mm)]]<=9,\"≤ \"&ROUNDUP(AD66,0),\"≤\"&ROUNDUP(AD66,0))","v":"≤ 6"},-40,150,{"$f":"All_PCC_a[[#This Row],[Min Temp (deg.C)]]&\" to +\"&All_PCC_a[[#This Row],[Max Temp (deg.C)]]","v":"-40 to +150"},null,null,null,"-","-","-","-","https://industrial.panasonic.com/ww/products/pt/automotive-inductors/models/ETQP5M4R7YFM","https://industrial.panasonic.com/content/data/CC/pictures/lineup-Metal-core.gif",{"$f":"_xlfn.IMAGE(All_PCC_a[[#This Row],[Image URL]])","v":{"$error":"#VALUE!"}},null,null,null,null,null,null,null,{"$f":"IF(Z66<('DCDC Ref'!$J$24/'DCDC Ref'!$J$26)*'DCDC Ref'!$J$28/100,0,1)","v":1},{"$f":"IF(BC66=0,\"\",('All Data'!Q66-'DCDC Ref'!$J$30)/'DCDC Ref'!$J$30*100)","v":-25.626373626373628},25.626373626373628,null,null,0,null,{"$f":"IF(BC66=0,\"\",('All Data'!Z66-'DCDC Ref'!$J$28*('DCDC Ref'!$J$29/100))/'DCDC Ref'!$J$28*('DCDC Ref'!$J$29/100)*100)","v":-41.275862068965523},10000,null,null,null,null,null,178131.86813186813,{"$f":"IF(BQ66=\"\",\"\",RANK(BQ66,BQ$11:BQ$9927,1)+COUNTIF(BQ$11:BQ66,BQ66)-1)","v":13},13,{"$f":"IFERROR(INDEX($O$11:$O$1004,MATCH(ROWS($BS$11:BS66),$BS$11:$BS$1002,0)),\"\")","v":"ETQP3M2R2KVN"},"ETQP3M2R2KVN"]
[44,"〇",null,"OK",null,"MP","Panasonic","SMD","Metal Composite","PCC","High Isat (Standard)","6M-YLC","PCC-M1060ML","Yes","ETQP6M4R7YLC",{"$f":"MID(All_PCC_a[[#This Row],[Part Number]],7,3)","v":"4R7"},4.7,{"$f":"IF(All_PCC_a[[#This Row],[Lo (uH)]]<1,\"<1\",IF(All_PCC_a[[#This Row],[Lo (uH)]]<10,\"<10\",IF(All_PCC_a[[#This Row],[Lo (uH)]]<100,\"<100\",IF(All_PCC_a[[#This Row],[Lo (uH)]]<2000,\"<2000\",\"\"))))","v":"<10"},{"$f":"IFERROR(VLOOKUP(All_PCC_a[[#This Row],[Lo (uH)]],Utility!$D$5:$E$43,2,1),\"-\")","v":"≤   5"},0.2,8.6999999999999993,9.57,10,14.1,11.8,22.5,15.17,10.9,10,6,{"$f":"ROUND(All_PCC_a[[#This Row],[L (mm)]]*All_PCC_a[[#This Row],[W (mm)]],1)","v":109},{"$f":"All_PCC_a[[#This Row],[L (mm)]]&\"  x  \"&All_PCC_a[[#This Row],[W (mm)]]","v":"10.9  x  10"},"10 x 10",{"$f":"IF(All_PCC_a[[#This Row],[Max Height (mm)]]<=9,\"≤ \"&ROUNDUP(AD67,0),\"≤\"&ROUNDUP(AD67,0))","v":"≤ 6"},-40,150,{"$f":"All_PCC_a[[#This Row],[Min Temp (deg.C)]]&\" to +\"&All_PCC_a[[#This Row],[Max Temp (deg.C)]]","v":"-40 to +150"},null,null,null,"-","-","-","-","https://industrial.panasonic.com/ww/products/pt/automotive-inductors/models/ETQP6M4R7YLC","https://industrial.panasonic.com/content/data/CC/pictures/lineup-Metal-core.gif",{"$f":"_xlfn.IMAGE(All_PCC_a[[#This Row],[Image URL]])","v":{"$error":"#VALUE!"}},null,null,null,null,null,null,null,{"$f":"IF(Z67<('DCDC Ref'!$J$24/'DCDC Ref'!$J$26)*'DCDC Ref'!$J$28/100,0,1)","v":1},{"$f":"IF(BC67=0,\"\",('All Data'!Q67-'DCDC Ref'!$J$30)/'DCDC Ref'!$J$30*100)","v":-25.626373626373628},25.626373626373628,null,null,0,null,{"$f":"IF(BC67=0,\"\",('All Data'!Z67-'DCDC Ref'!$J$28*('DCDC Ref'!$J$29/100))/'DCDC Ref'!$J$28*('DCDC Ref'!$J$29/100)*100)","v":0.86206896551723022},0.86206896551723022,null,null,null,null,null,128136.17847669571,{"$f":"IF(BQ67=\"\",\"\",RANK(BQ67,BQ$11:BQ$9927,1)+COUNTIF(BQ$11:BQ67,BQ67)-1)","v":8},8,{"$f":"IFERROR(INDEX($O$11:$O$1004,MATCH(ROWS($BS$11:BS67),$BS$11:$BS$1002,0)),\"\")","v":"ETQP4M2R2KVK"},"ETQP4M2R2KVK"]
[51,"〇",null,"OK",null,"MP","Panasonic","SMD","Metal Composite","PCC","High Current (≥□12)","8M-JFA","PCC-M1280MF","Yes","ETQP8M4R7JFA",{"$f":"MID(All_PCC_a[[#This Row],[Part Number]],7,3)","v":"4R7"},4.7,{"$f":"IF(All_PCC_a[[#This Row],[Lo (uH)]]<1,\"<1\",IF(All_PCC_a[[#This Row],[Lo (uH)]]<10,\"<10\",IF(All_PCC_a[[#This Row],[Lo (uH)]]<100,\"<100\",IF(All_PCC_a[[#This Row],[Lo (uH)]]<2000,\"<2000\",\"\"))))","v":"<10"},{"$f":"IFERROR(VLOOKUP(All_PCC_a[[#This Row],[Lo (uH)]],Utility!$D$5:$E$43,2,1),\"-\")","v":"≤   5"},0.2,4.9000000000000004,5.39,10,20.2,16.8,24.7,{"$f":"ROUND(17.6035242290749,2)","v":17.600000000000001},12.6,13.1,8,{"$f":"ROUND(All_PCC_a[[#This Row],[L (mm)]]*All_PCC_a[[#This Row],[W (mm)]],1)","v":165.1},{"$f":"All_PCC_a[[#This Row],[L (mm)]]&\"  x  \"&All_PCC_a[[#This Row],[W (mm)]]","v":"12.6  x  13.1"},"12 x 12",{"$f":"IF(All_PCC_a[[#This Row],[Max Height (mm)]]<=9,\"≤ \"&ROUNDUP(AD68,0),\"≤\"&ROUNDUP(AD68,0))","v":"≤ 8"},-40,160,{"$f":"All_PCC_a[[#This Row],[Min Temp (deg.C)]]&\" to +\"&All_PCC_a[[#This Row],[Max Temp (deg.C)]]","v":"-40 to +160"},null,null,"15Gと聞いたがカタログは30G","-","-","-","-","https://industrial.panasonic.com/ww/products/pt/automotive-inductors/models/ETQP8M4R7JFA","https://industrial.panasonic.com/content/data/CC/pictures/lineup-Large%20current.gif",{"$f":"_xlfn.IMAGE(All_PCC_a[[#This Row],[Image URL]])","v":{"$error":"#VALUE!"}},null,null,null,null,null,null,null,{"$f":"IF(Z68<('DCDC Ref'!$J$24/'DCDC Ref'!$J$26)*'DCDC Ref'!$J$28/100,0,1)","v":1},{"$f":"IF(BC68=0,\"\",('All Data'!Q68-'DCDC Ref'!$J$30)/'DCDC Ref'!$J$30*100)","v":-25.626373626373628},25.626373626373628,null,null,0,null,{"$f":"IF(BC68=0,\"\",('All Data'!Z68-'DCDC Ref'!$J$28*('DCDC Ref'!$J$29/100))/'DCDC Ref'!$J$28*('DCDC Ref'!$J$29/100)*100)","v":10.724137931034468},10.724137931034468,null,null,null,null,null,128185.48882152331,{"$f":"IF(BQ68=\"\",\"\",RANK(BQ68,BQ$11:BQ$9927,1)+COUNTIF(BQ$11:BQ68,BQ68)-1)","v":9},9,{"$f":"IFERROR(INDEX($O$11:$O$1004,MATCH(ROWS($BS$11:BS68),$BS$11:$BS$1002,0)),\"\")","v":"ETQP4M2R2KVC"},"ETQP4M2R2KVC"]
[54,"〇",null,"OK",null,"MP","Panasonic","SMD","Metal Composite","PCC","LP (Low Profile)","3M-KVP","PCC-M0530M-LP","Yes","ETQP3M4R7KVP",{"$f":"MID(All_PCC_a[[#This Row],[Part Number]],7,3)","v":"4R7"},4.7,{"$f":"IF(All_PCC_a[[#This Row],[Lo (uH)]]<1,\"<1\",IF(All_PCC_a[[#This Row],[Lo (uH)]]<10,\"<10\",IF(All_PCC_a[[#This Row],[Lo (uH)]]<100,\"<100\",IF(All_PCC_a[[#This Row],[Lo (uH)]]<2000,\"<2000\",\"\"))))","v":"<10"},{"$f":"IFERROR(VLOOKUP(All_PCC_a[[#This Row],[Lo (uH)]],Utility!$D$5:$E$43,2,1),\"-\")","v":"≤   5"},0.2,45.6,50.160000000000004,10,4.0999999999999996,3.4,6.7,5.4,5.5,5,3,{"$f":"ROUND(All_PCC_a[[#This Row],[L (mm)]]*All_PCC_a[[#This Row],[W (mm)]],1)","v":27.5},{"$f":"All_PCC_a[[#This Row],[L (mm)]]&\"  x  \"&All_PCC_a[[#This Row],[W (mm)]]","v":"5.5  x  5"},"_5 x 5",{"$f":"IF(All_PCC_a[[#This Row],[Max Height (mm)]]<=9,\"≤ \"&ROUNDUP(AD69,0),\"≤\"&ROUNDUP(AD69,0))","v":"≤ 3"},-55,155,{"$f":"All_PCC_a[[#This Row],[Min Temp (deg.C)]]&\" to +\"&All_PCC_a[[#This Row],[Max Temp (deg.C)]]","v":"-55 to +155"},null,null,null,"-","-","-","-","https://industrial.panasonic.com/ww/products/pt/automotive-inductors/models/ETQP3M4R7KVP","https://industrial.panasonic.com/content/data/CC/pictures/lineup-LP.gif",{"$f":"_xlfn.IMAGE(All_PCC_a[[#This Row],[Image URL]])","v":{"$error":"#VALUE!"}},null,null,null,null,null,null,null,{"$f":"IF(Z69<('DCDC Ref'!$J$24/'DCDC Ref'!$J$26)*'DCDC Ref'!$J$28/100,0,1)","v":1},{"$f":"IF(BC69=0,\"\",('All Data'!Q69-'DCDC Ref'!$J$30)/'DCDC Ref'!$J$30*100)","v":-25.626373626373628},25.626373626373628,null,null,0,null,{"$f":"IF(BC69=0,\"\",('All Data'!Z69-'DCDC Ref'!$J$28*('DCDC Ref'!$J$29/100))/'DCDC Ref'!$J$28*('DCDC Ref'!$J$29/100)*100)","v":-69.965517241379317},10000,null,null,null,null,null,178131.86813186813,{"$f":"IF(BQ69=\"\",\"\",RANK(BQ69,BQ$11:BQ$9927,1)+COUNTIF(BQ$11:BQ69,BQ69)-1)","v":14},14,{"$f":"IFERROR(INDEX($O$11:$O$1004,MATCH(ROWS($BS$11:BS69),$BS$11:$BS$1002,0)),\"\")","v":"ETQP3M2R2HFP"},"ETQP3M2R2HFP"]
[65,"〇",null,"OK",null,"MP","Panasonic","SMD","Metal Composite","PCC","LP (Low Profile)","3M-KVN","PCC-M0630M-LP","Yes","ETQP3M4R7KVN",{"$f":"MID(All_PCC_a[[#This Row],[Part Number]],7,3)","v":"4R7"},4.7,{"$f":"IF(All_PCC_a[[#This Row],[Lo (uH)]]<1,\"<1\",IF(All_PCC_a[[#This Row],[Lo (uH)]]<10,\"<10\",IF(All_PCC_a[[#This Row],[Lo (uH)]]<100,\"<100\",IF(All_PCC_a[[#This Row],[Lo (uH)]]<2000,\"<2000\",\"\"))))","v":"<10"},{"$f":"IFERROR(VLOOKUP(All_PCC_a[[#This Row],[Lo (uH)]],Utility!$D$5:$E$43,2,1),\"-\")","v":"≤   5"},0.2,29,31.900000000000002,10,5.6,4.5999999999999996,9.8000000000000007,7.19,6.4,6,3,{"$f":"ROUND(All_PCC_a[[#This Row],[L (mm)]]*All_PCC_a[[#This Row],[W (mm)]],1)","v":38.4},{"$f":"All_PCC_a[[#This Row],[L (mm)]]&\"  x  \"&All_PCC_a[[#This Row],[W (mm)]]","v":"6.4  x  6"},"_6 x 6",{"$f":"IF(All_PCC_a[[#This Row],[Max Height (mm)]]<=9,\"≤ \"&ROUNDUP(AD70,0),\"≤\"&ROUNDUP(AD70,0))","v":"≤ 3"},-55,155,{"$f":"All_PCC_a[[#This Row],[Min Temp (deg.C)]]&\" to +\"&All_PCC_a[[#This Row],[Max Temp (deg.C)]]","v":"-55 to +155"},null,null,null,"-","-","-","-","https://industrial.panasonic.com/ww/products/pt/automotive-inductors/models/ETQP3M4R7KVN","https://industrial.panasonic.com/content/data/CC/pictures/lineup-LP.gif",{"$f":"_xlfn.IMAGE(All_PCC_a[[#This Row],[Image URL]])","v":{"$error":"#VALUE!"}},null,null,null,null,null,null,null,{"$f":"IF(Z70<('DCDC Ref'!$J$24/'DCDC Ref'!$J$26)*'DCDC Ref'!$J$28/100,0,1)","v":1},{"$f":"IF(BC70=0,\"\",('All Data'!Q70-'DCDC Ref'!$J$30)/'DCDC Ref'!$J$30*100)","v":-25.626373626373628},25.626373626373628,null,null,0,null,{"$f":"IF(BC70=0,\"\",('All Data'!Z70-'DCDC Ref'!$J$28*('DCDC Ref'!$J$29/100))/'DCDC Ref'!$J$28*('DCDC Ref'!$J$29/100)*100)","v":-56.068965517241374},10000,null,null,null,null,null,178131.86813186813,{"$f":"IF(BQ70=\"\",\"\",RANK(BQ70,BQ$11:BQ$9927,1)+COUNTIF(BQ$11:BQ70,BQ70)-1)","v":15},15,{"$f":"IFERROR(INDEX($O$11:$O$1004,MATCH(ROWS($BS$11:BS70),$BS$11:$BS$1002,0)),\"\")","v":"ETQP4M2R2YFN"},"ETQP4M2R2YFN"]
[76,"〇",null,"OK",null,"MP","Panasonic","SMD","Metal Composite","PCC","LP (Low Profile)","4M-KVK","PCC-M0840M-LP","Yes","ETQP4M4R7KVK",{"$f":"MID(All_PCC_a[[#This Row],[Part Number]],7,3)","v":"4R7"},4.7,{"$f":"IF(All_PCC_a[[#This Row],[Lo (uH)]]<1,\"<1\",IF(All_PCC_a[[#This Row],[Lo (uH)]]<10,\"<10\",IF(All_PCC_a[[#This Row],[Lo (uH)]]<100,\"<100\",IF(All_PCC_a[[#This Row],[Lo (uH)]]<2000,\"<2000\",\"\"))))","v":"<10"},{"$f":"IFERROR(VLOOKUP(All_PCC_a[[#This Row],[Lo (uH)]],Utility!$D$5:$E$43,2,1),\"-\")","v":"≤   5"},0.2,16.100000000000001,17.71,10,8.3000000000000007,7.1,15.1,9.24,8.5,8,4,{"$f":"ROUND(All_PCC_a[[#This Row],[L (mm)]]*All_PCC_a[[#This Row],[W (mm)]],1)","v":68},{"$f":"All_PCC_a[[#This Row],[L (mm)]]&\"  x  \"&All_PCC_a[[#This Row],[W (mm)]]","v":"8.5  x  8"},"_8 x 8",{"$f":"IF(All_PCC_a[[#This Row],[Max Height (mm)]]<=9,\"≤ \"&ROUNDUP(AD71,0),\"≤\"&ROUNDUP(AD71,0))","v":"≤ 4"},-55,155,{"$f":"All_PCC_a[[#This Row],[Min Temp (deg.C)]]&\" to +\"&All_PCC_a[[#This Row],[Max Temp (deg.C)]]","v":"-55 to +155"},null,null,null,"-","-","-","-","https://industrial.panasonic.com/ww/products/pt/automotive-inductors/models/ETQP4M4R7KVK","https://industrial.panasonic.com/content/data/CC/pictures/lineup-LP.gif",{"$f":"_xlfn.IMAGE(All_PCC_a[[#This Row],[Image URL]])","v":{"$error":"#VALUE!"}},null,null,null,null,null,null,null,{"$f":"IF(Z71<('DCDC Ref'!$J$24/'DCDC Ref'!$J$26)*'DCDC Ref'!$J$28/100,0,1)","v":1},{"$f":"IF(BC71=0,\"\",('All Data'!Q71-'DCDC Ref'!$J$30)/'DCDC Ref'!$J$30*100)","v":-25.626373626373628},25.626373626373628,null,null,0,null,{"$f":"IF(BC71=0,\"\",('All Data'!Z71-'DCDC Ref'!$J$28*('DCDC Ref'!$J$29/100))/'DCDC Ref'!$J$28*('DCDC Ref'!$J$29/100)*100)","v":-32.310344827586221},10000,null,null,null,null,null,178131.86813186813,{"$f":"IF(BQ71=\"\",\"\",RANK(BQ71,BQ$11:BQ$9927,1)+COUNTIF(BQ$11:BQ71,BQ71)-1)","v":16},16,{"$f":"IFERROR(INDEX($O$11:$O$1004,MATCH(ROWS($BS$11:BS71),$BS$11:$BS$1002,0)),\"\")","v":"ETQP4M1R5KVK"},"ETQP4M1R5KVK"]
[88,"〇",null,"OK",null,"MP","Panasonic","SMD","Metal Composite","PCC","LP (Low Profile)","4M-KVC","PCC-M1040M-LP","Yes","ETQP4M4R7KVC",{"$f":"MID(All_PCC_a[[#This Row],[Part Number]],7,3)","v":"4R7"},4.7,{"$f":"IF(All_PCC_a[[#This Row],[Lo (uH)]]<1,\"<1\",IF(All_PCC_a[[#This Row],[Lo (uH)]]<10,\"<10\",IF(All_PCC_a[[#This Row],[Lo (uH)]]<100,\"<100\",IF(All_PCC_a[[#This Row],[Lo (uH)]]<2000,\"<2000\",\"\"))))","v":"<10"},{"$f":"IFERROR(VLOOKUP(All_PCC_a[[#This Row],[Lo (uH)]],Utility!$D$5:$E$43,2,1),\"-\")","v":"≤   5"},0.2,12.3,13.53,10,11.2,9.1999999999999993,13.9,10.58,10.7,10,4,{"$f":"ROUND(All_PCC_a[[#This Row],[L (mm)]]*All_PCC_a[[#This Row],[W (mm)]],1)","v":107},{"$f":"All_PCC_a[[#This Row],[L (mm)]]&\"  x  \"&All_PCC_a[[#This Row],[W (mm)]]","v":"10.7  x  10"},"10 x 10",{"$f":"IF(All_PCC_a[[#This Row],[Max Height (mm)]]<=9,\"≤ \"&ROUNDUP(AD72,0),\"≤\"&ROUNDUP(AD72,0))","v":"≤ 4"},-55,155,{"$f":"All_PCC_a[[#This Row],[Min Temp (deg.C)]]&\" to +\"&All_PCC_a[[#This Row],[Max Temp (deg.C)]]","v":"-55 to +155"},null,null,null,"-","-","-","-","https://industrial.panasonic.com/ww/products/pt/automotive-inductors/models/ETQP4M4R7KVC","https://industrial.panasonic.com/content/data/CC/pictures/lineup-LP.gif",{"$f":"_xlfn.IMAGE(All_PCC_a[[#This Row],[Image URL]])","v":{"$error":"#VALUE!"}},null,null,null,null,null,null,null,{"$f":"IF(Z72<('DCDC Ref'!$J$24/'DCDC Ref'!$J$26)*'DCDC Ref'!$J$28/100,0,1)","v":1},{"$f":"IF(BC72=0,\"\",('All Data'!Q72-'DCDC Ref'!$J$30)/'DCDC Ref'!$J$30*100)","v":-25.626373626373628},25.626373626373628,null,null,0,null,{"$f":"IF(BC72=0,\"\",('All Data'!Z72-'DCDC Ref'!$J$28*('DCDC Ref'!$J$29/100))/'DCDC Ref'!$J$28*('DCDC Ref'!$J$29/100)*100)","v":-37.689655172413801},10000,null,null,null,null,null,178131.86813186813,{"$f":"IF(BQ72=\"\",\"\",RANK(BQ72,BQ$11:BQ$9927,1)+COUNTIF(BQ$11:BQ72,BQ72)-1)","v":17},17,{"$f":"IFERROR(INDEX($O$11:$O$1004,MATCH(ROWS($BS$11:BS72),$BS$11:$BS$1002,0)),\"\")","v":"ETQP4M1R5KVC"},"ETQP4M1R5KVC"]
[98,"〇",null,"OK",null,"MP","Panasonic","SMD","Metal Composite","PCC","LE (Low Price)","4M-KFN","PCC-M0648M-LE","Yes","ETQP4M4R7KFN",{"$f":"MID(All_PCC_a[[#This Row],[Part Number]],7,3)","v":"4R7"},4.7,{"$f":"IF(All_PCC_a[[#This Row],[Lo (uH)]]<1,\"<1\",IF(All_PCC_a[[#This Row],[Lo (uH)]]<10,\"<10\",IF(All_PCC_a[[#This Row],[Lo (uH)]]<100,\"<100\",IF(All_PCC_a[[#This Row],[Lo (uH)]]<2000,\"<2000\",\"\"))))","v":"<10"},{"$f":"IFERROR(VLOOKUP(All_PCC_a[[#This Row],[Lo (uH)]],Utility!$D$5:$E$43,2,1),\"-\")","v":"≤   5"},0.2,20.7,22.77,10,7.3,5.7,10.199999999999999,7.31,6.4,6,4.8,{"$f":"ROUND(All_PCC_a[[#This Row],[L (mm)]]*All_PCC_a[[#This Row],[W (mm)]],1)","v":38.4},{"$f":"All_PCC_a[[#This Row],[L (mm)]]&\"  x  \"&All_PCC_a[[#This Row],[W (mm)]]","v":"6.4  x  6"},"_6 x 6",{"$f":"IF(All_PCC_a[[#This Row],[Max Height (mm)]]<=9,\"≤ \"&ROUNDUP(AD73,0),\"≤\"&ROUNDUP(AD73,0))","v":"≤ 5"},-40,150,{"$f":"All_PCC_a[[#This Row],[Min Temp (deg.C)]]&\" to +\"&All_PCC_a[[#This Row],[Max Temp (deg.C)]]","v":"-40 to +150"},null,null,null,"-","-","-","-","https://industrial.panasonic.com/ww/products/pt/automotive-inductors/models/ETQP4M4R7KFN","https://industrial.panasonic.com/content/data/CC/pictures/lineup-LE.gif",{"$f":"_xlfn.IMAGE(All_PCC_a[[#This Row],[Image URL]])","v":{"$error":"#VALUE!"}},null,null,null,null,null,null,null,{"$f":"IF(Z73<('DCDC Ref'!$J$24/'DCDC Ref'!$J$26)*'DCDC Ref'!$J$28/100,0,1)","v":1},{"$f":"IF(BC73=0,\"\",('All Data'!Q73-'DCDC Ref'!$J$30)/'DCDC Ref'!$J$30*100)","v":-25.626373626373628},25.626373626373628,null,null,0,null,{"$f":"IF(BC73=0,\"\",('All Data'!Z73-'DCDC Ref'!$J$28*('DCDC Ref'!$J$29/100))/'DCDC Ref'!$J$28*('DCDC Ref'!$J$29/100)*100)","v":-54.27586206896553},10000,null,null,null,null,null,178131.86813186813,{"$f":"IF(BQ73=\"\",\"\",RANK(BQ73,BQ$11:BQ$9927,1)+COUNTIF(BQ$11:BQ73,BQ73)-1)","v":18},18,{"$f":"IFERROR(INDEX($O$11:$O$1004,MATCH(ROWS($BS$11:BS73),$BS$11:$BS$1002,0)),\"\")","v":"ETQP8M1R5JFA"},"ETQP8M1R5JFA"]
[101,"〇",null,"OK",null,"MP","Panasonic","SMD","Metal Composite","PCC","LE (Low Price)","4M-KFM","PCC-M0748M-LE","Yes","ETQP4M4R7KFM",{"$f":"MID(All_PCC_a[[#This Row],[Part Number]],7,3)","v":"4R7"},4.7,{"$f":"IF(All_PCC_a[[#This Row],[Lo (uH)]]<1,\"<1\",IF(All_PCC_a[[#This Row],[Lo (uH)]]<10,\"<10\",IF(All_PCC_a[[#This Row],[Lo (uH)]]<100,\"<100\",IF(All_PCC_a[[#This Row],[Lo (uH)]]<2000,\"<2000\",\"\"))))","v":"<10"},{"$f":"IFERROR(VLOOKUP(All_PCC_a[[#This Row],[Lo (uH)]],Utility!$D$5:$E$43,2,1),\"-\")","v":"≤   5"},0.2,16.8,18.48,10,8.8000000000000007,6.5,10.7,7.7,7.4,7,4.8,{"$f":"ROUND(All_PCC_a[[#This Row],[L (mm)]]*All_PCC_a[[#This Row],[W (mm)]],1)","v":51.8},{"$f":"All_PCC_a[[#This Row],[L (mm)]]&\"  x  \"&All_PCC_a[[#This Row],[W (mm)]]","v":"7.4  x  7"},"_7 x 7",{"$f":"IF(All_PCC_a[[#This Row],[Max Height (mm)]]<=9,\"≤ \"&ROUNDUP(AD74,0),\"≤\"&ROUNDUP(AD74,0))","v":"≤ 5"},-40,150,{"$f":"All_PCC_a[[#This Row],[Min Temp (deg.C)]]&\" to +\"&All_PCC_a[[#This Row],[Max Temp (deg.C)]]","v":"-40 to +150"},null,null,null,"-","-","-","-","https://industrial.panasonic.com/ww/products/pt/automotive-inductors/models/ETQP4M4R7KFM","https://industrial.panasonic.com/content/data/CC/pictures/lineup-LE.gif",{"$f":"_xlfn.IMAGE(All_PCC_a[[#This Row],[Image URL]])","v":{"$error":"#VALUE!"}},null,null,null,null,null,null,null,{"$f":"IF(Z74<('DCDC Ref'!$J$24/'DCDC Ref'!$J$26)*'DCDC Ref'!$J$28/100,0,1)","v":1},{"$f":"IF(BC74=0,\"\",('All Data'!Q74-'DCDC Ref'!$J$30)/'DCDC Ref'!$J$30*100)","v":-25.626373626373628},25.626373626373628,null,null,{"$f":"IF(BG74<0,10000,BG74)","v":0},null,{"$f":"IF(BC74=0,\"\",('All Data'!Z74-'DCDC Ref'!$J$28*('DCDC Ref'!$J$29/100))/'DCDC Ref'!$J$28*('DCDC Ref'!$J$29/100)*100)","v":-52.03448275862069},{"$f":"IF(BJ74<0,10000,BJ74)","v":10000},null,null,null,null,null,178131.86813186813,{"$f":"IF(BQ74=\"\",\"\",RANK(BQ74,BQ$11:BQ$9927,1)+COUNTIF(BQ$11:BQ74,BQ74)-1)","v":19},19,{"$f":"IFERROR(INDEX($O$11:$O$1004,MATCH(ROWS($BS$11:BS74),$BS$11:$BS$1002,0)),\"\")","v":"ETQP6M1R5YLC"},"ETQP6M1R5YLC"]
[4,"〇",null,"OK",null,"MP","Panasonic","SMD","Metal Composite","PCC","High Isat (Standard)","4M-YFN","PCC-M0645M","Yes","ETQP4M6R8YFN",{"$f":"MID(All_PCC_a[[#This Row],[Part Number]],7,3)","v":"6R8"},6.8,{"$f":"IF(All_PCC_a[[#This Row],[Lo (uH)]]<1,\"<1\",IF(All_PCC_a[[#This Row],[Lo (uH)]]<10,\"<10\",IF(All_PCC_a[[#This Row],[Lo (uH)]]<100,\"<100\",IF(All_PCC_a[[#This Row],[Lo (uH)]]<2000,\"<2000\",\"\"))))","v":"<10"},{"$f":"IFERROR(VLOOKUP(All_PCC_a[[#This Row],[Lo (uH)]],Utility!$D$5:$E$43,2,1),\"-\")","v":"≤   7"},0.2,39.299999999999997,43.23,10,5.2,4.0999999999999996,10,7.2,6.5,6,4.5,{"$f":"ROUND(All_PCC_a[[#This Row],[L (mm)]]*All_PCC_a[[#This Row],[W (mm)]],1)","v":39},{"$f":"All_PCC_a[[#This Row],[L (mm)]]&\"  x  \"&All_PCC_a[[#This Row],[W (mm)]]","v":"6.5  x  6"},"_6 x 6",{"$f":"IF(All_PCC_a[[#This Row],[Max Height (mm)]]<=9,\"≤ \"&ROUNDUP(AD75,0),\"≤\"&ROUNDUP(AD75,0))","v":"≤ 5"},-40,150,{"$f":"All_PCC_a[[#This Row],[Min Temp (deg.C)]]&\" to +\"&All_PCC_a[[#This Row],[Max Temp (deg.C)]]","v":"-40 to +150"},null,null,null,"-","-","-","-","https://industrial.panasonic.com/ww/products/pt/automotive-inductors/models/ETQP4M6R8YFN","https://industrial.panasonic.com/content/data/CC/pictures/lineup-Metal-core.gif",{"$f":"_xlfn.IMAGE(All_PCC_a[[#This Row],[Image URL]])","v":{"$error":"#VALUE!"}},null,null,null,null,null,null,null,{"$f":"IF(Z75<('DCDC Ref'!$J$24/'DCDC Ref'!$J$26)*'DCDC Ref'!$J$28/100,0,1)","v":1},{"$f":"IF(BC75=0,\"\",('All Data'!Q75-'DCDC Ref'!$J$30)/'DCDC Ref'!$J$30*100)","v":7.6043956043955987},{"$f":"ABS(BD75)","v":7.6043956043955987},null,null,0,null,{"$f":"IF(BC75=0,\"\",('All Data'!Z75-'DCDC Ref'!$J$28*('DCDC Ref'!$J$29/100))/'DCDC Ref'!$J$28*('DCDC Ref'!$J$29/100)*100)","v":-55.172413793103459},10000,null,null,null,null,null,{"$f":"IFERROR(BE75*$BP$6+BK75*$BP$7,\"\")","v":88021.978021977993},{"$f":"IF(BQ75=\"\",\"\",RANK(BQ75,BQ$11:BQ$9927,1)+COUNTIF(BQ$11:BQ75,BQ75)-1)","v":1},{"$f":"RANK(BR75,BR$11:BR$9927,1)","v":1},{"$f":"IFERROR(INDEX($O$11:$O$1004,MATCH(ROWS($BS$11:BS75),$BS$11:$BS$1002,0)),\"\")","v":"ETQP5M1R5YFC"},{"$f":"IF(BT75<>\"\",BT75,\"\")","v":"ETQP5M1R5YFC"}]
[31,"〇",null,"OK",null,"MP","Panasonic","SMD","Metal Composite","PCC","High Isat (Standard)","5M-YFM","PCC-M0754M","Yes","ETQP5M6R8YFM",{"$f":"MID(All_PCC_a[[#This Row],[Part Number]],7,3)","v":"6R8"},6.8,{"$f":"IF(All_PCC_a[[#This Row],[Lo (uH)]]<1,\"<1\",IF(All_PCC_a[[#This Row],[Lo (uH)]]<10,\"<10\",IF(All_PCC_a[[#This Row],[Lo (uH)]]<100,\"<100\",IF(All_PCC_a[[#This Row],[Lo (uH)]]<2000,\"<2000\",\"\"))))","v":"<10"},{"$f":"IFERROR(VLOOKUP(All_PCC_a[[#This Row],[Lo (uH)]],Utility!$D$5:$E$43,2,1),\"-\")","v":"≤   7"},0.2,26.7,29.4,10,6.9,5.5,12.1,8.6,7.5,7,5.4,{"$f":"ROUND(All_PCC_a[[#This Row],[L (mm)]]*All_PCC_a[[#This Row],[W (mm)]],1)","v":52.5},{"$f":"All_PCC_a[[#This Row],[L (mm)]]&\"  x  \"&All_PCC_a[[#This Row],[W (mm)]]","v":"7.5  x  7"},"_7 x 7",{"$f":"IF(All_PCC_a[[#This Row],[Max Height (mm)]]<=9,\"≤ \"&ROUNDUP(AD76,0),\"≤\"&ROUNDUP(AD76,0))","v":"≤ 6"},-40,150,{"$f":"All_PCC_a[[#This Row],[Min Temp (deg.C)]]&\" to +\"&All_PCC_a[[#This Row],[Max Temp (deg.C)]]","v":"-40 to +150"},null,null,null,"-","-","-","-","https://industrial.panasonic.com/ww/products/pt/automotive-inductors/models/ETQP5M6R8YFM","https://industrial.panasonic.com/content/data/CC/pictures/lineup-Metal-core.gif",{"$f":"_xlfn.IMAGE(All_PCC_a[[#This Row],[Image URL]])","v":{"$error":"#VALUE!"}},null,null,null,null,null,null,null,{"$f":"IF(Z76<('DCDC Ref'!$J$24/'DCDC Ref'!$J$26)*'DCDC Ref'!$J$28/100,0,1)","v":1},{"$f":"IF(BC76=0,\"\",('All Data'!Q76-'DCDC Ref'!$J$30)/'DCDC Ref'!$J$30*100)","v":7.6043956043955987},7.6043956043955987,null,null,0,null,{"$f":"IF(BC76=0,\"\",('All Data'!Z76-'DCDC Ref'!$J$28*('DCDC Ref'!$J$29/100))/'DCDC Ref'!$J$28*('DCDC Ref'!$J$29/100)*100)","v":-45.758620689655174},10000,null,null,null,null,null,88021.978021977993,{"$f":"IF(BQ76=\"\",\"\",RANK(BQ76,BQ$11:BQ$9927,1)+COUNTIF(BQ$11:BQ76,BQ76)-1)","v":2},2,{"$f":"IFERROR(INDEX($O$11:$O$1004,MATCH(ROWS($BS$11:BS76),$BS$11:$BS$1002,0)),\"\")","v":"ETQPAM1R5JFW"},"ETQPAM1R5JFW"]
[53,"〇",null,"OK",null,"MP","Panasonic","SMD","Metal Composite","PCC","LP (Low Profile)","3M-KVP","PCC-M0530M-LP","Yes","ETQP3M6R8KVP",{"$f":"MID(All_PCC_a[[#This Row],[Part Number]],7,3)","v":"6R8"},6.8,{"$f":"IF(All_PCC_a[[#This Row],[Lo (uH)]]<1,\"<1\",IF(All_PCC_a[[#This Row],[Lo (uH)]]<10,\"<10\",IF(All_PCC_a[[#This Row],[Lo (uH)]]<100,\"<100\",IF(All_PCC_a[[#This Row],[Lo (uH)]]<2000,\"<2000\",\"\"))))","v":"<10"},{"$f":"IFERROR(VLOOKUP(All_PCC_a[[#This Row],[Lo (uH)]],Utility!$D$5:$E$43,2,1),\"-\")","v":"≤   7"},0.2,65.7,72.27000000000001,10,3.5,2.9,6.1,4.54,5.5,5,3,{"$f":"ROUND(All_PCC_a[[#This Row],[L (mm)]]*All_PCC_a[[#This Row],[W (mm)]],1)","v":27.5},{"$f":"All_PCC_a[[#This Row],[L (mm)]]&\"  x  \"&All_PCC_a[[#This Row],[W (mm)]]","v":"5.5  x  5"},"_5 x 5",{"$f":"IF(All_PCC_a[[#This Row],[Max Height (mm)]]<=9,\"≤ \"&ROUNDUP(AD77,0),\"≤\"&ROUNDUP(AD77,0))","v":"≤ 3"},-55,155,{"$f":"All_PCC_a[[#This Row],[Min Temp (deg.C)]]&\" to +\"&All_PCC_a[[#This Row],[Max Temp (deg.C)]]","v":"-55 to +155"},null,null,null,"-","-","-","-","https://industrial.panasonic.com/ww/products/pt/automotive-inductors/models/ETQP3M6R8KVP","https://industrial.panasonic.com/content/data/CC/pictures/lineup-LP.gif",{"$f":"_xlfn.IMAGE(All_PCC_a[[#This Row],[Image URL]])","v":{"$error":"#VALUE!"}},null,null,null,null,null,null,null,{"$f":"IF(Z77<('DCDC Ref'!$J$24/'DCDC Ref'!$J$26)*'DCDC Ref'!$J$28/100,0,1)","v":1},{"$f":"IF(BC77=0,\"\",('All Data'!Q77-'DCDC Ref'!$J$30)/'DCDC Ref'!$J$30*100)","v":7.6043956043955987},7.6043956043955987,null,null,0,null,{"$f":"IF(BC77=0,\"\",('All Data'!Z77-'DCDC Ref'!$J$28*('DCDC Ref'!$J$29/100))/'DCDC Ref'!$J$28*('DCDC Ref'!$J$29/100)*100)","v":-72.65517241379311},10000,null,null,null,null,null,88021.978021977993,{"$f":"IF(BQ77=\"\",\"\",RANK(BQ77,BQ$11:BQ$9927,1)+COUNTIF(BQ$11:BQ77,BQ77)-1)","v":3},3,{"$f":"IFERROR(INDEX($O$11:$O$1004,MATCH(ROWS($BS$11:BS77),$BS$11:$BS$1002,0)),\"\")","v":"ETQP4M1R0KVK"},"ETQP4M1R0KVK"]
[64,"〇",null,"OK",null,"MP","Panasonic","SMD","Metal Composite","PCC","LP (Low Profile)","3M-KVN","PCC-M0630M-LP","Yes","ETQP3M6R8KVN",{"$f":"MID(All_PCC_a[[#This Row],[Part Number]],7,3)","v":"6R8"},6.8,{"$f":"IF(All_PCC_a[[#This Row],[Lo (uH)]]<1,\"<1\",IF(All_PCC_a[[#This Row],[Lo (uH)]]<10,\"<10\",IF(All_PCC_a[[#This Row],[Lo (uH)]]<100,\"<100\",IF(All_PCC_a[[#This Row],[Lo (uH)]]<2000,\"<2000\",\"\"))))","v":"<10"},{"$f":"IFERROR(VLOOKUP(All_PCC_a[[#This Row],[Lo (uH)]],Utility!$D$5:$E$43,2,1),\"-\")","v":"≤   7"},0.2,45.6,50.16,10,4.5,3.6,8.1,5.48,6.4,6,3,{"$f":"ROUND(All_PCC_a[[#This Row],[L (mm)]]*All_PCC_a[[#This Row],[W (mm)]],1)","v":38.4},{"$f":"All_PCC_a[[#This Row],[L (mm)]]&\"  x  \"&All_PCC_a[[#This Row],[W (mm)]]","v":"6.4  x  6"},"_6 x 6",{"$f":"IF(All_PCC_a[[#This Row],[Max Height (mm)]]<=9,\"≤ \"&ROUNDUP(AD78,0),\"≤\"&ROUNDUP(AD78,0))","v":"≤ 3"},-55,155,{"$f":"All_PCC_a[[#This Row],[Min Temp (deg.C)]]&\" to +\"&All_PCC_a[[#This Row],[Max Temp (deg.C)]]","v":"-55 to +155"},null,null,null,"-",{"$f":"IFERROR(IF(L1Round>1,ROUND(L1Round,1),L1Round),\"-\")","v":"-"},"-","-","https://industrial.panasonic.com/ww/products/pt/automotive-inductors/models/ETQP3M6R8KVN","https://industrial.panasonic.com/content/data/CC/pictures/lineup-LP.gif",{"$f":"_xlfn.IMAGE(All_PCC_a[[#This Row],[Image URL]])","v":{"$error":"#VALUE!"}},null,null,null,null,null,null,null,{"$f":"IF(Z78<('DCDC Ref'!$J$24/'DCDC Ref'!$J$26)*'DCDC Ref'!$J$28/100,0,1)","v":1},{"$f":"IF(BC78=0,\"\",('All Data'!Q78-'DCDC Ref'!$J$30)/'DCDC Ref'!$J$30*100)","v":7.6043956043955987},7.6043956043955987,null,null,0,null,{"$f":"IF(BC78=0,\"\",('All Data'!Z78-'DCDC Ref'!$J$28*('DCDC Ref'!$J$29/100))/'DCDC Ref'!$J$28*('DCDC Ref'!$J$29/100)*100)","v":-63.689655172413794},10000,null,null,null,null,null,88021.978021977993,{"$f":"IF(BQ78=\"\",\"\",RANK(BQ78,BQ$11:BQ$9927,1)+COUNTIF(BQ$11:BQ78,BQ78)-1)","v":4},4,{"$f":"IFERROR(INDEX($O$11:$O$1004,MATCH(ROWS($BS$11:BS78),$BS$11:$BS$1002,0)),\"\")","v":"ETQP4M1R0KVC"},"ETQP4M1R0KVC"]
[75,"〇",null,"OK",null,"MP","Panasonic","SMD","Metal Composite","PCC","LP (Low Profile)","4M-KVK","PCC-M0840M-LP","Yes","ETQP4M6R8KVK",{"$f":"MID(All_PCC_a[[#This Row],[Part Number]],7,3)","v":"6R8"},6.8,{"$f":"IF(All_PCC_a[[#This Row],[Lo (uH)]]<1,\"<1\",IF(All_PCC_a[[#This Row],[Lo (uH)]]<10,\"<10\",IF(All_PCC_a[[#This Row],[Lo (uH)]]<100,\"<100\",IF(All_PCC_a[[#This Row],[Lo (uH)]]<2000,\"<2000\",\"\"))))","v":"<10"},{"$f":"IFERROR(VLOOKUP(All_PCC_a[[#This Row],[Lo (uH)]],Utility!$D$5:$E$43,2,1),\"-\")","v":"≤   7"},0.2,23.5,25.85,10,6.9,5.9,11,7.59,8.5,8,4,{"$f":"ROUND(All_PCC_a[[#This Row],[L (mm)]]*All_PCC_a[[#This Row],[W (mm)]],1)","v":68},{"$f":"All_PCC_a[[#This Row],[L (mm)]]&\"  x  \"&All_PCC_a[[#This Row],[W (mm)]]","v":"8.5  x  8"},"_8 x 8",{"$f":"IF(All_PCC_a[[#This Row],[Max Height (mm)]]<=9,\"≤ \"&ROUNDUP(AD79,0),\"≤\"&ROUNDUP(AD79,0))","v":"≤ 4"},-55,155,{"$f":"All_PCC_a[[#This Row],[Min Temp (deg.C)]]&\" to +\"&All_PCC_a[[#This Row],[Max Temp (deg.C)]]","v":"-55 to +155"},null,null,null,"-","-","-","-","https://industrial.panasonic.com/ww/products/pt/automotive-inductors/models/ETQP4M6R8KVK","https://industrial.panasonic.com/content/data/CC/pictures/lineup-LP.gif",{"$f":"_xlfn.IMAGE(All_PCC_a[[#This Row],[Image URL]])","v":{"$error":"#VALUE!"}},null,null,null,null,null,null,null,{"$f":"IF(Z79<('DCDC Ref'!$J$24/'DCDC Ref'!$J$26)*'DCDC Ref'!$J$28/100,0,1)","v":1},{"$f":"IF(BC79=0,\"\",('All Data'!Q79-'DCDC Ref'!$J$30)/'DCDC Ref'!$J$30*100)","v":7.6043956043955987},7.6043956043955987,null,null,0,null,{"$f":"IF(BC79=0,\"\",('All Data'!Z79-'DCDC Ref'!$J$28*('DCDC Ref'!$J$29/100))/'DCDC Ref'!$J$28*('DCDC Ref'!$J$29/100)*100)","v":-50.689655172413794},10000,null,null,null,null,null,88021.978021977993,{"$f":"IF(BQ79=\"\",\"\",RANK(BQ79,BQ$11:BQ$9927,1)+COUNTIF(BQ$11:BQ79,BQ79)-1)","v":5},5,{"$f":"IFERROR(INDEX($O$11:$O$1004,MATCH(ROWS($BS$11:BS79),$BS$11:$BS$1002,0)),\"\")","v":"ETQP5M1R0YLC"},"ETQP5M1R0YLC"]
[87,"〇",null,"OK",null,"MP","Panasonic","SMD","Metal Composite","PCC","LP (Low Profile)","4M-KVC","PCC-M1040M-LP","Yes","ETQP4M6R8KVC",{"$f":"MID(All_PCC_a[[#This Row],[Part Number]],7,3)","v":"6R8"},6.8,{"$f":"IF(All_PCC_a[[#This Row],[Lo (uH)]]<1,\"<1\",IF(All_PCC_a[[#This Row],[Lo (uH)]]<10,\"<10\",IF(All_PCC_a[[#This Row],[Lo (uH)]]<100,\"<100\",IF(All_PCC_a[[#This Row],[Lo (uH)]]<2000,\"<2000\",\"\"))))","v":"<10"},{"$f":"IFERROR(VLOOKUP(All_PCC_a[[#This Row],[Lo (uH)]],Utility!$D$5:$E$43,2,1),\"-\")","v":"≤   7"},0.2,18.5,20.350000000000001,10,8.9,7.4,12.1,8.92,10.7,10,4,{"$f":"ROUND(All_PCC_a[[#This Row],[L (mm)]]*All_PCC_a[[#This Row],[W (mm)]],1)","v":107},{"$f":"All_PCC_a[[#This Row],[L (mm)]]&\"  x  \"&All_PCC_a[[#This Row],[W (mm)]]","v":"10.7  x  10"},"10 x 10",{"$f":"IF(All_PCC_a[[#This Row],[Max Height (mm)]]<=9,\"≤ \"&ROUNDUP(AD80,0),\"≤\"&ROUNDUP(AD80,0))","v":"≤ 4"},-55,155,{"$f":"All_PCC_a[[#This Row],[Min Temp (deg.C)]]&\" to +\"&All_PCC_a[[#This Row],[Max Temp (deg.C)]]","v":"-55 to +155"},null,null,null,"-","-","-","-","https://industrial.panasonic.com/ww/products/pt/automotive-inductors/models/ETQP4M6R8KVC","https://industrial.panasonic.com/content/data/CC/pictures/lineup-LP.gif",{"$f":"_xlfn.IMAGE(All_PCC_a[[#This Row],[Image URL]])","v":{"$error":"#VALUE!"}},null,null,null,null,null,null,null,{"$f":"IF(Z80<('DCDC Ref'!$J$24/'DCDC Ref'!$J$26)*'DCDC Ref'!$J$28/100,0,1)","v":1},{"$f":"IF(BC80=0,\"\",('All Data'!Q80-'DCDC Ref'!$J$30)/'DCDC Ref'!$J$30*100)","v":7.6043956043955987},7.6043956043955987,null,null,0,null,{"$f":"IF(BC80=0,\"\",('All Data'!Z80-'DCDC Ref'!$J$28*('DCDC Ref'!$J$29/100))/'DCDC Ref'!$J$28*('DCDC Ref'!$J$29/100)*100)","v":-45.758620689655174},10000,null,null,null,null,null,88021.978021977993,{"$f":"IF(BQ80=\"\",\"\",RANK(BQ80,BQ$11:BQ$9927,1)+COUNTIF(BQ$11:BQ80,BQ80)-1)","v":6},6,{"$f":"IFERROR(INDEX($O$11:$O$1004,MATCH(ROWS($BS$11:BS80),$BS$11:$BS$1002,0)),\"\")","v":"ETQP8M1R0JFA"},"ETQP8M1R0JFA"]
[114,"〇","2021/11/12 カタログ追加。2021/4/8追加。","OK",null,"MP","Panasonic","SMD","Metal Composite","PCC","LE (Low Price)","4M-KFN","PCC-M0648M-LE","Yes","ETQP4M6R8KFN",{"$f":"MID(All_PCC_a[[#This Row],[Part Number]],7,3)","v":"6R8"},6.8,{"$f":"IF(All_PCC_a[[#This Row],[Lo (uH)]]<1,\"<1\",IF(All_PCC_a[[#This Row],[Lo (uH)]]<10,\"<10\",IF(All_PCC_a[[#This Row],[Lo (uH)]]<100,\"<100\",IF(All_PCC_a[[#This Row],[Lo (uH)]]<2000,\"<2000\",\"\"))))","v":"<10"},{"$f":"IFERROR(VLOOKUP(All_PCC_a[[#This Row],[Lo (uH)]],Utility!$D$5:$E$43,2,1),\"-\")","v":"≤   7"},0.2,32.1,35.31,10,5.9,4.5999999999999996,9.9,7.1,6.4,6,4.8,{"$f":"ROUND(All_PCC_a[[#This Row],[L (mm)]]*All_PCC_a[[#This Row],[W (mm)]],1)","v":38.4},{"$f":"All_PCC_a[[#This Row],[L (mm)]]&\"  x  \"&All_PCC_a[[#This Row],[W (mm)]]","v":"6.4  x  6"},"_6 x 6",{"$f":"IF(All_PCC_a[[#This Row],[Max Height (mm)]]<=9,\"≤ \"&ROUNDUP(AD81,0),\"≤\"&ROUNDUP(AD81,0))","v":"≤ 5"},-40,150,{"$f":"All_PCC_a[[#This Row],[Min Temp (deg.C)]]&\" to +\"&All_PCC_a[[#This Row],[Max Temp (deg.C)]]","v":"-40 to +150"},null,null,null,"-","-","-","-","https://industrial.panasonic.com/ww/products/pt/automotive-inductors/models/ETQP4M6R8KFN","https://industrial.panasonic.com/content/data/CC/pictures/lineup-LE.gif",{"$f":"_xlfn.IMAGE(All_PCC_a[[#This Row],[Image URL]])","v":{"$error":"#VALUE!"}},null,null,null,null,null,null,null,{"$f":"IF(Z81<('DCDC Ref'!$J$24/'DCDC Ref'!$J$26)*'DCDC Ref'!$J$28/100,0,1)","v":1},{"$f":"IF(BC81=0,\"\",('All Data'!Q81-'DCDC Ref'!$J$30)/'DCDC Ref'!$J$30*100)","v":7.6043956043955987},7.6043956043955987,null,null,0,null,{"$f":"IF(BC81=0,\"\",('All Data'!Z81-'DCDC Ref'!$J$28*('DCDC Ref'!$J$29/100))/'DCDC Ref'!$J$28*('DCDC Ref'!$J$29/100)*100)","v":-55.62068965517242},10000,null,null,null,null,null,88021.978021977993,{"$f":"IF(BQ81=\"\",\"\",RANK(BQ81,BQ$11:BQ$9927,1)+COUNTIF(BQ$11:BQ81,BQ81)-1)","v":7},7,{"$f":"IFERROR(INDEX($O$11:$O$1004,MATCH(ROWS($BS$11:BS81),$BS$11:$BS$1002,0)),\"\")","v":"ETQPAM1R0JFW"},"ETQPAM1R0JFW"]
[5,"〇",null,"OK",null,"MP","Panasonic","SMD","Metal Composite","PCC","High Isat (Standard)","4M-YFN","PCC-M0645M","Yes","ETQP4M100YFN",{"$f":"MID(All_PCC_a[[#This Row],[Part Number]],7,3)","v":"100"},10,{"$f":"IF(All_PCC_a[[#This Row],[Lo (uH)]]<1,\"<1\",IF(All_PCC_a[[#This Row],[Lo (uH)]]<10,\"<10\",IF(All_PCC_a[[#This Row],[Lo (uH)]]<100,\"<100\",IF(All_PCC_a[[#This Row],[Lo (uH)]]<2000,\"<2000\",\"\"))))","v":"<100"},{"$f":"IFERROR(VLOOKUP(All_PCC_a[[#This Row],[Lo (uH)]],Utility!$D$5:$E$43,2,1),\"-\")","v":"≤  10"},0.2,54.2,59.620000000000005,10,4.5,3.5,8.3000000000000007,5.77,6.5,6,4.5,{"$f":"ROUND(All_PCC_a[[#This Row],[L (mm)]]*All_PCC_a[[#This Row],[W (mm)]],1)","v":39},{"$f":"All_PCC_a[[#This Row],[L (mm)]]&\"  x  \"&All_PCC_a[[#This Row],[W (mm)]]","v":"6.5  x  6"},"_6 x 6",{"$f":"IF(All_PCC_a[[#This Row],[Max Height (mm)]]<=9,\"≤ \"&ROUNDUP(AD82,0),\"≤\"&ROUNDUP(AD82,0))","v":"≤ 5"},-40,150,{"$f":"All_PCC_a[[#This Row],[Min Temp (deg.C)]]&\" to +\"&All_PCC_a[[#This Row],[Max Temp (deg.C)]]","v":"-40 to +150"},null,null,null,"-","-","-","-","https://industrial.panasonic.com/ww/products/pt/automotive-inductors/models/ETQP4M100YFN","https://industrial.panasonic.com/content/data/CC/pictures/lineup-Metal-core.gif",{"$f":"_xlfn.IMAGE(All_PCC_a[[#This Row],[Image URL]])","v":{"$error":"#VALUE!"}},null,null,null,null,null,null,null,{"$f":"IF(Z82<('DCDC Ref'!$J$24/'DCDC Ref'!$J$26)*'DCDC Ref'!$J$28/100,0,1)","v":1},{"$f":"IF(BC82=0,\"\",('All Data'!Q82-'DCDC Ref'!$J$30)/'DCDC Ref'!$J$30*100)","v":58.241758241758234},58.241758241758234,null,null,0,null,{"$f":"IF(BC82=0,\"\",('All Data'!Z82-'DCDC Ref'!$J$28*('DCDC Ref'!$J$29/100))/'DCDC Ref'!$J$28*('DCDC Ref'!$J$29/100)*100)","v":-62.793103448275865},10000,null,null,null,null,null,341208.7912087912,{"$f":"IF(BQ82=\"\",\"\",RANK(BQ82,BQ$11:BQ$9927,1)+COUNTIF(BQ$11:BQ82,BQ82)-1)","v":39},39,{"$f":"IFERROR(INDEX($O$11:$O$1004,MATCH(ROWS($BS$11:BS82),$BS$11:$BS$1002,0)),\"\")","v":"ETQP3M1R5KVP"},"ETQP3M1R5KVP"]
[17,"〇",null,"OK",null,"MP","Panasonic","SMD","Metal Composite","PCC","High Isat (Standard)","5M-YFC","PCC-M1054M","Yes","ETQP5M100YFC",{"$f":"MID(All_PCC_a[[#This Row],[Part Number]],7,3)","v":"100"},10,{"$f":"IF(All_PCC_a[[#This Row],[Lo (uH)]]<1,\"<1\",IF(All_PCC_a[[#This Row],[Lo (uH)]]<10,\"<10\",IF(All_PCC_a[[#This Row],[Lo (uH)]]<100,\"<100\",IF(All_PCC_a[[#This Row],[Lo (uH)]]<2000,\"<2000\",\"\"))))","v":"<100"},{"$f":"IFERROR(VLOOKUP(All_PCC_a[[#This Row],[Lo (uH)]],Utility!$D$5:$E$43,2,1),\"-\")","v":"≤  10"},0.2,23.8,26.2,10,8.5,7.1,10.7,8.8000000000000007,10.7,10,5.4,{"$f":"ROUND(All_PCC_a[[#This Row],[L (mm)]]*All_PCC_a[[#This Row],[W (mm)]],1)","v":107},{"$f":"All_PCC_a[[#This Row],[L (mm)]]&\"  x  \"&All_PCC_a[[#This Row],[W (mm)]]","v":"10.7  x  10"},"10 x 10",{"$f":"IF(All_PCC_a[[#This Row],[Max Height (mm)]]<=9,\"≤ \"&ROUNDUP(AD83,0),\"≤\"&ROUNDUP(AD83,0))","v":"≤ 6"},-40,150,{"$f":"All_PCC_a[[#This Row],[Min Temp (deg.C)]]&\" to +\"&All_PCC_a[[#This Row],[Max Temp (deg.C)]]","v":"-40 to +150"},null,null,null,"-","-","-","-","https://industrial.panasonic.com/ww/products/pt/automotive-inductors/models/ETQP5M100YFC","https://industrial.panasonic.com/content/data/CC/pictures/lineup-Metal-core.gif",{"$f":"_xlfn.IMAGE(All_PCC_a[[#This Row],[Image URL]])","v":{"$error":"#VALUE!"}},null,null,null,null,null,null,null,{"$f":"IF(Z83<('DCDC Ref'!$J$24/'DCDC Ref'!$J$26)*'DCDC Ref'!$J$28/100,0,1)","v":1},{"$f":"IF(BC83=0,\"\",('All Data'!Q83-'DCDC Ref'!$J$30)/'DCDC Ref'!$J$30*100)","v":58.241758241758234},58.241758241758234,null,null,0,null,{"$f":"IF(BC83=0,\"\",('All Data'!Z83-'DCDC Ref'!$J$28*('DCDC Ref'!$J$29/100))/'DCDC Ref'!$J$28*('DCDC Ref'!$J$29/100)*100)","v":-52.03448275862069},10000,null,null,null,null,null,341208.7912087912,{"$f":"IF(BQ83=\"\",\"\",RANK(BQ83,BQ$11:BQ$9927,1)+COUNTIF(BQ$11:BQ83,BQ83)-1)","v":40},40,{"$f":"IFERROR(INDEX($O$11:$O$1004,MATCH(ROWS($BS$11:BS83),$BS$11:$BS$1002,0)),\"\")","v":"ETQP3M1R5KVN"},"ETQP3M1R5KVN"]
[25,"〇",null,"OK",null,"MP","Panasonic","SMD","Metal Composite","PCC","High Isat (Standard)","5M-YFK","PCC-M0854M","Yes","ETQP5M100YFK",{"$f":"MID(All_PCC_a[[#This Row],[Part Number]],7,3)","v":"100"},10,{"$f":"IF(All_PCC_a[[#This Row],[Lo (uH)]]<1,\"<1\",IF(All_PCC_a[[#This Row],[Lo (uH)]]<10,\"<10\",IF(All_PCC_a[[#This Row],[Lo (uH)]]<100,\"<100\",IF(All_PCC_a[[#This Row],[Lo (uH)]]<2000,\"<2000\",\"\"))))","v":"<100"},{"$f":"IFERROR(VLOOKUP(All_PCC_a[[#This Row],[Lo (uH)]],Utility!$D$5:$E$43,2,1),\"-\")","v":"≤  10"},0.2,33.4,36.799999999999997,10,6.7,5.7,13,8.0399999999999991,8.5,8,5.4,{"$f":"ROUND(All_PCC_a[[#This Row],[L (mm)]]*All_PCC_a[[#This Row],[W (mm)]],1)","v":68},{"$f":"All_PCC_a[[#This Row],[L (mm)]]&\"  x  \"&All_PCC_a[[#This Row],[W (mm)]]","v":"8.5  x  8"},"_8 x 8",{"$f":"IF(All_PCC_a[[#This Row],[Max Height (mm)]]<=9,\"≤ \"&ROUNDUP(AD84,0),\"≤\"&ROUNDUP(AD84,0))","v":"≤ 6"},-40,150,{"$f":"All_PCC_a[[#This Row],[Min Temp (deg.C)]]&\" to +\"&All_PCC_a[[#This Row],[Max Temp (deg.C)]]","v":"-40 to +150"},null,null,null,"-","-","-","-","https://industrial.panasonic.com/ww/products/pt/automotive-inductors/models/ETQP5M100YFK","https://industrial.panasonic.com/content/data/CC/pictures/lineup-Metal-core.gif",{"$f":"_xlfn.IMAGE(All_PCC_a[[#This Row],[Image URL]])","v":{"$error":"#VALUE!"}},null,null,null,null,null,null,null,{"$f":"IF(Z84<('DCDC Ref'!$J$24/'DCDC Ref'!$J$26)*'DCDC Ref'!$J$28/100,0,1)","v":1},{"$f":"IF(BC84=0,\"\",('All Data'!Q84-'DCDC Ref'!$J$30)/'DCDC Ref'!$J$30*100)","v":58.241758241758234},58.241758241758234,null,null,0,null,{"$f":"IF(BC84=0,\"\",('All Data'!Z84-'DCDC Ref'!$J$28*('DCDC Ref'!$J$29/100))/'DCDC Ref'!$J$28*('DCDC Ref'!$J$29/100)*100)","v":-41.724137931034491},10000,null,null,null,null,null,341208.7912087912,{"$f":"IF(BQ84=\"\",\"\",RANK(BQ84,BQ$11:BQ$9927,1)+COUNTIF(BQ$11:BQ84,BQ84)-1)","v":41},41,{"$f":"IFERROR(INDEX($O$11:$O$1004,MATCH(ROWS($BS$11:BS84),$BS$11:$BS$1002,0)),\"\")","v":"ETQP3MR68YFN"},"ETQP3MR68YFN"]
[32,"〇",null,"OK",null,"MP","Panasonic","SMD","Metal Composite","PCC","High Isat (Standard)","5M-YFM","PCC-M0754M","Yes","ETQP5M100YFM",{"$f":"MID(All_PCC_a[[#This Row],[Part Number]],7,3)","v":"100"},10,{"$f":"IF(All_PCC_a[[#This Row],[Lo (uH)]]<1,\"<1\",IF(All_PCC_a[[#This Row],[Lo (uH)]]<10,\"<10\",IF(All_PCC_a[[#This Row],[Lo (uH)]]<100,\"<100\",IF(All_PCC_a[[#This Row],[Lo (uH)]]<2000,\"<2000\",\"\"))))","v":"<100"},{"$f":"IFERROR(VLOOKUP(All_PCC_a[[#This Row],[Lo (uH)]],Utility!$D$5:$E$43,2,1),\"-\")","v":"≤  10"},0.2,37.6,41.3,10,5.7,4.7,10.6,7.56,7.5,7,5.4,{"$f":"ROUND(All_PCC_a[[#This Row],[L (mm)]]*All_PCC_a[[#This Row],[W (mm)]],1)","v":52.5},{"$f":"All_PCC_a[[#This Row],[L (mm)]]&\"  x  \"&All_PCC_a[[#This Row],[W (mm)]]","v":"7.5  x  7"},"_7 x 7",{"$f":"IF(All_PCC_a[[#This Row],[Max Height (mm)]]<=9,\"≤ \"&ROUNDUP(AD85,0),\"≤\"&ROUNDUP(AD85,0))","v":"≤ 6"},-40,150,{"$f":"All_PCC_a[[#This Row],[Min Temp (deg.C)]]&\" to +\"&All_PCC_a[[#This Row],[Max Temp (deg.C)]]","v":"-40 to +150"},null,null,null,"-","-","-","-","https://industrial.panasonic.com/ww/products/pt/automotive-inductors/models/ETQP5M100YFM","https://industrial.panasonic.com/content/data/CC/pictures/lineup-Metal-core.gif",{"$f":"_xlfn.IMAGE(All_PCC_a[[#This Row],[Image URL]])","v":{"$error":"#VALUE!"}},null,null,null,null,null,null,null,{"$f":"IF(Z85<('DCDC Ref'!$J$24/'DCDC Ref'!$J$26)*'DCDC Ref'!$J$28/100,0,1)","v":1},{"$f":"IF(BC85=0,\"\",('All Data'!Q85-'DCDC Ref'!$J$30)/'DCDC Ref'!$J$30*100)","v":58.241758241758234},58.241758241758234,null,null,0,null,{"$f":"IF(BC85=0,\"\",('All Data'!Z85-'DCDC Ref'!$J$28*('DCDC Ref'!$J$29/100))/'DCDC Ref'!$J$28*('DCDC Ref'!$J$29/100)*100)","v":-52.482758620689665},10000,null,null,null,null,null,341208.7912087912,{"$f":"IF(BQ85=\"\",\"\",RANK(BQ85,BQ$11:BQ$9927,1)+COUNTIF(BQ$11:BQ85,BQ85)-1)","v":42},42,{"$f":"IFERROR(INDEX($O$11:$O$1004,MATCH(ROWS($BS$11:BS85),$BS$11:$BS$1002,0)),\"\")","v":"ETQP4MR68KVK"},"ETQP4MR68KVK"]
[52,"〇",null,"OK",null,"MP","Panasonic","SMD","Metal Composite","PCC","LP (Low Profile)","3M-KVP","PCC-M0530M-LP","Yes","ETQP3M100KVP",{"$f":"MID(All_PCC_a[[#This Row],[Part Number]],7,3)","v":"100"},10,{"$f":"IF(All_PCC_a[[#This Row],[Lo (uH)]]<1,\"<1\",IF(All_PCC_a[[#This Row],[Lo (uH)]]<10,\"<10\",IF(All_PCC_a[[#This Row],[Lo (uH)]]<100,\"<100\",IF(All_PCC_a[[#This Row],[Lo (uH)]]<2000,\"<2000\",\"\"))))","v":"<100"},{"$f":"IFERROR(VLOOKUP(All_PCC_a[[#This Row],[Lo (uH)]],Utility!$D$5:$E$43,2,1),\"-\")","v":"≤  10"},0.2,96,105.6,10,2.9,2.4,4.2,3.35,5.5,5,3,{"$f":"ROUND(All_PCC_a[[#This Row],[L (mm)]]*All_PCC_a[[#This Row],[W (mm)]],1)","v":27.5},{"$f":"All_PCC_a[[#This Row],[L (mm)]]&\"  x  \"&All_PCC_a[[#This Row],[W (mm)]]","v":"5.5  x  5"},"_5 x 5",{"$f":"IF(All_PCC_a[[#This Row],[Max Height (mm)]]<=9,\"≤ \"&ROUNDUP(AD86,0),\"≤\"&ROUNDUP(AD86,0))","v":"≤ 3"},-55,155,{"$f":"All_PCC_a[[#This Row],[Min Temp (deg.C)]]&\" to +\"&All_PCC_a[[#This Row],[Max Temp (deg.C)]]","v":"-55 to +155"},null,null,null,"-","-","-","-","https://industrial.panasonic.com/ww/products/pt/automotive-inductors/models/ETQP3M100KVP","https://industrial.panasonic.com/content/data/CC/pictures/lineup-LP.gif",{"$f":"_xlfn.IMAGE(All_PCC_a[[#This Row],[Image URL]])","v":{"$error":"#VALUE!"}},null,null,null,null,null,null,null,{"$f":"IF(Z86<('DCDC Ref'!$J$24/'DCDC Ref'!$J$26)*'DCDC Ref'!$J$28/100,0,1)","v":0},{"$f":"IF(BC86=0,\"\",('All Data'!Q86-'DCDC Ref'!$J$30)/'DCDC Ref'!$J$30*100)","v":""},{"$error":"#VALUE!"},null,null,0,null,{"$f":"IF(BC86=0,\"\",('All Data'!Z86-'DCDC Ref'!$J$28*('DCDC Ref'!$J$29/100))/'DCDC Ref'!$J$28*('DCDC Ref'!$J$29/100)*100)","v":""},"",null,null,null,null,null,"",{"$f":"IF(BQ86=\"\",\"\",RANK(BQ86,BQ$11:BQ$9927,1)+COUNTIF(BQ$11:BQ86,BQ86)-1)","v":""},{"$error":"#VALUE!"},{"$f":"IFERROR(INDEX($O$11:$O$1004,MATCH(ROWS($BS$11:BS86),$BS$11:$BS$1002,0)),\"\")","v":"ETQP5MR68YLC"},"ETQP5MR68YLC"]
[63,"〇",null,"OK",null,"MP","Panasonic","SMD","Metal Composite","PCC","LP (Low Profile)","3M-KVN","PCC-M0630M-LP","Yes","ETQP3M100KVN",{"$f":"MID(All_PCC_a[[#This Row],[Part Number]],7,3)","v":"100"},10,{"$f":"IF(All_PCC_a[[#This Row],[Lo (uH)]]<1,\"<1\",IF(All_PCC_a[[#This Row],[Lo (uH)]]<10,\"<10\",IF(All_PCC_a[[#This Row],[Lo (uH)]]<100,\"<100\",IF(All_PCC_a[[#This Row],[Lo (uH)]]<2000,\"<2000\",\"\"))))","v":"<100"},{"$f":"IFERROR(VLOOKUP(All_PCC_a[[#This Row],[Lo (uH)]],Utility!$D$5:$E$43,2,1),\"-\")","v":"≤  10"},0.2,71,78.099999999999994,10,3.6,2.9,5.8,4.22,6.4,6,3,{"$f":"ROUND(All_PCC_a[[#This Row],[L (mm)]]*All_PCC_a[[#This Row],[W (mm)]],1)","v":38.4},{"$f":"All_PCC_a[[#This Row],[L (mm)]]&\"  x  \"&All_PCC_a[[#This Row],[W (mm)]]","v":"6.4  x  6"},"_6 x 6",{"$f":"IF(All_PCC_a[[#This Row],[Max Height (mm)]]<=9,\"≤ \"&ROUNDUP(AD87,0),\"≤\"&ROUNDUP(AD87,0))","v":"≤ 3"},-55,155,{"$f":"All_PCC_a[[#This Row],[Min Temp (deg.C)]]&\" to +\"&All_PCC_a[[#This Row],[Max Temp (deg.C)]]","v":"-55 to +155"},null,null,null,"-","-","-","-","https://industrial.panasonic.com/ww/products/pt/automotive-inductors/models/ETQP3M100KVN","https://industrial.panasonic.com/content/data/CC/pictures/lineup-LP.gif",{"$f":"_xlfn.IMAGE(All_PCC_a[[#This Row],[Image URL]])","v":{"$error":"#VALUE!"}},null,null,null,null,null,null,null,{"$f":"IF(Z87<('DCDC Ref'!$J$24/'DCDC Ref'!$J$26)*'DCDC Ref'!$J$28/100,0,1)","v":1},{"$f":"IF(BC87=0,\"\",('All Data'!Q87-'DCDC Ref'!$J$30)/'DCDC Ref'!$J$30*100)","v":58.241758241758234},58.241758241758234,null,null,0,null,{"$f":"IF(BC87=0,\"\",('All Data'!Z87-'DCDC Ref'!$J$28*('DCDC Ref'!$J$29/100))/'DCDC Ref'!$J$28*('DCDC Ref'!$J$29/100)*100)","v":-74},10000,null,null,null,null,null,341208.7912087912,{"$f":"IF(BQ87=\"\",\"\",RANK(BQ87,BQ$11:BQ$9927,1)+COUNTIF(BQ$11:BQ87,BQ87)-1)","v":43},43,{"$f":"IFERROR(INDEX($O$11:$O$1004,MATCH(ROWS($BS$11:BS87),$BS$11:$BS$1002,0)),\"\")","v":"ETQP5MR68YSC"},"ETQP5MR68YSC"]
[74,"〇",null,"OK",null,"MP","Panasonic","SMD","Metal Composite","PCC","LP (Low Profile)","4M-KVK","PCC-M0840M-LP","Yes","ETQP4M100KVK",{"$f":"MID(All_PCC_a[[#This Row],[Part Number]],7,3)","v":"100"},10,{"$f":"IF(All_PCC_a[[#This Row],[Lo (uH)]]<1,\"<1\",IF(All_PCC_a[[#This Row],[Lo (uH)]]<10,\"<10\",IF(All_PCC_a[[#This Row],[Lo (uH)]]<100,\"<100\",IF(All_PCC_a[[#This Row],[Lo (uH)]]<2000,\"<2000\",\"\"))))","v":"<100"},{"$f":"IFERROR(VLOOKUP(All_PCC_a[[#This Row],[Lo (uH)]],Utility!$D$5:$E$43,2,1),\"-\")","v":"≤  10"},0.2,41.6,45.760000000000005,10,5.2,4.4000000000000004,9.1,6.79,8.5,8,4,{"$f":"ROUND(All_PCC_a[[#This Row],[L (mm)]]*All_PCC_a[[#This Row],[W (mm)]],1)","v":68},{"$f":"All_PCC_a[[#This Row],[L (mm)]]&\"  x  \"&All_PCC_a[[#This Row],[W (mm)]]","v":"8.5  x  8"},"_8 x 8",{"$f":"IF(All_PCC_a[[#This Row],[Max Height (mm)]]<=9,\"≤ \"&ROUNDUP(AD88,0),\"≤\"&ROUNDUP(AD88,0))","v":"≤ 4"},-55,155,{"$f":"All_PCC_a[[#This Row],[Min Temp (deg.C)]]&\" to +\"&All_PCC_a[[#This Row],[Max Temp (deg.C)]]","v":"-55 to +155"},null,null,null,"-","-","-","-","https://industrial.panasonic.com/ww/products/pt/automotive-inductors/models/ETQP4M100KVK","https://industrial.panasonic.com/content/data/CC/pictures/lineup-LP.gif",{"$f":"_xlfn.IMAGE(All_PCC_a[[#This Row],[Image URL]])","v":{"$error":"#VALUE!"}},null,null,null,null,null,null,null,{"$f":"IF(Z88<('DCDC Ref'!$J$24/'DCDC Ref'!$J$26)*'DCDC Ref'!$J$28/100,0,1)","v":1},{"$f":"IF(BC88=0,\"\",('All Data'!Q88-'DCDC Ref'!$J$30)/'DCDC Ref'!$J$30*100)","v":58.241758241758234},58.241758241758234,null,null,0,null,{"$f":"IF(BC88=0,\"\",('All Data'!Z88-'DCDC Ref'!$J$28*('DCDC Ref'!$J$29/100))/'DCDC Ref'!$J$28*('DCDC Ref'!$J$29/100)*100)","v":-59.206896551724142},10000,null,null,null,null,null,341208.7912087912,{"$f":"IF(BQ88=\"\",\"\",RANK(BQ88,BQ$11:BQ$9927,1)+COUNTIF(BQ$11:BQ88,BQ88)-1)","v":44},44,{"$f":"IFERROR(INDEX($O$11:$O$1004,MATCH(ROWS($BS$11:BS88),$BS$11:$BS$1002,0)),\"\")","v":"ETQP8MR68JFA"},"ETQP8MR68JFA"]
[86,"〇",null,"OK",null,"MP","Panasonic","SMD","Metal Composite","PCC","LP (Low Profile)","4M-KVC","PCC-M1040M-LP","Yes","ETQP4M100KVC",{"$f":"MID(All_PCC_a[[#This Row],[Part Number]],7,3)","v":"100"},10,{"$f":"IF(All_PCC_a[[#This Row],[Lo (uH)]]<1,\"<1\",IF(All_PCC_a[[#This Row],[Lo (uH)]]<10,\"<10\",IF(All_PCC_a[[#This Row],[Lo (uH)]]<100,\"<100\",IF(All_PCC_a[[#This Row],[Lo (uH)]]<2000,\"<2000\",\"\"))))","v":"<100"},{"$f":"IFERROR(VLOOKUP(All_PCC_a[[#This Row],[Lo (uH)]],Utility!$D$5:$E$43,2,1),\"-\")","v":"≤  10"},0.2,25.4,27.94,10,7.6,6.3,10.8,8.09,10.7,10,4,{"$f":"ROUND(All_PCC_a[[#This Row],[L (mm)]]*All_PCC_a[[#This Row],[W (mm)]],1)","v":107},{"$f":"All_PCC_a[[#This Row],[L (mm)]]&\"  x  \"&All_PCC_a[[#This Row],[W (mm)]]","v":"10.7  x  10"},"10 x 10",{"$f":"IF(All_PCC_a[[#This Row],[Max Height (mm)]]<=9,\"≤ \"&ROUNDUP(AD89,0),\"≤\"&ROUNDUP(AD89,0))","v":"≤ 4"},-55,155,{"$f":"All_PCC_a[[#This Row],[Min Temp (deg.C)]]&\" to +\"&All_PCC_a[[#This Row],[Max Temp (deg.C)]]","v":"-55 to +155"},null,null,null,"-","-","-","-","https://industrial.panasonic.com/ww/products/pt/automotive-inductors/models/ETQP4M100KVC","https://industrial.panasonic.com/content/data/CC/pictures/lineup-LP.gif",{"$f":"_xlfn.IMAGE(All_PCC_a[[#This Row],[Image URL]])","v":{"$error":"#VALUE!"}},null,null,null,null,null,null,null,{"$f":"IF(Z89<('DCDC Ref'!$J$24/'DCDC Ref'!$J$26)*'DCDC Ref'!$J$28/100,0,1)","v":1},{"$f":"IF(BC89=0,\"\",('All Data'!Q89-'DCDC Ref'!$J$30)/'DCDC Ref'!$J$30*100)","v":58.241758241758234},58.241758241758234,null,null,0,null,{"$f":"IF(BC89=0,\"\",('All Data'!Z89-'DCDC Ref'!$J$28*('DCDC Ref'!$J$29/100))/'DCDC Ref'!$J$28*('DCDC Ref'!$J$29/100)*100)","v":-51.586206896551722},10000,null,null,null,null,null,341208.7912087912,{"$f":"IF(BQ89=\"\",\"\",RANK(BQ89,BQ$11:BQ$9927,1)+COUNTIF(BQ$11:BQ89,BQ89)-1)","v":45},45,{"$f":"IFERROR(INDEX($O$11:$O$1004,MATCH(ROWS($BS$11:BS89),$BS$11:$BS$1002,0)),\"\")","v":"ETQPAMR68JFW"},"ETQPAMR68JFW"]
[94,"〇",null,"OK",null,"MP","Panasonic","SMD","Metal Composite","PCC","High Frequency","3M-HFN","PCC-M0630M-H","Yes","ETQP3M100HFN",{"$f":"MID(All_PCC_a[[#This Row],[Part Number]],7,3)","v":"100"},10,{"$f":"IF(All_PCC_a[[#This Row],[Lo (uH)]]<1,\"<1\",IF(All_PCC_a[[#This Row],[Lo (uH)]]<10,\"<10\",IF(All_PCC_a[[#This Row],[Lo (uH)]]<100,\"<100\",IF(All_PCC_a[[#This Row],[Lo (uH)]]<2000,\"<2000\",\"\"))))","v":"<100"},{"$f":"IFERROR(VLOOKUP(All_PCC_a[[#This Row],[Lo (uH)]],Utility!$D$5:$E$43,2,1),\"-\")","v":"≤  10"},0.2,68,74.8,20,3.7,3,5.5,3.8,6.5,6,3,{"$f":"ROUND(All_PCC_a[[#This Row],[L (mm)]]*All_PCC_a[[#This Row],[W (mm)]],1)","v":39},{"$f":"All_PCC_a[[#This Row],[L (mm)]]&\"  x  \"&All_PCC_a[[#This Row],[W (mm)]]","v":"6.5  x  6"},"_6 x 6",{"$f":"IF(All_PCC_a[[#This Row],[Max Height (mm)]]<=9,\"≤ \"&ROUNDUP(AD90,0),\"≤\"&ROUNDUP(AD90,0))","v":"≤ 3"},-40,150,{"$f":"All_PCC_a[[#This Row],[Min Temp (deg.C)]]&\" to +\"&All_PCC_a[[#This Row],[Max Temp (deg.C)]]","v":"-40 to +150"},null,null,null,"-","-","-","-","https://industrial.panasonic.com/ww/products/pt/automotive-inductors/models/ETQP3M100HFN","https://industrial.panasonic.com/content/data/CC/pictures/lineup-H.gif",{"$f":"_xlfn.IMAGE(All_PCC_a[[#This Row],[Image URL]])","v":{"$error":"#VALUE!"}},null,null,null,null,null,null,null,{"$f":"IF(Z90<('DCDC Ref'!$J$24/'DCDC Ref'!$J$26)*'DCDC Ref'!$J$28/100,0,1)","v":1},{"$f":"IF(BC90=0,\"\",('All Data'!Q90-'DCDC Ref'!$J$30)/'DCDC Ref'!$J$30*100)","v":58.241758241758234},58.241758241758234,null,null,0,null,{"$f":"IF(BC90=0,\"\",('All Data'!Z90-'DCDC Ref'!$J$28*('DCDC Ref'!$J$29/100))/'DCDC Ref'!$J$28*('DCDC Ref'!$J$29/100)*100)","v":-75.344827586206904},10000,null,null,null,null,null,341208.7912087912,{"$f":"IF(BQ90=\"\",\"\",RANK(BQ90,BQ$11:BQ$9927,1)+COUNTIF(BQ$11:BQ90,BQ90)-1)","v":46},46,{"$f":"IFERROR(INDEX($O$11:$O$1004,MATCH(ROWS($BS$11:BS90),$BS$11:$BS$1002,0)),\"\")","v":"ETQP4MR47KLC"},"ETQP4MR47KLC"]
[99,"〇",null,"OK",null,"MP","Panasonic","SMD","Metal Composite","PCC","LE (Low Price)","4M-KFN","PCC-M0648M-LE","Yes","ETQP4M100KFN",{"$f":"MID(All_PCC_a[[#This Row],[Part Number]],7,3)","v":"100"},10,{"$f":"IF(All_PCC_a[[#This Row],[Lo (uH)]]<1,\"<1\",IF(All_PCC_a[[#This Row],[Lo (uH)]]<10,\"<10\",IF(All_PCC_a[[#This Row],[Lo (uH)]]<100,\"<100\",IF(All_PCC_a[[#This Row],[Lo (uH)]]<2000,\"<2000\",\"\"))))","v":"<100"},{"$f":"IFERROR(VLOOKUP(All_PCC_a[[#This Row],[Lo (uH)]],Utility!$D$5:$E$43,2,1),\"-\")","v":"≤  10"},0.2,40.4,44.44,10,5.2,4.0999999999999996,8.1,6.6,6.4,6,4.8,{"$f":"ROUND(All_PCC_a[[#This Row],[L (mm)]]*All_PCC_a[[#This Row],[W (mm)]],1)","v":38.4},{"$f":"All_PCC_a[[#This Row],[L (mm)]]&\"  x  \"&All_PCC_a[[#This Row],[W (mm)]]","v":"6.4  x  6"},"_6 x 6",{"$f":"IF(All_PCC_a[[#This Row],[Max Height (mm)]]<=9,\"≤ \"&ROUNDUP(AD91,0),\"≤\"&ROUNDUP(AD91,0))","v":"≤ 5"},-40,150,{"$f":"All_PCC_a[[#This Row],[Min Temp (deg.C)]]&\" to +\"&All_PCC_a[[#This Row],[Max Temp (deg.C)]]","v":"-40 to +150"},null,null,null,"-","-","-","-","https://industrial.panasonic.com/ww/products/pt/automotive-inductors/models/ETQP4M100KFN","https://industrial.panasonic.com/content/data/CC/pictures/lineup-LE.gif",{"$f":"_xlfn.IMAGE(All_PCC_a[[#This Row],[Image URL]])","v":{"$error":"#VALUE!"}},null,null,null,null,null,null,null,{"$f":"IF(Z91<('DCDC Ref'!$J$24/'DCDC Ref'!$J$26)*'DCDC Ref'!$J$28/100,0,1)","v":1},{"$f":"IF(BC91=0,\"\",('All Data'!Q91-'DCDC Ref'!$J$30)/'DCDC Ref'!$J$30*100)","v":58.241758241758234},58.241758241758234,null,null,0,null,{"$f":"IF(BC91=0,\"\",('All Data'!Z91-'DCDC Ref'!$J$28*('DCDC Ref'!$J$29/100))/'DCDC Ref'!$J$28*('DCDC Ref'!$J$29/100)*100)","v":-63.689655172413794},10000,null,null,null,null,null,341208.7912087912,{"$f":"IF(BQ91=\"\",\"\",RANK(BQ91,BQ$11:BQ$9927,1)+COUNTIF(BQ$11:BQ91,BQ91)-1)","v":47},47,{"$f":"IFERROR(INDEX($O$11:$O$1004,MATCH(ROWS($BS$11:BS91),$BS$11:$BS$1002,0)),\"\")","v":"ETQP3M1R0YFN"},"ETQP3M1R0YFN"]
[102,"〇",null,"OK",null,"MP","Panasonic","SMD","Metal Composite","PCC","LE (Low Price)","4M-KFM","PCC-M0748M-LE","Yes","ETQP4M100KFM",{"$f":"MID(All_PCC_a[[#This Row],[Part Number]],7,3)","v":"100"},10,{"$f":"IF(All_PCC_a[[#This Row],[Lo (uH)]]<1,\"<1\",IF(All_PCC_a[[#This Row],[Lo (uH)]]<10,\"<10\",IF(All_PCC_a[[#This Row],[Lo (uH)]]<100,\"<100\",IF(All_PCC_a[[#This Row],[Lo (uH)]]<2000,\"<2000\",\"\"))))","v":"<100"},{"$f":"IFERROR(VLOOKUP(All_PCC_a[[#This Row],[Lo (uH)]],Utility!$D$5:$E$43,2,1),\"-\")","v":"≤  10"},0.2,36,39.6,10,6,4.5,9.6,6.7,7.4,7,4.8,{"$f":"ROUND(All_PCC_a[[#This Row],[L (mm)]]*All_PCC_a[[#This Row],[W (mm)]],1)","v":51.8},{"$f":"All_PCC_a[[#This Row],[L (mm)]]&\"  x  \"&All_PCC_a[[#This Row],[W (mm)]]","v":"7.4  x  7"},"_7 x 7",{"$f":"IF(All_PCC_a[[#This Row],[Max Height (mm)]]<=9,\"≤ \"&ROUNDUP(AD92,0),\"≤\"&ROUNDUP(AD92,0))","v":"≤ 5"},-40,150,{"$f":"All_PCC_a[[#This Row],[Min Temp (deg.C)]]&\" to +\"&All_PCC_a[[#This Row],[Max Temp (deg.C)]]","v":"-40 to +150"},null,null,null,"-","-","-","-","https://industrial.panasonic.com/ww/products/pt/automotive-inductors/models/ETQP4M100KFM","https://industrial.panasonic.com/content/data/CC/pictures/lineup-LE.gif",{"$f":"_xlfn.IMAGE(All_PCC_a[[#This Row],[Image URL]])","v":{"$error":"#VALUE!"}},null,null,null,null,null,null,null,{"$f":"IF(Z92<('DCDC Ref'!$J$24/'DCDC Ref'!$J$26)*'DCDC Ref'!$J$28/100,0,1)","v":1},{"$f":"IF(BC92=0,\"\",('All Data'!Q92-'DCDC Ref'!$J$30)/'DCDC Ref'!$J$30*100)","v":58.241758241758234},58.241758241758234,null,null,0,null,{"$f":"IF(BC92=0,\"\",('All Data'!Z92-'DCDC Ref'!$J$28*('DCDC Ref'!$J$29/100))/'DCDC Ref'!$J$28*('DCDC Ref'!$J$29/100)*100)","v":-56.965517241379317},10000,null,null,null,null,null,341208.7912087912,{"$f":"IF(BQ92=\"\",\"\",RANK(BQ92,BQ$11:BQ$9927,1)+COUNTIF(BQ$11:BQ92,BQ92)-1)","v":48},48,{"$f":"IFERROR(INDEX($O$11:$O$1004,MATCH(ROWS($BS$11:BS92),$BS$11:$BS$1002,0)),\"\")","v":"ETQP3M1R0KVP"},"ETQP3M1R0KVP"]
[123,"〇","2022-11-18","OK",null,"MP","Panasonic","SMD","Metal Composite","PCC","High Isat (Standard)","5M-GAK","PCC-M0854M","Yes","ETQP5M100GAK",{"$f":"MID(All_PCC_a[[#This Row],[Part Number]],7,3)","v":"100"},10,{"$f":"IF(All_PCC_a[[#This Row],[Lo (uH)]]<1,\"<1\",IF(All_PCC_a[[#This Row],[Lo (uH)]]<10,\"<10\",IF(All_PCC_a[[#This Row],[Lo (uH)]]<100,\"<100\",IF(All_PCC_a[[#This Row],[Lo (uH)]]<2000,\"<2000\",\"\"))))","v":"<100"},{"$f":"IFERROR(VLOOKUP(All_PCC_a[[#This Row],[Lo (uH)]],Utility!$D$5:$E$43,2,1),\"-\")","v":"≤  10"},0.2,31.5,34.65,10,6.9,5.9,11.1,7.7,8.5,8,5.4,{"$f":"ROUND(All_PCC_a[[#This Row],[L (mm)]]*All_PCC_a[[#This Row],[W (mm)]],1)","v":68},{"$f":"All_PCC_a[[#This Row],[L (mm)]]&\"  x  \"&All_PCC_a[[#This Row],[W (mm)]]","v":"8.5  x  8"},"_8 x 8",{"$f":"IF(All_PCC_a[[#This Row],[Max Height (mm)]]<=9,\"≤ \"&ROUNDUP(AD93,0),\"≤\"&ROUNDUP(AD93,0))","v":"≤ 6"},-40,150,{"$f":"All_PCC_a[[#This Row],[Min Temp (deg.C)]]&\" to +\"&All_PCC_a[[#This Row],[Max Temp (deg.C)]]","v":"-40 to +150"},null,null,null,"-","-","-","-","https://industrial.panasonic.com/ww/products/pt/automotive-inductors/models/ETQP5M100GAK","https://industrial.panasonic.com/content/data/CC/pictures/lineup-Metal-core.gif",{"$f":"_xlfn.IMAGE(All_PCC_a[[#This Row],[Image URL]])","v":{"$error":"#VALUE!"}},null,null,null,null,null,null,null,{"$f":"IF(Z93<('DCDC Ref'!$J$24/'DCDC Ref'!$J$26)*'DCDC Ref'!$J$28/100,0,1)","v":1},{"$f":"IF(BC93=0,\"\",('All Data'!Q93-'DCDC Ref'!$J$30)/'DCDC Ref'!$J$30*100)","v":58.241758241758234},58.241758241758234,null,null,0,null,{"$f":"IF(BC93=0,\"\",('All Data'!Z93-'DCDC Ref'!$J$28*('DCDC Ref'!$J$29/100))/'DCDC Ref'!$J$28*('DCDC Ref'!$J$29/100)*100)","v":-50.241379310344833},10000,null,null,null,null,null,341208.7912087912,{"$f":"IF(BQ93=\"\",\"\",RANK(BQ93,BQ$11:BQ$9927,1)+COUNTIF(BQ$11:BQ93,BQ93)-1)","v":49},49,{"$f":"IFERROR(INDEX($O$11:$O$1004,MATCH(ROWS($BS$11:BS93),$BS$11:$BS$1002,0)),\"\")","v":"ETQP3M1R0KVN"},"ETQP3M1R0KVN"]
[112,"〇","2021/11/12 カタログ追加。2020/8/3追加","OK",null,"MP","Panasonic","SMD","Metal Composite","PCC","High Isat (Standard)","6M-KLC","PCC-M1060ML","Yes","ETQP6M150KLC",{"$f":"MID(All_PCC_a[[#This Row],[Part Number]],7,3)","v":"150"},14,{"$f":"IF(All_PCC_a[[#This Row],[Lo (uH)]]<1,\"<1\",IF(All_PCC_a[[#This Row],[Lo (uH)]]<10,\"<10\",IF(All_PCC_a[[#This Row],[Lo (uH)]]<100,\"<100\",IF(All_PCC_a[[#This Row],[Lo (uH)]]<2000,\"<2000\",\"\"))))","v":"<100"},{"$f":"IFERROR(VLOOKUP(All_PCC_a[[#This Row],[Lo (uH)]],Utility!$D$5:$E$43,2,1),\"-\")","v":"≤  20"},0.2,28,30.800000000000004,10,7.9,6.5,11.2,8,10.9,10,6,{"$f":"ROUND(All_PCC_a[[#This Row],[L (mm)]]*All_PCC_a[[#This Row],[W (mm)]],1)","v":109},{"$f":"All_PCC_a[[#This Row],[L (mm)]]&\"  x  \"&All_PCC_a[[#This Row],[W (mm)]]","v":"10.9  x  10"},"10 x 10",{"$f":"IF(All_PCC_a[[#This Row],[Max Height (mm)]]<=9,\"≤ \"&ROUNDUP(AD94,0),\"≤\"&ROUNDUP(AD94,0))","v":"≤ 6"},-40,150,{"$f":"All_PCC_a[[#This Row],[Min Temp (deg.C)]]&\" to +\"&All_PCC_a[[#This Row],[Max Temp (deg.C)]]","v":"-40 to +150"},null,null,null,"-","-","-","-","https://industrial.panasonic.com/ww/products/pt/automotive-inductors/models/ETQP6M150KLC","https://industrial.panasonic.com/content/data/CC/pictures/lineup-Metal-core.gif",{"$f":"_xlfn.IMAGE(All_PCC_a[[#This Row],[Image URL]])","v":{"$error":"#VALUE!"}},null,null,null,null,null,null,null,{"$f":"IF(Z94<('DCDC Ref'!$J$24/'DCDC Ref'!$J$26)*'DCDC Ref'!$J$28/100,0,1)","v":1},{"$f":"IF(BC94=0,\"\",('All Data'!Q94-'DCDC Ref'!$J$30)/'DCDC Ref'!$J$30*100)","v":121.53846153846153},121.53846153846153,null,null,0,null,{"$f":"IF(BC94=0,\"\",('All Data'!Z94-'DCDC Ref'!$J$28*('DCDC Ref'!$J$29/100))/'DCDC Ref'!$J$28*('DCDC Ref'!$J$29/100)*100)","v":-49.793103448275872},10000,null,null,null,null,null,657692.30769230763,{"$f":"IF(BQ94=\"\",\"\",RANK(BQ94,BQ$11:BQ$9927,1)+COUNTIF(BQ$11:BQ94,BQ94)-1)","v":91},91,{"$f":"IFERROR(INDEX($O$11:$O$1004,MATCH(ROWS($BS$11:BS94),$BS$11:$BS$1002,0)),\"\")","v":"ETQP5MR33YLC"},"ETQP5MR33YLC"]
[18,"〇",null,"OK",null,"MP","Panasonic","SMD","Metal Composite","PCC","High Isat (Standard)","5M-YFC","PCC-M1054M","Yes","ETQP5M150YFC",{"$f":"MID(All_PCC_a[[#This Row],[Part Number]],7,3)","v":"150"},15,{"$f":"IF(All_PCC_a[[#This Row],[Lo (uH)]]<1,\"<1\",IF(All_PCC_a[[#This Row],[Lo (uH)]]<10,\"<10\",IF(All_PCC_a[[#This Row],[Lo (uH)]]<100,\"<100\",IF(All_PCC_a[[#This Row],[Lo (uH)]]<2000,\"<2000\",\"\"))))","v":"<100"},{"$f":"IFERROR(VLOOKUP(All_PCC_a[[#This Row],[Lo (uH)]],Utility!$D$5:$E$43,2,1),\"-\")","v":"≤  20"},0.2,35.6,39.159999999999997,10,7,5.8,12,7.33,10.7,10,5.4,{"$f":"ROUND(All_PCC_a[[#This Row],[L (mm)]]*All_PCC_a[[#This Row],[W (mm)]],1)","v":107},{"$f":"All_PCC_a[[#This Row],[L (mm)]]&\"  x  \"&All_PCC_a[[#This Row],[W (mm)]]","v":"10.7  x  10"},"10 x 10",{"$f":"IF(All_PCC_a[[#This Row],[Max Height (mm)]]<=9,\"≤ \"&ROUNDUP(AD95,0),\"≤\"&ROUNDUP(AD95,0))","v":"≤ 6"},-40,150,{"$f":"All_PCC_a[[#This Row],[Min Temp (deg.C)]]&\" to +\"&All_PCC_a[[#This Row],[Max Temp (deg.C)]]","v":"-40 to +150"},null,null,null,"-","-","-","-","https://industrial.panasonic.com/ww/products/pt/automotive-inductors/models/ETQP5M150YFC","https://industrial.panasonic.com/content/data/CC/pictures/lineup-Metal-core.gif",{"$f":"_xlfn.IMAGE(All_PCC_a[[#This Row],[Image URL]])","v":{"$error":"#VALUE!"}},null,null,null,null,null,null,null,{"$f":"IF(Z95<('DCDC Ref'!$J$24/'DCDC Ref'!$J$26)*'DCDC Ref'!$J$28/100,0,1)","v":1},{"$f":"IF(BC95=0,\"\",('All Data'!Q95-'DCDC Ref'!$J$30)/'DCDC Ref'!$J$30*100)","v":137.36263736263737},137.36263736263737,null,null,0,null,{"$f":"IF(BC95=0,\"\",('All Data'!Z95-'DCDC Ref'!$J$28*('DCDC Ref'!$J$29/100))/'DCDC Ref'!$J$28*('DCDC Ref'!$J$29/100)*100)","v":-46.206896551724142},10000,null,null,null,null,null,736813.18681318685,{"$f":"IF(BQ95=\"\",\"\",RANK(BQ95,BQ$11:BQ$9927,1)+COUNTIF(BQ$11:BQ95,BQ95)-1)","v":92},92,{"$f":"IFERROR(INDEX($O$11:$O$1004,MATCH(ROWS($BS$11:BS95),$BS$11:$BS$1002,0)),\"\")","v":"ETQP8MR33JFA"},"ETQP8MR33JFA"]
[26,"〇",null,"OK",null,"MP","Panasonic","SMD","Metal Composite","PCC","High Isat (Standard)","5M-YFK","PCC-M0854M","Yes","ETQP5M150YFK",{"$f":"MID(All_PCC_a[[#This Row],[Part Number]],7,3)","v":"150"},15,{"$f":"IF(All_PCC_a[[#This Row],[Lo (uH)]]<1,\"<1\",IF(All_PCC_a[[#This Row],[Lo (uH)]]<10,\"<10\",IF(All_PCC_a[[#This Row],[Lo (uH)]]<100,\"<100\",IF(All_PCC_a[[#This Row],[Lo (uH)]]<2000,\"<2000\",\"\"))))","v":"<100"},{"$f":"IFERROR(VLOOKUP(All_PCC_a[[#This Row],[Lo (uH)]],Utility!$D$5:$E$43,2,1),\"-\")","v":"≤  20"},0.2,48.2,53.1,10,5.5,4.7,7.2,5.58,8.5,8,5.4,{"$f":"ROUND(All_PCC_a[[#This Row],[L (mm)]]*All_PCC_a[[#This Row],[W (mm)]],1)","v":68},{"$f":"All_PCC_a[[#This Row],[L (mm)]]&\"  x  \"&All_PCC_a[[#This Row],[W (mm)]]","v":"8.5  x  8"},"_8 x 8",{"$f":"IF(All_PCC_a[[#This Row],[Max Height (mm)]]<=9,\"≤ \"&ROUNDUP(AD96,0),\"≤\"&ROUNDUP(AD96,0))","v":"≤ 6"},-40,150,{"$f":"All_PCC_a[[#This Row],[Min Temp (deg.C)]]&\" to +\"&All_PCC_a[[#This Row],[Max Temp (deg.C)]]","v":"-40 to +150"},null,null,null,"-","-","-","-","https://industrial.panasonic.com/ww/products/pt/automotive-inductors/models/ETQP5M150YFK","https://industrial.panasonic.com/content/data/CC/pictures/lineup-Metal-core.gif",{"$f":"_xlfn.IMAGE(All_PCC_a[[#This Row],[Image URL]])","v":{"$error":"#VALUE!"}},null,null,null,null,null,null,null,{"$f":"IF(Z96<('DCDC Ref'!$J$24/'DCDC Ref'!$J$26)*'DCDC Ref'!$J$28/100,0,1)","v":1},{"$f":"IF(BC96=0,\"\",('All Data'!Q96-'DCDC Ref'!$J$30)/'DCDC Ref'!$J$30*100)","v":137.36263736263737},137.36263736263737,null,null,0,null,{"$f":"IF(BC96=0,\"\",('All Data'!Z96-'DCDC Ref'!$J$28*('DCDC Ref'!$J$29/100))/'DCDC Ref'!$J$28*('DCDC Ref'!$J$29/100)*100)","v":-67.724137931034491},10000,null,null,null,null,null,736813.18681318685,{"$f":"IF(BQ96=\"\",\"\",RANK(BQ96,BQ$11:BQ$9927,1)+COUNTIF(BQ$11:BQ96,BQ96)-1)","v":93},93,{"$f":"IFERROR(INDEX($O$11:$O$1004,MATCH(ROWS($BS$11:BS96),$BS$11:$BS$1002,0)),\"\")","v":"ETQPAMR33JFW"},"ETQPAMR33JFW"]
[62,"〇",null,"OK",null,"MP","Panasonic","SMD","Metal Composite","PCC","LP (Low Profile)","3M-KVN","PCC-M0630M-LP","Yes","ETQP3M150KVN",{"$f":"MID(All_PCC_a[[#This Row],[Part Number]],7,3)","v":"150"},15,{"$f":"IF(All_PCC_a[[#This Row],[Lo (uH)]]<1,\"<1\",IF(All_PCC_a[[#This Row],[Lo (uH)]]<10,\"<10\",IF(All_PCC_a[[#This Row],[Lo (uH)]]<100,\"<100\",IF(All_PCC_a[[#This Row],[Lo (uH)]]<2000,\"<2000\",\"\"))))","v":"<100"},{"$f":"IFERROR(VLOOKUP(All_PCC_a[[#This Row],[Lo (uH)]],Utility!$D$5:$E$43,2,1),\"-\")","v":"≤  20"},0.2,99.2,109.12000000000002,10,3,2.5,5.0999999999999996,3.45,6.4,6,3,{"$f":"ROUND(All_PCC_a[[#This Row],[L (mm)]]*All_PCC_a[[#This Row],[W (mm)]],1)","v":38.4},{"$f":"All_PCC_a[[#This Row],[L (mm)]]&\"  x  \"&All_PCC_a[[#This Row],[W (mm)]]","v":"6.4  x  6"},"_6 x 6",{"$f":"IF(All_PCC_a[[#This Row],[Max Height (mm)]]<=9,\"≤ \"&ROUNDUP(AD97,0),\"≤\"&ROUNDUP(AD97,0))","v":"≤ 3"},-55,155,{"$f":"All_PCC_a[[#This Row],[Min Temp (deg.C)]]&\" to +\"&All_PCC_a[[#This Row],[Max Temp (deg.C)]]","v":"-55 to +155"},null,null,null,"-","-","-","-","https://industrial.panasonic.com/ww/products/pt/automotive-inductors/models/ETQP3M150KVN","https://industrial.panasonic.com/content/data/CC/pictures/lineup-LP.gif",{"$f":"_xlfn.IMAGE(All_PCC_a[[#This Row],[Image URL]])","v":{"$error":"#VALUE!"}},null,null,null,null,null,null,null,{"$f":"IF(Z97<('DCDC Ref'!$J$24/'DCDC Ref'!$J$26)*'DCDC Ref'!$J$28/100,0,1)","v":1},{"$f":"IF(BC97=0,\"\",('All Data'!Q97-'DCDC Ref'!$J$30)/'DCDC Ref'!$J$30*100)","v":137.36263736263737},137.36263736263737,null,null,0,null,{"$f":"IF(BC97=0,\"\",('All Data'!Z97-'DCDC Ref'!$J$28*('DCDC Ref'!$J$29/100))/'DCDC Ref'!$J$28*('DCDC Ref'!$J$29/100)*100)","v":-77.137931034482776},10000,null,null,null,null,null,736813.18681318685,{"$f":"IF(BQ97=\"\",\"\",RANK(BQ97,BQ$11:BQ$9927,1)+COUNTIF(BQ$11:BQ97,BQ97)-1)","v":94},94,{"$f":"IFERROR(INDEX($O$11:$O$1004,MATCH(ROWS($BS$11:BS97),$BS$11:$BS$1002,0)),\"\")","v":"ETQP3MR68KVP"},"ETQP3MR68KVP"]
[73,"〇",null,"OK",null,"MP","Panasonic","SMD","Metal Composite","PCC","LP (Low Profile)","4M-KVK","PCC-M0840M-LP","Yes","ETQP4M150KVK",{"$f":"MID(All_PCC_a[[#This Row],[Part Number]],7,3)","v":"150"},15,{"$f":"IF(All_PCC_a[[#This Row],[Lo (uH)]]<1,\"<1\",IF(All_PCC_a[[#This Row],[Lo (uH)]]<10,\"<10\",IF(All_PCC_a[[#This Row],[Lo (uH)]]<100,\"<100\",IF(All_PCC_a[[#This Row],[Lo (uH)]]<2000,\"<2000\",\"\"))))","v":"<100"},{"$f":"IFERROR(VLOOKUP(All_PCC_a[[#This Row],[Lo (uH)]],Utility!$D$5:$E$43,2,1),\"-\")","v":"≤  20"},0.2,55,60.500000000000007,10,4.5,3.8,7.6,5.82,8.5,8,4,{"$f":"ROUND(All_PCC_a[[#This Row],[L (mm)]]*All_PCC_a[[#This Row],[W (mm)]],1)","v":68},{"$f":"All_PCC_a[[#This Row],[L (mm)]]&\"  x  \"&All_PCC_a[[#This Row],[W (mm)]]","v":"8.5  x  8"},"_8 x 8",{"$f":"IF(All_PCC_a[[#This Row],[Max Height (mm)]]<=9,\"≤ \"&ROUNDUP(AD98,0),\"≤\"&ROUNDUP(AD98,0))","v":"≤ 4"},-55,155,{"$f":"All_PCC_a[[#This Row],[Min Temp (deg.C)]]&\" to +\"&All_PCC_a[[#This Row],[Max Temp (deg.C)]]","v":"-55 to +155"},null,null,null,"-","-","-","-","https://industrial.panasonic.com/ww/products/pt/automotive-inductors/models/ETQP4M150KVK","https://industrial.panasonic.com/content/data/CC/pictures/lineup-LP.gif",{"$f":"_xlfn.IMAGE(All_PCC_a[[#This Row],[Image URL]])","v":{"$error":"#VALUE!"}},null,null,null,null,null,null,null,{"$f":"IF(Z98<('DCDC Ref'!$J$24/'DCDC Ref'!$J$26)*'DCDC Ref'!$J$28/100,0,1)","v":1},{"$f":"IF(BC98=0,\"\",('All Data'!Q98-'DCDC Ref'!$J$30)/'DCDC Ref'!$J$30*100)","v":137.36263736263737},137.36263736263737,null,null,0,null,{"$f":"IF(BC98=0,\"\",('All Data'!Z98-'DCDC Ref'!$J$28*('DCDC Ref'!$J$29/100))/'DCDC Ref'!$J$28*('DCDC Ref'!$J$29/100)*100)","v":-65.931034482758619},10000,null,null,null,null,null,736813.18681318685,{"$f":"IF(BQ98=\"\",\"\",RANK(BQ98,BQ$11:BQ$9927,1)+COUNTIF(BQ$11:BQ98,BQ98)-1)","v":95},95,{"$f":"IFERROR(INDEX($O$11:$O$1004,MATCH(ROWS($BS$11:BS98),$BS$11:$BS$1002,0)),\"\")","v":"ETQP3MR68KVN"},"ETQP3MR68KVN"]
[85,"〇",null,"OK",null,"MP","Panasonic","SMD","Metal Composite","PCC","LP (Low Profile)","4M-KVC","PCC-M1040M-LP","Yes","ETQP4M150KVC",{"$f":"MID(All_PCC_a[[#This Row],[Part Number]],7,3)","v":"150"},15,{"$f":"IF(All_PCC_a[[#This Row],[Lo (uH)]]<1,\"<1\",IF(All_PCC_a[[#This Row],[Lo (uH)]]<10,\"<10\",IF(All_PCC_a[[#This Row],[Lo (uH)]]<100,\"<100\",IF(All_PCC_a[[#This Row],[Lo (uH)]]<2000,\"<2000\",\"\"))))","v":"<100"},{"$f":"IFERROR(VLOOKUP(All_PCC_a[[#This Row],[Lo (uH)]],Utility!$D$5:$E$43,2,1),\"-\")","v":"≤  20"},0.2,37,40.700000000000003,10,6.3,5.2,9.1999999999999993,5.96,10.7,10,4,{"$f":"ROUND(All_PCC_a[[#This Row],[L (mm)]]*All_PCC_a[[#This Row],[W (mm)]],1)","v":107},{"$f":"All_PCC_a[[#This Row],[L (mm)]]&\"  x  \"&All_PCC_a[[#This Row],[W (mm)]]","v":"10.7  x  10"},"10 x 10",{"$f":"IF(All_PCC_a[[#This Row],[Max Height (mm)]]<=9,\"≤ \"&ROUNDUP(AD99,0),\"≤\"&ROUNDUP(AD99,0))","v":"≤ 4"},-55,155,{"$f":"All_PCC_a[[#This Row],[Min Temp (deg.C)]]&\" to +\"&All_PCC_a[[#This Row],[Max Temp (deg.C)]]","v":"-55 to +155"},null,null,null,"-","-","-","-","https://industrial.panasonic.com/ww/products/pt/automotive-inductors/models/ETQP4M150KVC","https://industrial.panasonic.com/content/data/CC/pictures/lineup-LP.gif",{"$f":"_xlfn.IMAGE(All_PCC_a[[#This Row],[Image URL]])","v":{"$error":"#VALUE!"}},null,null,null,null,null,null,null,{"$f":"IF(Z99<('DCDC Ref'!$J$24/'DCDC Ref'!$J$26)*'DCDC Ref'!$J$28/100,0,1)","v":1},{"$f":"IF(BC99=0,\"\",('All Data'!Q99-'DCDC Ref'!$J$30)/'DCDC Ref'!$J$30*100)","v":137.36263736263737},137.36263736263737,null,null,0,null,{"$f":"IF(BC99=0,\"\",('All Data'!Z99-'DCDC Ref'!$J$28*('DCDC Ref'!$J$29/100))/'DCDC Ref'!$J$28*('DCDC Ref'!$J$29/100)*100)","v":-58.758620689655181},10000,null,null,null,null,null,736813.18681318685,{"$f":"IF(BQ99=\"\",\"\",RANK(BQ99,BQ$11:BQ$9927,1)+COUNTIF(BQ$11:BQ99,BQ99)-1)","v":96},96,{"$f":"IFERROR(INDEX($O$11:$O$1004,MATCH(ROWS($BS$11:BS99),$BS$11:$BS$1002,0)),\"\")","v":"ETQP3MR47KVP"},"ETQP3MR47KVP"]
[100,"〇",null,"OK",null,"MP","Panasonic","SMD","Metal Composite","PCC","LE (Low Price)","4M-KFN","PCC-M0648M-LE","Yes","ETQP4M150KFN",{"$f":"MID(All_PCC_a[[#This Row],[Part Number]],7,3)","v":"150"},15,{"$f":"IF(All_PCC_a[[#This Row],[Lo (uH)]]<1,\"<1\",IF(All_PCC_a[[#This Row],[Lo (uH)]]<10,\"<10\",IF(All_PCC_a[[#This Row],[Lo (uH)]]<100,\"<100\",IF(All_PCC_a[[#This Row],[Lo (uH)]]<2000,\"<2000\",\"\"))))","v":"<100"},{"$f":"IFERROR(VLOOKUP(All_PCC_a[[#This Row],[Lo (uH)]],Utility!$D$5:$E$43,2,1),\"-\")","v":"≤  20"},0.2,63.8,70.180000000000007,10,4.2,3.3,6.7,5,6.4,6,4.8,{"$f":"ROUND(All_PCC_a[[#This Row],[L (mm)]]*All_PCC_a[[#This Row],[W (mm)]],1)","v":38.4},{"$f":"All_PCC_a[[#This Row],[L (mm)]]&\"  x  \"&All_PCC_a[[#This Row],[W (mm)]]","v":"6.4  x  6"},"_6 x 6",{"$f":"IF(All_PCC_a[[#This Row],[Max Height (mm)]]<=9,\"≤ \"&ROUNDUP(AD100,0),\"≤\"&ROUNDUP(AD100,0))","v":"≤ 5"},-40,150,{"$f":"All_PCC_a[[#This Row],[Min Temp (deg.C)]]&\" to +\"&All_PCC_a[[#This Row],[Max Temp (deg.C)]]","v":"-40 to +150"},null,null,null,"-","-","-","-","https://industrial.panasonic.com/ww/products/pt/automotive-inductors/models/ETQP4M150KFN","https://industrial.panasonic.com/content/data/CC/pictures/lineup-LE.gif",{"$f":"_xlfn.IMAGE(All_PCC_a[[#This Row],[Image URL]])","v":{"$error":"#VALUE!"}},null,null,null,null,null,null,null,{"$f":"IF(Z100<('DCDC Ref'!$J$24/'DCDC Ref'!$J$26)*'DCDC Ref'!$J$28/100,0,1)","v":1},{"$f":"IF(BC100=0,\"\",('All Data'!Q100-'DCDC Ref'!$J$30)/'DCDC Ref'!$J$30*100)","v":137.36263736263737},137.36263736263737,null,null,0,null,{"$f":"IF(BC100=0,\"\",('All Data'!Z100-'DCDC Ref'!$J$28*('DCDC Ref'!$J$29/100))/'DCDC Ref'!$J$28*('DCDC Ref'!$J$29/100)*100)","v":-69.965517241379317},10000,null,null,null,null,null,736813.18681318685,{"$f":"IF(BQ100=\"\",\"\",RANK(BQ100,BQ$11:BQ$9927,1)+COUNTIF(BQ$11:BQ100,BQ100)-1)","v":97},97,{"$f":"IFERROR(INDEX($O$11:$O$1004,MATCH(ROWS($BS$11:BS100),$BS$11:$BS$1002,0)),\"\")","v":"ETQP3MR33KVP"},"ETQP3MR33KVP"]
[122,"〇","2022-11-18","OK",null,"MP","Panasonic","SMD","Metal Composite","PCC","LE (Low Price)","4M-KFM","PCC-M0748M-LE","Yes","ETQP4M150KFM",{"$f":"MID(All_PCC_a[[#This Row],[Part Number]],7,3)","v":"150"},15,{"$f":"IF(All_PCC_a[[#This Row],[Lo (uH)]]<1,\"<1\",IF(All_PCC_a[[#This Row],[Lo (uH)]]<10,\"<10\",IF(All_PCC_a[[#This Row],[Lo (uH)]]<100,\"<100\",IF(All_PCC_a[[#This Row],[Lo (uH)]]<2000,\"<2000\",\"\"))))","v":"<100"},{"$f":"IFERROR(VLOOKUP(All_PCC_a[[#This Row],[Lo (uH)]],Utility!$D$5:$E$43,2,1),\"-\")","v":"≤  20"},0.2,60.7,66.77,10,4.5999999999999996,3.4,7.2,5.2,7.4,7,4.8,{"$f":"ROUND(All_PCC_a[[#This Row],[L (mm)]]*All_PCC_a[[#This Row],[W (mm)]],1)","v":51.8},{"$f":"All_PCC_a[[#This Row],[L (mm)]]&\"  x  \"&All_PCC_a[[#This Row],[W (mm)]]","v":"7.4  x  7"},"_7 x 7",{"$f":"IF(All_PCC_a[[#This Row],[Max Height (mm)]]<=9,\"≤ \"&ROUNDUP(AD101,0),\"≤\"&ROUNDUP(AD101,0))","v":"≤ 5"},-40,150,{"$f":"All_PCC_a[[#This Row],[Min Temp (deg.C)]]&\" to +\"&All_PCC_a[[#This Row],[Max Temp (deg.C)]]","v":"-40 to +150"},null,null,null,"-","-","-","-","https://industrial.panasonic.com/ww/products/pt/automotive-inductors/models/ETQP4M150KFM","https://industrial.panasonic.com/content/data/CC/pictures/lineup-LE.gif",{"$f":"_xlfn.IMAGE(All_PCC_a[[#This Row],[Image URL]])","v":{"$error":"#VALUE!"}},null,null,null,null,null,null,null,{"$f":"IF(Z101<('DCDC Ref'!$J$24/'DCDC Ref'!$J$26)*'DCDC Ref'!$J$28/100,0,1)","v":1},{"$f":"IF(BC101=0,\"\",('All Data'!Q101-'DCDC Ref'!$J$30)/'DCDC Ref'!$J$30*100)","v":137.36263736263737},137.36263736263737,null,null,0,null,{"$f":"IF(BC101=0,\"\",('All Data'!Z101-'DCDC Ref'!$J$28*('DCDC Ref'!$J$29/100))/'DCDC Ref'!$J$28*('DCDC Ref'!$J$29/100)*100)","v":-67.724137931034491},10000,null,null,null,null,null,736813.18681318685,{"$f":"IF(BQ101=\"\",\"\",RANK(BQ101,BQ$11:BQ$9927,1)+COUNTIF(BQ$11:BQ101,BQ101)-1)","v":98},98,{"$f":"IFERROR(INDEX($O$11:$O$1004,MATCH(ROWS($BS$11:BS101),$BS$11:$BS$1002,0)),\"\")","v":"ETQP6M150KLC"},"ETQP6M150KLC"]
[6,"〇",null,"OK",null,"MP","Panasonic","SMD","Metal Composite","PCC","High Isat (Standard)","4M-YFN","PCC-M0645M","Yes","ETQP4M220YFN",{"$f":"MID(All_PCC_a[[#This Row],[Part Number]],7,3)","v":"220"},22,{"$f":"IF(All_PCC_a[[#This Row],[Lo (uH)]]<1,\"<1\",IF(All_PCC_a[[#This Row],[Lo (uH)]]<10,\"<10\",IF(All_PCC_a[[#This Row],[Lo (uH)]]<100,\"<100\",IF(All_PCC_a[[#This Row],[Lo (uH)]]<2000,\"<2000\",\"\"))))","v":"<100"},{"$f":"IFERROR(VLOOKUP(All_PCC_a[[#This Row],[Lo (uH)]],Utility!$D$5:$E$43,2,1),\"-\")","v":"≤  30"},0.2,126,138.6,10,2.9,2.2999999999999998,6,3.94,6.5,6,4.5,{"$f":"ROUND(All_PCC_a[[#This Row],[L (mm)]]*All_PCC_a[[#This Row],[W (mm)]],1)","v":39},{"$f":"All_PCC_a[[#This Row],[L (mm)]]&\"  x  \"&All_PCC_a[[#This Row],[W (mm)]]","v":"6.5  x  6"},"_6 x 6",{"$f":"IF(All_PCC_a[[#This Row],[Max Height (mm)]]<=9,\"≤ \"&ROUNDUP(AD102,0),\"≤\"&ROUNDUP(AD102,0))","v":"≤ 5"},-40,150,{"$f":"All_PCC_a[[#This Row],[Min Temp (deg.C)]]&\" to +\"&All_PCC_a[[#This Row],[Max Temp (deg.C)]]","v":"-40 to +150"},null,null,null,"-","-","-","-","https://industrial.panasonic.com/ww/products/pt/automotive-inductors/models/ETQP4M220YFN","https://industrial.panasonic.com/content/data/CC/pictures/lineup-Metal-core.gif",{"$f":"_xlfn.IMAGE(All_PCC_a[[#This Row],[Image URL]])","v":{"$error":"#VALUE!"}},null,null,null,null,null,null,null,{"$f":"IF(Z102<('DCDC Ref'!$J$24/'DCDC Ref'!$J$26)*'DCDC Ref'!$J$28/100,0,1)","v":1},{"$f":"IF(BC102=0,\"\",('All Data'!Q102-'DCDC Ref'!$J$30)/'DCDC Ref'!$J$30*100)","v":248.13186813186815},248.13186813186815,null,null,0,null,{"$f":"IF(BC102=0,\"\",('All Data'!Z102-'DCDC Ref'!$J$28*('DCDC Ref'!$J$29/100))/'DCDC Ref'!$J$28*('DCDC Ref'!$J$29/100)*100)","v":-73.103448275862064},10000,null,null,null,null,null,1290659.3406593408,{"$f":"IF(BQ102=\"\",\"\",RANK(BQ102,BQ$11:BQ$9927,1)+COUNTIF(BQ$11:BQ102,BQ102)-1)","v":100},100,{"$f":"IFERROR(INDEX($O$11:$O$1004,MATCH(ROWS($BS$11:BS102),$BS$11:$BS$1002,0)),\"\")","v":"ETQP5M150YFC"},"ETQP5M150YFC"]
[12,"〇",null,"OK",null,"MP","Panasonic","SMD","Metal Composite","PCC","High Isat (Standard)","4M-YFP","PCC-M0540M","Yes","ETQP4M220YFP",{"$f":"MID(All_PCC_a[[#This Row],[Part Number]],7,3)","v":"220"},22,{"$f":"IF(All_PCC_a[[#This Row],[Lo (uH)]]<1,\"<1\",IF(All_PCC_a[[#This Row],[Lo (uH)]]<10,\"<10\",IF(All_PCC_a[[#This Row],[Lo (uH)]]<100,\"<100\",IF(All_PCC_a[[#This Row],[Lo (uH)]]<2000,\"<2000\",\"\"))))","v":"<100"},{"$f":"IFERROR(VLOOKUP(All_PCC_a[[#This Row],[Lo (uH)]],Utility!$D$5:$E$43,2,1),\"-\")","v":"≤  30"},0.2,163,179,10,2.2999999999999998,1.9,3.1,2.35,5.5,5,4,{"$f":"ROUND(All_PCC_a[[#This Row],[L (mm)]]*All_PCC_a[[#This Row],[W (mm)]],1)","v":27.5},{"$f":"All_PCC_a[[#This Row],[L (mm)]]&\"  x  \"&All_PCC_a[[#This Row],[W (mm)]]","v":"5.5  x  5"},"_5 x 5",{"$f":"IF(All_PCC_a[[#This Row],[Max Height (mm)]]<=9,\"≤ \"&ROUNDUP(AD103,0),\"≤\"&ROUNDUP(AD103,0))","v":"≤ 4"},-40,150,{"$f":"All_PCC_a[[#This Row],[Min Temp (deg.C)]]&\" to +\"&All_PCC_a[[#This Row],[Max Temp (deg.C)]]","v":"-40 to +150"},null,null,null,"-","-","-","-","https://industrial.panasonic.com/ww/products/pt/automotive-inductors/models/ETQP4M220YFP","https://industrial.panasonic.com/content/data/CC/pictures/lineup-Metal-core.gif",{"$f":"_xlfn.IMAGE(All_PCC_a[[#This Row],[Image URL]])","v":{"$error":"#VALUE!"}},null,null,null,null,null,null,null,{"$f":"IF(Z103<('DCDC Ref'!$J$24/'DCDC Ref'!$J$26)*'DCDC Ref'!$J$28/100,0,1)","v":0},{"$f":"IF(BC103=0,\"\",('All Data'!Q103-'DCDC Ref'!$J$30)/'DCDC Ref'!$J$30*100)","v":""},{"$error":"#VALUE!"},null,null,0,null,{"$f":"IF(BC103=0,\"\",('All Data'!Z103-'DCDC Ref'!$J$28*('DCDC Ref'!$J$29/100))/'DCDC Ref'!$J$28*('DCDC Ref'!$J$29/100)*100)","v":""},"",null,null,null,null,null,"",{"$f":"IF(BQ103=\"\",\"\",RANK(BQ103,BQ$11:BQ$9927,1)+COUNTIF(BQ$11:BQ103,BQ103)-1)","v":""},{"$error":"#VALUE!"},{"$f":"IFERROR(INDEX($O$11:$O$1004,MATCH(ROWS($BS$11:BS103),$BS$11:$BS$1002,0)),\"\")","v":"ETQP5M150YFK"},"ETQP5M150YFK"]
[19,"〇",null,"OK",null,"MP","Panasonic","SMD","Metal Composite","PCC","High Isat (Standard)","5M-YFC","PCC-M1054M","Yes","ETQP5M220YFC",{"$f":"MID(All_PCC_a[[#This Row],[Part Number]],7,3)","v":"220"},22,{"$f":"IF(All_PCC_a[[#This Row],[Lo (uH)]]<1,\"<1\",IF(All_PCC_a[[#This Row],[Lo (uH)]]<10,\"<10\",IF(All_PCC_a[[#This Row],[Lo (uH)]]<100,\"<100\",IF(All_PCC_a[[#This Row],[Lo (uH)]]<2000,\"<2000\",\"\"))))","v":"<100"},{"$f":"IFERROR(VLOOKUP(All_PCC_a[[#This Row],[Lo (uH)]],Utility!$D$5:$E$43,2,1),\"-\")","v":"≤  30"},0.2,45,50,10,6.2,5.2,9.1999999999999993,6.64,10.7,10,5.4,{"$f":"ROUND(All_PCC_a[[#This Row],[L (mm)]]*All_PCC_a[[#This Row],[W (mm)]],1)","v":107},{"$f":"All_PCC_a[[#This Row],[L (mm)]]&\"  x  \"&All_PCC_a[[#This Row],[W (mm)]]","v":"10.7  x  10"},"10 x 10",{"$f":"IF(All_PCC_a[[#This Row],[Max Height (mm)]]<=9,\"≤ \"&ROUNDUP(AD104,0),\"≤\"&ROUNDUP(AD104,0))","v":"≤ 6"},-40,150,{"$f":"All_PCC_a[[#This Row],[Min Temp (deg.C)]]&\" to +\"&All_PCC_a[[#This Row],[Max Temp (deg.C)]]","v":"-40 to +150"},null,null,null,"-","-","-","-","https://industrial.panasonic.com/ww/products/pt/automotive-inductors/models/ETQP5M220YFC","https://industrial.panasonic.com/content/data/CC/pictures/lineup-Metal-core.gif",{"$f":"_xlfn.IMAGE(All_PCC_a[[#This Row],[Image URL]])","v":{"$error":"#VALUE!"}},null,null,null,null,null,null,null,{"$f":"IF(Z104<('DCDC Ref'!$J$24/'DCDC Ref'!$J$26)*'DCDC Ref'!$J$28/100,0,1)","v":1},{"$f":"IF(BC104=0,\"\",('All Data'!Q104-'DCDC Ref'!$J$30)/'DCDC Ref'!$J$30*100)","v":248.13186813186815},248.13186813186815,null,null,0,null,{"$f":"IF(BC104=0,\"\",('All Data'!Z104-'DCDC Ref'!$J$28*('DCDC Ref'!$J$29/100))/'DCDC Ref'!$J$28*('DCDC Ref'!$J$29/100)*100)","v":-58.758620689655181},10000,null,null,null,null,null,1290659.3406593408,{"$f":"IF(BQ104=\"\",\"\",RANK(BQ104,BQ$11:BQ$9927,1)+COUNTIF(BQ$11:BQ104,BQ104)-1)","v":101},101,{"$f":"IFERROR(INDEX($O$11:$O$1004,MATCH(ROWS($BS$11:BS104),$BS$11:$BS$1002,0)),\"\")","v":"ETQP3M150KVN"},"ETQP3M150KVN"]
[27,"〇",null,"OK",null,"MP","Panasonic","SMD","Metal Composite","PCC","High Isat (Standard)","5M-YFK","PCC-M0854M","Yes","ETQP5M220YFK",{"$f":"MID(All_PCC_a[[#This Row],[Part Number]],7,3)","v":"220"},22,{"$f":"IF(All_PCC_a[[#This Row],[Lo (uH)]]<1,\"<1\",IF(All_PCC_a[[#This Row],[Lo (uH)]]<10,\"<10\",IF(All_PCC_a[[#This Row],[Lo (uH)]]<100,\"<100\",IF(All_PCC_a[[#This Row],[Lo (uH)]]<2000,\"<2000\",\"\"))))","v":"<100"},{"$f":"IFERROR(VLOOKUP(All_PCC_a[[#This Row],[Lo (uH)]],Utility!$D$5:$E$43,2,1),\"-\")","v":"≤  30"},0.2,63,70,10,4.8,4.0999999999999996,6.9,4.92,8.5,8,5.4,{"$f":"ROUND(All_PCC_a[[#This Row],[L (mm)]]*All_PCC_a[[#This Row],[W (mm)]],1)","v":68},{"$f":"All_PCC_a[[#This Row],[L (mm)]]&\"  x  \"&All_PCC_a[[#This Row],[W (mm)]]","v":"8.5  x  8"},"_8 x 8",{"$f":"IF(All_PCC_a[[#This Row],[Max Height (mm)]]<=9,\"≤ \"&ROUNDUP(AD105,0),\"≤\"&ROUNDUP(AD105,0))","v":"≤ 6"},-40,150,{"$f":"All_PCC_a[[#This Row],[Min Temp (deg.C)]]&\" to +\"&All_PCC_a[[#This Row],[Max Temp (deg.C)]]","v":"-40 to +150"},null,null,null,"-","-","-","-","https://industrial.panasonic.com/ww/products/pt/automotive-inductors/models/ETQP5M220YFK","https://industrial.panasonic.com/content/data/CC/pictures/lineup-Metal-core.gif",{"$f":"_xlfn.IMAGE(All_PCC_a[[#This Row],[Image URL]])","v":{"$error":"#VALUE!"}},null,null,null,null,null,null,null,{"$f":"IF(Z105<('DCDC Ref'!$J$24/'DCDC Ref'!$J$26)*'DCDC Ref'!$J$28/100,0,1)","v":1},{"$f":"IF(BC105=0,\"\",('All Data'!Q105-'DCDC Ref'!$J$30)/'DCDC Ref'!$J$30*100)","v":248.13186813186815},248.13186813186815,null,null,0,null,{"$f":"IF(BC105=0,\"\",('All Data'!Z105-'DCDC Ref'!$J$28*('DCDC Ref'!$J$29/100))/'DCDC Ref'!$J$28*('DCDC Ref'!$J$29/100)*100)","v":-69.068965517241381},10000,null,null,null,null,null,1290659.3406593408,{"$f":"IF(BQ105=\"\",\"\",RANK(BQ105,BQ$11:BQ$9927,1)+COUNTIF(BQ$11:BQ105,BQ105)-1)","v":102},102,{"$f":"IFERROR(INDEX($O$11:$O$1004,MATCH(ROWS($BS$11:BS105),$BS$11:$BS$1002,0)),\"\")","v":"ETQP4M150KVK"},"ETQP4M150KVK"]
[33,"〇",null,"OK",null,"MP","Panasonic","SMD","Metal Composite","PCC","High Isat (Standard)","5M-YFM","PCC-M0754M","Yes","ETQP5M220YFM",{"$f":"MID(All_PCC_a[[#This Row],[Part Number]],7,3)","v":"220"},22,{"$f":"IF(All_PCC_a[[#This Row],[Lo (uH)]]<1,\"<1\",IF(All_PCC_a[[#This Row],[Lo (uH)]]<10,\"<10\",IF(All_PCC_a[[#This Row],[Lo (uH)]]<100,\"<100\",IF(All_PCC_a[[#This Row],[Lo (uH)]]<2000,\"<2000\",\"\"))))","v":"<100"},{"$f":"IFERROR(VLOOKUP(All_PCC_a[[#This Row],[Lo (uH)]],Utility!$D$5:$E$43,2,1),\"-\")","v":"≤  30"},0.2,92,102,10,3.7,3,5.8,3.97,7.5,7,5.4,{"$f":"ROUND(All_PCC_a[[#This Row],[L (mm)]]*All_PCC_a[[#This Row],[W (mm)]],1)","v":52.5},{"$f":"All_PCC_a[[#This Row],[L (mm)]]&\"  x  \"&All_PCC_a[[#This Row],[W (mm)]]","v":"7.5  x  7"},"_7 x 7",{"$f":"IF(All_PCC_a[[#This Row],[Max Height (mm)]]<=9,\"≤ \"&ROUNDUP(AD106,0),\"≤\"&ROUNDUP(AD106,0))","v":"≤ 6"},-40,150,{"$f":"All_PCC_a[[#This Row],[Min Temp (deg.C)]]&\" to +\"&All_PCC_a[[#This Row],[Max Temp (deg.C)]]","v":"-40 to +150"},null,null,null,"-","-","-","-","https://industrial.panasonic.com/ww/products/pt/automotive-inductors/models/ETQP5M220YFM","https://industrial.panasonic.com/content/data/CC/pictures/lineup-Metal-core.gif",{"$f":"_xlfn.IMAGE(All_PCC_a[[#This Row],[Image URL]])","v":{"$error":"#VALUE!"}},null,null,null,null,null,null,null,{"$f":"IF(Z106<('DCDC Ref'!$J$24/'DCDC Ref'!$J$26)*'DCDC Ref'!$J$28/100,0,1)","v":1},{"$f":"IF(BC106=0,\"\",('All Data'!Q106-'DCDC Ref'!$J$30)/'DCDC Ref'!$J$30*100)","v":248.13186813186815},248.13186813186815,null,null,0,null,{"$f":"IF(BC106=0,\"\",('All Data'!Z106-'DCDC Ref'!$J$28*('DCDC Ref'!$J$29/100))/'DCDC Ref'!$J$28*('DCDC Ref'!$J$29/100)*100)","v":-74},10000,null,null,null,null,null,1290659.3406593408,{"$f":"IF(BQ106=\"\",\"\",RANK(BQ106,BQ$11:BQ$9927,1)+COUNTIF(BQ$11:BQ106,BQ106)-1)","v":103},103,{"$f":"IFERROR(INDEX($O$11:$O$1004,MATCH(ROWS($BS$11:BS106),$BS$11:$BS$1002,0)),\"\")","v":"ETQP4M150KVC"},"ETQP4M150KVC"]
[61,"〇",null,"OK",null,"MP","Panasonic","SMD","Metal Composite","PCC","LP (Low Profile)","3M-KVN","PCC-M0630M-LP","Yes","ETQP3M220KVN",{"$f":"MID(All_PCC_a[[#This Row],[Part Number]],7,3)","v":"220"},22,{"$f":"IF(All_PCC_a[[#This Row],[Lo (uH)]]<1,\"<1\",IF(All_PCC_a[[#This Row],[Lo (uH)]]<10,\"<10\",IF(All_PCC_a[[#This Row],[Lo (uH)]]<100,\"<100\",IF(All_PCC_a[[#This Row],[Lo (uH)]]<2000,\"<2000\",\"\"))))","v":"<100"},{"$f":"IFERROR(VLOOKUP(All_PCC_a[[#This Row],[Lo (uH)]],Utility!$D$5:$E$43,2,1),\"-\")","v":"≤  30"},0.2,128,140.80000000000001,10,2.7,2.2000000000000002,4.3,2.79,6.4,6,3,{"$f":"ROUND(All_PCC_a[[#This Row],[L (mm)]]*All_PCC_a[[#This Row],[W (mm)]],1)","v":38.4},{"$f":"All_PCC_a[[#This Row],[L (mm)]]&\"  x  \"&All_PCC_a[[#This Row],[W (mm)]]","v":"6.4  x  6"},"_6 x 6",{"$f":"IF(All_PCC_a[[#This Row],[Max Height (mm)]]<=9,\"≤ \"&ROUNDUP(AD107,0),\"≤\"&ROUNDUP(AD107,0))","v":"≤ 3"},-55,155,{"$f":"All_PCC_a[[#This Row],[Min Temp (deg.C)]]&\" to +\"&All_PCC_a[[#This Row],[Max Temp (deg.C)]]","v":"-55 to +155"},null,null,null,"-","-","-","-","https://industrial.panasonic.com/ww/products/pt/automotive-inductors/models/ETQP3M220KVN","https://industrial.panasonic.com/content/data/CC/pictures/lineup-LP.gif",{"$f":"_xlfn.IMAGE(All_PCC_a[[#This Row],[Image URL]])","v":{"$error":"#VALUE!"}},null,null,null,null,null,null,null,{"$f":"IF(Z107<('DCDC Ref'!$J$24/'DCDC Ref'!$J$26)*'DCDC Ref'!$J$28/100,0,1)","v":0},{"$f":"IF(BC107=0,\"\",('All Data'!Q107-'DCDC Ref'!$J$30)/'DCDC Ref'!$J$30*100)","v":""},{"$error":"#VALUE!"},null,null,0,null,{"$f":"IF(BC107=0,\"\",('All Data'!Z107-'DCDC Ref'!$J$28*('DCDC Ref'!$J$29/100))/'DCDC Ref'!$J$28*('DCDC Ref'!$J$29/100)*100)","v":""},"",null,null,null,null,null,"",{"$f":"IF(BQ107=\"\",\"\",RANK(BQ107,BQ$11:BQ$9927,1)+COUNTIF(BQ$11:BQ107,BQ107)-1)","v":""},{"$f":"RANK(BR107,BR$11:BR$9927,1)","v":{"$error":"#VALUE!"}},{"$f":"IFERROR(INDEX($O$11:$O$1004,MATCH(ROWS($BS$11:BS107),$BS$11:$BS$1002,0)),\"\")","v":"ETQP4M150KFN"},"ETQP4M150KFN"]
[72,"〇",null,"OK",null,"MP","Panasonic","SMD","Metal Composite","PCC","LP (Low Profile)","4M-KVK","PCC-M0840M-LP","Yes","ETQP4M220KVK",{"$f":"MID(All_PCC_a[[#This Row],[Part Number]],7,3)","v":"220"},22,{"$f":"IF(All_PCC_a[[#This Row],[Lo (uH)]]<1,\"<1\",IF(All_PCC_a[[#This Row],[Lo (uH)]]<10,\"<10\",IF(All_PCC_a[[#This Row],[Lo (uH)]]<100,\"<100\",IF(All_PCC_a[[#This Row],[Lo (uH)]]<2000,\"<2000\",\"\"))))","v":"<100"},{"$f":"IFERROR(VLOOKUP(All_PCC_a[[#This Row],[Lo (uH)]],Utility!$D$5:$E$43,2,1),\"-\")","v":"≤  30"},0.2,78.400000000000006,86.24,10,3.8,3.2,6,5,8.5,8,4,{"$f":"ROUND(All_PCC_a[[#This Row],[L (mm)]]*All_PCC_a[[#This Row],[W (mm)]],1)","v":68},{"$f":"All_PCC_a[[#This Row],[L (mm)]]&\"  x  \"&All_PCC_a[[#This Row],[W (mm)]]","v":"8.5  x  8"},"_8 x 8",{"$f":"IF(All_PCC_a[[#This Row],[Max Height (mm)]]<=9,\"≤ \"&ROUNDUP(AD108,0),\"≤\"&ROUNDUP(AD108,0))","v":"≤ 4"},-55,155,{"$f":"All_PCC_a[[#This Row],[Min Temp (deg.C)]]&\" to +\"&All_PCC_a[[#This Row],[Max Temp (deg.C)]]","v":"-55 to +155"},null,null,null,"-","-","-","-","https://industrial.panasonic.com/ww/products/pt/automotive-inductors/models/ETQP4M220KVK","https://industrial.panasonic.com/content/data/CC/pictures/lineup-LP.gif",{"$f":"_xlfn.IMAGE(All_PCC_a[[#This Row],[Image URL]])","v":{"$error":"#VALUE!"}},null,null,null,null,null,null,null,{"$f":"IF(Z108<('DCDC Ref'!$J$24/'DCDC Ref'!$J$26)*'DCDC Ref'!$J$28/100,0,1)","v":1},{"$f":"IF(BC108=0,\"\",('All Data'!Q108-'DCDC Ref'!$J$30)/'DCDC Ref'!$J$30*100)","v":248.13186813186815},248.13186813186815,null,null,0,null,{"$f":"IF(BC108=0,\"\",('All Data'!Z108-'DCDC Ref'!$J$28*('DCDC Ref'!$J$29/100))/'DCDC Ref'!$J$28*('DCDC Ref'!$J$29/100)*100)","v":-73.103448275862064},10000,null,null,null,null,null,1290659.3406593408,{"$f":"IF(BQ108=\"\",\"\",RANK(BQ108,BQ$11:BQ$9927,1)+COUNTIF(BQ$11:BQ108,BQ108)-1)","v":104},104,{"$f":"IFERROR(INDEX($O$11:$O$1004,MATCH(ROWS($BS$11:BS108),$BS$11:$BS$1002,0)),\"\")","v":"ETQP4M150KFM"},"ETQP4M150KFM"]
[84,"〇",null,"OK",null,"MP","Panasonic","SMD","Metal Composite","PCC","LP (Low Profile)","4M-KVC","PCC-M1040M-LP","Yes","ETQP4M220KVC",{"$f":"MID(All_PCC_a[[#This Row],[Part Number]],7,3)","v":"220"},22,{"$f":"IF(All_PCC_a[[#This Row],[Lo (uH)]]<1,\"<1\",IF(All_PCC_a[[#This Row],[Lo (uH)]]<10,\"<10\",IF(All_PCC_a[[#This Row],[Lo (uH)]]<100,\"<100\",IF(All_PCC_a[[#This Row],[Lo (uH)]]<2000,\"<2000\",\"\"))))","v":"<100"},{"$f":"IFERROR(VLOOKUP(All_PCC_a[[#This Row],[Lo (uH)]],Utility!$D$5:$E$43,2,1),\"-\")","v":"≤  30"},0.2,60,66,10,5,4.0999999999999996,7.4,5.63,10.7,10,4,{"$f":"ROUND(All_PCC_a[[#This Row],[L (mm)]]*All_PCC_a[[#This Row],[W (mm)]],1)","v":107},{"$f":"All_PCC_a[[#This Row],[L (mm)]]&\"  x  \"&All_PCC_a[[#This Row],[W (mm)]]","v":"10.7  x  10"},"10 x 10",{"$f":"IF(All_PCC_a[[#This Row],[Max Height (mm)]]<=9,\"≤ \"&ROUNDUP(AD109,0),\"≤\"&ROUNDUP(AD109,0))","v":"≤ 4"},-55,155,{"$f":"All_PCC_a[[#This Row],[Min Temp (deg.C)]]&\" to +\"&All_PCC_a[[#This Row],[Max Temp (deg.C)]]","v":"-55 to +155"},null,null,null,"-","-","-","-","https://industrial.panasonic.com/ww/products/pt/automotive-inductors/models/ETQP4M220KVC","https://industrial.panasonic.com/content/data/CC/pictures/lineup-LP.gif",{"$f":"_xlfn.IMAGE(All_PCC_a[[#This Row],[Image URL]])","v":{"$error":"#VALUE!"}},null,null,null,null,null,null,null,{"$f":"IF(Z109<('DCDC Ref'!$J$24/'DCDC Ref'!$J$26)*'DCDC Ref'!$J$28/100,0,1)","v":1},{"$f":"IF(BC109=0,\"\",('All Data'!Q109-'DCDC Ref'!$J$30)/'DCDC Ref'!$J$30*100)","v":248.13186813186815},248.13186813186815,null,null,0,null,{"$f":"IF(BC109=0,\"\",('All Data'!Z109-'DCDC Ref'!$J$28*('DCDC Ref'!$J$29/100))/'DCDC Ref'!$J$28*('DCDC Ref'!$J$29/100)*100)","v":-66.827586206896555},10000,null,null,null,null,null,1290659.3406593408,{"$f":"IF(BQ109=\"\",\"\",RANK(BQ109,BQ$11:BQ$9927,1)+COUNTIF(BQ$11:BQ109,BQ109)-1)","v":105},105,{"$f":"IFERROR(INDEX($O$11:$O$1004,MATCH(ROWS($BS$11:BS109),$BS$11:$BS$1002,0)),\"\")","v":"ETQP5M220YSC"},"ETQP5M220YSC"]
[95,"〇",null,"OK",null,"MP","Panasonic","SMD","Metal Composite","PCC","High Frequency","3M-HFN","PCC-M0630M-H","Yes","ETQP3M220HFN",{"$f":"MID(All_PCC_a[[#This Row],[Part Number]],7,3)","v":"220"},22,{"$f":"IF(All_PCC_a[[#This Row],[Lo (uH)]]<1,\"<1\",IF(All_PCC_a[[#This Row],[Lo (uH)]]<10,\"<10\",IF(All_PCC_a[[#This Row],[Lo (uH)]]<100,\"<100\",IF(All_PCC_a[[#This Row],[Lo (uH)]]<2000,\"<2000\",\"\"))))","v":"<100"},{"$f":"IFERROR(VLOOKUP(All_PCC_a[[#This Row],[Lo (uH)]],Utility!$D$5:$E$43,2,1),\"-\")","v":"≤  30"},0.2,144,158.4,20,2.5,2.1,4,2.9,6.5,6,3,{"$f":"ROUND(All_PCC_a[[#This Row],[L (mm)]]*All_PCC_a[[#This Row],[W (mm)]],1)","v":39},{"$f":"All_PCC_a[[#This Row],[L (mm)]]&\"  x  \"&All_PCC_a[[#This Row],[W (mm)]]","v":"6.5  x  6"},"_6 x 6",{"$f":"IF(All_PCC_a[[#This Row],[Max Height (mm)]]<=9,\"≤ \"&ROUNDUP(AD110,0),\"≤\"&ROUNDUP(AD110,0))","v":"≤ 3"},-40,150,{"$f":"All_PCC_a[[#This Row],[Min Temp (deg.C)]]&\" to +\"&All_PCC_a[[#This Row],[Max Temp (deg.C)]]","v":"-40 to +150"},null,null,null,"-",{"$f":"IFERROR(IF(L1Round>1,ROUND(L1Round,1),L1Round),\"-\")","v":"-"},"-","-","https://industrial.panasonic.com/ww/products/pt/automotive-inductors/models/ETQP3M220HFN","https://industrial.panasonic.com/content/data/CC/pictures/lineup-H.gif",{"$f":"_xlfn.IMAGE(All_PCC_a[[#This Row],[Image URL]])","v":{"$error":"#VALUE!"}},null,null,null,null,null,null,null,{"$f":"IF(Z110<('DCDC Ref'!$J$24/'DCDC Ref'!$J$26)*'DCDC Ref'!$J$28/100,0,1)","v":0},{"$f":"IF(BC110=0,\"\",('All Data'!Q110-'DCDC Ref'!$J$30)/'DCDC Ref'!$J$30*100)","v":""},{"$error":"#VALUE!"},null,null,0,null,{"$f":"IF(BC110=0,\"\",('All Data'!Z110-'DCDC Ref'!$J$28*('DCDC Ref'!$J$29/100))/'DCDC Ref'!$J$28*('DCDC Ref'!$J$29/100)*100)","v":""},"",null,null,null,null,null,"",{"$f":"IF(BQ110=\"\",\"\",RANK(BQ110,BQ$11:BQ$9927,1)+COUNTIF(BQ$11:BQ110,BQ110)-1)","v":""},{"$error":"#VALUE!"},{"$f":"IFERROR(INDEX($O$11:$O$1004,MATCH(ROWS($BS$11:BS110),$BS$11:$BS$1002,0)),\"\")","v":"ETQP4M220YFN"},"ETQP4M220YFN"]
[103,"〇",null,"OK",null,"MP","Panasonic","SMD","Metal Composite","PCC","LE (Low Price)","4M-KFM","PCC-M0748M-LE","Yes","ETQP4M220KFM",{"$f":"MID(All_PCC_a[[#This Row],[Part Number]],7,3)","v":"220"},22,{"$f":"IF(All_PCC_a[[#This Row],[Lo (uH)]]<1,\"<1\",IF(All_PCC_a[[#This Row],[Lo (uH)]]<10,\"<10\",IF(All_PCC_a[[#This Row],[Lo (uH)]]<100,\"<100\",IF(All_PCC_a[[#This Row],[Lo (uH)]]<2000,\"<2000\",\"\"))))","v":"<100"},{"$f":"IFERROR(VLOOKUP(All_PCC_a[[#This Row],[Lo (uH)]],Utility!$D$5:$E$43,2,1),\"-\")","v":"≤  30"},0.2,84.1,92.51,10,3.9,2.9,4.5999999999999996,3.7,7.4,7,4.8,{"$f":"ROUND(All_PCC_a[[#This Row],[L (mm)]]*All_PCC_a[[#This Row],[W (mm)]],1)","v":51.8},{"$f":"All_PCC_a[[#This Row],[L (mm)]]&\"  x  \"&All_PCC_a[[#This Row],[W (mm)]]","v":"7.4  x  7"},"_7 x 7",{"$f":"IF(All_PCC_a[[#This Row],[Max Height (mm)]]<=9,\"≤ \"&ROUNDUP(AD111,0),\"≤\"&ROUNDUP(AD111,0))","v":"≤ 5"},-40,150,{"$f":"All_PCC_a[[#This Row],[Min Temp (deg.C)]]&\" to +\"&All_PCC_a[[#This Row],[Max Temp (deg.C)]]","v":"-40 to +150"},null,null,null,"-","-","-","-","https://industrial.panasonic.com/ww/products/pt/automotive-inductors/models/ETQP4M220KFM","https://industrial.panasonic.com/content/data/CC/pictures/lineup-LE.gif",{"$f":"_xlfn.IMAGE(All_PCC_a[[#This Row],[Image URL]])","v":{"$error":"#VALUE!"}},null,null,null,null,null,null,null,{"$f":"IF(Z111<('DCDC Ref'!$J$24/'DCDC Ref'!$J$26)*'DCDC Ref'!$J$28/100,0,1)","v":1},{"$f":"IF(BC111=0,\"\",('All Data'!Q111-'DCDC Ref'!$J$30)/'DCDC Ref'!$J$30*100)","v":248.13186813186815},248.13186813186815,null,null,0,null,{"$f":"IF(BC111=0,\"\",('All Data'!Z111-'DCDC Ref'!$J$28*('DCDC Ref'!$J$29/100))/'DCDC Ref'!$J$28*('DCDC Ref'!$J$29/100)*100)","v":-79.379310344827601},10000,null,null,null,null,null,1290659.3406593408,{"$f":"IF(BQ111=\"\",\"\",RANK(BQ111,BQ$11:BQ$9927,1)+COUNTIF(BQ$11:BQ111,BQ111)-1)","v":106},106,{"$f":"IFERROR(INDEX($O$11:$O$1004,MATCH(ROWS($BS$11:BS111),$BS$11:$BS$1002,0)),\"\")","v":"ETQP5M220YFC"},"ETQP5M220YFC"]
[121,"〇","2022-11-18","OK",null,"MP","Panasonic","SMD","Metal Composite","PCC","LE (Low Price)","4M-KFM","PCC-M0648M-LE","Yes","ETQP4M220KFN",{"$f":"MID(All_PCC_a[[#This Row],[Part Number]],7,3)","v":"220"},22,{"$f":"IF(All_PCC_a[[#This Row],[Lo (uH)]]<1,\"<1\",IF(All_PCC_a[[#This Row],[Lo (uH)]]<10,\"<10\",IF(All_PCC_a[[#This Row],[Lo (uH)]]<100,\"<100\",IF(All_PCC_a[[#This Row],[Lo (uH)]]<2000,\"<2000\",\"\"))))","v":"<100"},{"$f":"IFERROR(VLOOKUP(All_PCC_a[[#This Row],[Lo (uH)]],Utility!$D$5:$E$43,2,1),\"-\")","v":"≤  30"},0.2,113,124.3,10,3.1,2.4,4.0999999999999996,2.9,6.4,6,4.8,{"$f":"ROUND(All_PCC_a[[#This Row],[L (mm)]]*All_PCC_a[[#This Row],[W (mm)]],1)","v":38.4},{"$f":"All_PCC_a[[#This Row],[L (mm)]]&\"  x  \"&All_PCC_a[[#This Row],[W (mm)]]","v":"6.4  x  6"},"_6 x 6",{"$f":"IF(All_PCC_a[[#This Row],[Max Height (mm)]]<=9,\"≤ \"&ROUNDUP(AD112,0),\"≤\"&ROUNDUP(AD112,0))","v":"≤ 5"},-40,150,{"$f":"All_PCC_a[[#This Row],[Min Temp (deg.C)]]&\" to +\"&All_PCC_a[[#This Row],[Max Temp (deg.C)]]","v":"-40 to +150"},null,null,null,"-","-","-","-","https://industrial.panasonic.com/ww/products/pt/automotive-inductors/models/ETQP4M220KFN","https://industrial.panasonic.com/content/data/CC/pictures/lineup-LE.gif",{"$f":"_xlfn.IMAGE(All_PCC_a[[#This Row],[Image URL]])","v":{"$error":"#VALUE!"}},null,null,null,null,null,null,null,{"$f":"IF(Z112<('DCDC Ref'!$J$24/'DCDC Ref'!$J$26)*'DCDC Ref'!$J$28/100,0,1)","v":0},{"$f":"IF(BC112=0,\"\",('All Data'!Q112-'DCDC Ref'!$J$30)/'DCDC Ref'!$J$30*100)","v":""},{"$error":"#VALUE!"},null,null,0,null,{"$f":"IF(BC112=0,\"\",('All Data'!Z112-'DCDC Ref'!$J$28*('DCDC Ref'!$J$29/100))/'DCDC Ref'!$J$28*('DCDC Ref'!$J$29/100)*100)","v":""},"",null,null,null,null,null,"",{"$f":"IF(BQ112=\"\",\"\",RANK(BQ112,BQ$11:BQ$9927,1)+COUNTIF(BQ$11:BQ112,BQ112)-1)","v":""},{"$error":"#VALUE!"},{"$f":"IFERROR(INDEX($O$11:$O$1004,MATCH(ROWS($BS$11:BS112),$BS$11:$BS$1002,0)),\"\")","v":"ETQP5M220YFK"},"ETQP5M220YFK"]
[7,"〇",null,"OK",null,"MP","Panasonic","SMD","Metal Composite","PCC","High Isat (Standard)","4M-YFN","PCC-M0645M","Yes","ETQP4M330YFN",{"$f":"MID(All_PCC_a[[#This Row],[Part Number]],7,3)","v":"330"},33,{"$f":"IF(All_PCC_a[[#This Row],[Lo (uH)]]<1,\"<1\",IF(All_PCC_a[[#This Row],[Lo (uH)]]<10,\"<10\",IF(All_PCC_a[[#This Row],[Lo (uH)]]<100,\"<100\",IF(All_PCC_a[[#This Row],[Lo (uH)]]<2000,\"<2000\",\"\"))))","v":"<100"},{"$f":"IFERROR(VLOOKUP(All_PCC_a[[#This Row],[Lo (uH)]],Utility!$D$5:$E$43,2,1),\"-\")","v":"≤  40"},0.2,172,189.2,10,2.5,2,4.0999999999999996,2.98,6.5,6,4.5,{"$f":"ROUND(All_PCC_a[[#This Row],[L (mm)]]*All_PCC_a[[#This Row],[W (mm)]],1)","v":39},{"$f":"All_PCC_a[[#This Row],[L (mm)]]&\"  x  \"&All_PCC_a[[#This Row],[W (mm)]]","v":"6.5  x  6"},"_6 x 6",{"$f":"IF(All_PCC_a[[#This Row],[Max Height (mm)]]<=9,\"≤ \"&ROUNDUP(AD113,0),\"≤\"&ROUNDUP(AD113,0))","v":"≤ 5"},-40,150,{"$f":"All_PCC_a[[#This Row],[Min Temp (deg.C)]]&\" to +\"&All_PCC_a[[#This Row],[Max Temp (deg.C)]]","v":"-40 to +150"},null,null,null,"-","-","-","-","https://industrial.panasonic.com/ww/products/pt/automotive-inductors/models/ETQP4M330YFN","https://industrial.panasonic.com/content/data/CC/pictures/lineup-Metal-core.gif",{"$f":"_xlfn.IMAGE(All_PCC_a[[#This Row],[Image URL]])","v":{"$error":"#VALUE!"}},null,null,null,null,null,null,null,{"$f":"IF(Z113<('DCDC Ref'!$J$24/'DCDC Ref'!$J$26)*'DCDC Ref'!$J$28/100,0,1)","v":0},{"$f":"IF(BC113=0,\"\",('All Data'!Q113-'DCDC Ref'!$J$30)/'DCDC Ref'!$J$30*100)","v":""},{"$error":"#VALUE!"},null,null,0,null,{"$f":"IF(BC113=0,\"\",('All Data'!Z113-'DCDC Ref'!$J$28*('DCDC Ref'!$J$29/100))/'DCDC Ref'!$J$28*('DCDC Ref'!$J$29/100)*100)","v":""},"",null,null,null,null,null,"",{"$f":"IF(BQ113=\"\",\"\",RANK(BQ113,BQ$11:BQ$9927,1)+COUNTIF(BQ$11:BQ113,BQ113)-1)","v":""},{"$error":"#VALUE!"},{"$f":"IFERROR(INDEX($O$11:$O$1004,MATCH(ROWS($BS$11:BS113),$BS$11:$BS$1002,0)),\"\")","v":"ETQP5M220YFM"},"ETQP5M220YFM"]
[20,"〇",null,"OK",null,"MP","Panasonic","SMD","Metal Composite","PCC","High Isat (Standard)","5M-YFC","PCC-M1054M","Yes","ETQP5M330YFC",{"$f":"MID(All_PCC_a[[#This Row],[Part Number]],7,3)","v":"330"},33,{"$f":"IF(All_PCC_a[[#This Row],[Lo (uH)]]<1,\"<1\",IF(All_PCC_a[[#This Row],[Lo (uH)]]<10,\"<10\",IF(All_PCC_a[[#This Row],[Lo (uH)]]<100,\"<100\",IF(All_PCC_a[[#This Row],[Lo (uH)]]<2000,\"<2000\",\"\"))))","v":"<100"},{"$f":"IFERROR(VLOOKUP(All_PCC_a[[#This Row],[Lo (uH)]],Utility!$D$5:$E$43,2,1),\"-\")","v":"≤  40"},0.2,68.5,75.400000000000006,10,5,4.2,7.6,5.48,10.7,10,5.4,{"$f":"ROUND(All_PCC_a[[#This Row],[L (mm)]]*All_PCC_a[[#This Row],[W (mm)]],1)","v":107},{"$f":"All_PCC_a[[#This Row],[L (mm)]]&\"  x  \"&All_PCC_a[[#This Row],[W (mm)]]","v":"10.7  x  10"},"10 x 10",{"$f":"IF(All_PCC_a[[#This Row],[Max Height (mm)]]<=9,\"≤ \"&ROUNDUP(AD114,0),\"≤\"&ROUNDUP(AD114,0))","v":"≤ 6"},-40,150,{"$f":"All_PCC_a[[#This Row],[Min Temp (deg.C)]]&\" to +\"&All_PCC_a[[#This Row],[Max Temp (deg.C)]]","v":"-40 to +150"},null,null,null,"-","-","-","-","https://industrial.panasonic.com/ww/products/pt/automotive-inductors/models/ETQP5M330YFC","https://industrial.panasonic.com/content/data/CC/pictures/lineup-Metal-core.gif",{"$f":"_xlfn.IMAGE(All_PCC_a[[#This Row],[Image URL]])","v":{"$error":"#VALUE!"}},null,null,null,null,null,null,null,{"$f":"IF(Z114<('DCDC Ref'!$J$24/'DCDC Ref'!$J$26)*'DCDC Ref'!$J$28/100,0,1)","v":1},{"$f":"IF(BC114=0,\"\",('All Data'!Q114-'DCDC Ref'!$J$30)/'DCDC Ref'!$J$30*100)","v":422.19780219780222},422.19780219780222,null,null,0,null,{"$f":"IF(BC114=0,\"\",('All Data'!Z114-'DCDC Ref'!$J$28*('DCDC Ref'!$J$29/100))/'DCDC Ref'!$J$28*('DCDC Ref'!$J$29/100)*100)","v":-65.931034482758619},10000,null,null,null,null,null,2160989.0109890113,{"$f":"IF(BQ114=\"\",\"\",RANK(BQ114,BQ$11:BQ$9927,1)+COUNTIF(BQ$11:BQ114,BQ114)-1)","v":107},107,{"$f":"IFERROR(INDEX($O$11:$O$1004,MATCH(ROWS($BS$11:BS114),$BS$11:$BS$1002,0)),\"\")","v":"ETQP4M220KVK"},"ETQP4M220KVK"]
[34,"〇",null,"OK",null,"MP","Panasonic","SMD","Metal Composite","PCC","High Isat (Standard)","5M-YFM","PCC-M0754M","Yes","ETQP5M330YFM",{"$f":"MID(All_PCC_a[[#This Row],[Part Number]],7,3)","v":"330"},33,{"$f":"IF(All_PCC_a[[#This Row],[Lo (uH)]]<1,\"<1\",IF(All_PCC_a[[#This Row],[Lo (uH)]]<10,\"<10\",IF(All_PCC_a[[#This Row],[Lo (uH)]]<100,\"<100\",IF(All_PCC_a[[#This Row],[Lo (uH)]]<2000,\"<2000\",\"\"))))","v":"<100"},{"$f":"IFERROR(VLOOKUP(All_PCC_a[[#This Row],[Lo (uH)]],Utility!$D$5:$E$43,2,1),\"-\")","v":"≤  40"},0.2,120,132,10,3.3,2.6,4.8,3.4,7.5,7,5.4,{"$f":"ROUND(All_PCC_a[[#This Row],[L (mm)]]*All_PCC_a[[#This Row],[W (mm)]],1)","v":52.5},{"$f":"All_PCC_a[[#This Row],[L (mm)]]&\"  x  \"&All_PCC_a[[#This Row],[W (mm)]]","v":"7.5  x  7"},"_7 x 7",{"$f":"IF(All_PCC_a[[#This Row],[Max Height (mm)]]<=9,\"≤ \"&ROUNDUP(AD115,0),\"≤\"&ROUNDUP(AD115,0))","v":"≤ 6"},-40,150,{"$f":"All_PCC_a[[#This Row],[Min Temp (deg.C)]]&\" to +\"&All_PCC_a[[#This Row],[Max Temp (deg.C)]]","v":"-40 to +150"},null,null,null,"-","-","-","-","https://industrial.panasonic.com/ww/products/pt/automotive-inductors/models/ETQP5M330YFM","https://industrial.panasonic.com/content/data/CC/pictures/lineup-Metal-core.gif",{"$f":"_xlfn.IMAGE(All_PCC_a[[#This Row],[Image URL]])","v":{"$error":"#VALUE!"}},null,null,null,null,null,null,null,{"$f":"IF(Z115<('DCDC Ref'!$J$24/'DCDC Ref'!$J$26)*'DCDC Ref'!$J$28/100,0,1)","v":1},{"$f":"IF(BC115=0,\"\",('All Data'!Q115-'DCDC Ref'!$J$30)/'DCDC Ref'!$J$30*100)","v":422.19780219780222},422.19780219780222,null,null,0,null,{"$f":"IF(BC115=0,\"\",('All Data'!Z115-'DCDC Ref'!$J$28*('DCDC Ref'!$J$29/100))/'DCDC Ref'!$J$28*('DCDC Ref'!$J$29/100)*100)","v":-78.482758620689651},10000,null,null,null,null,null,2160989.0109890113,{"$f":"IF(BQ115=\"\",\"\",RANK(BQ115,BQ$11:BQ$9927,1)+COUNTIF(BQ$11:BQ115,BQ115)-1)","v":108},108,{"$f":"IFERROR(INDEX($O$11:$O$1004,MATCH(ROWS($BS$11:BS115),$BS$11:$BS$1002,0)),\"\")","v":"ETQP4M220KVC"},"ETQP4M220KVC"]
[60,"〇",null,"OK",null,"MP","Panasonic","SMD","Metal Composite","PCC","LP (Low Profile)","3M-KVN","PCC-M0630M-LP","Yes","ETQP3M330KVN",{"$f":"MID(All_PCC_a[[#This Row],[Part Number]],7,3)","v":"330"},33,{"$f":"IF(All_PCC_a[[#This Row],[Lo (uH)]]<1,\"<1\",IF(All_PCC_a[[#This Row],[Lo (uH)]]<10,\"<10\",IF(All_PCC_a[[#This Row],[Lo (uH)]]<100,\"<100\",IF(All_PCC_a[[#This Row],[Lo (uH)]]<2000,\"<2000\",\"\"))))","v":"<100"},{"$f":"IFERROR(VLOOKUP(All_PCC_a[[#This Row],[Lo (uH)]],Utility!$D$5:$E$43,2,1),\"-\")","v":"≤  40"},0.2,206,226.6,10,2.1,1.7,3,2.1,6.4,6,3,{"$f":"ROUND(All_PCC_a[[#This Row],[L (mm)]]*All_PCC_a[[#This Row],[W (mm)]],1)","v":38.4},{"$f":"All_PCC_a[[#This Row],[L (mm)]]&\"  x  \"&All_PCC_a[[#This Row],[W (mm)]]","v":"6.4  x  6"},"_6 x 6",{"$f":"IF(All_PCC_a[[#This Row],[Max Height (mm)]]<=9,\"≤ \"&ROUNDUP(AD116,0),\"≤\"&ROUNDUP(AD116,0))","v":"≤ 3"},-55,155,{"$f":"All_PCC_a[[#This Row],[Min Temp (deg.C)]]&\" to +\"&All_PCC_a[[#This Row],[Max Temp (deg.C)]]","v":"-55 to +155"},null,null,null,"-","-","-","-","https://industrial.panasonic.com/ww/products/pt/automotive-inductors/models/ETQP3M330KVN","https://industrial.panasonic.com/content/data/CC/pictures/lineup-LP.gif",{"$f":"_xlfn.IMAGE(All_PCC_a[[#This Row],[Image URL]])","v":{"$error":"#VALUE!"}},null,null,null,null,null,null,null,{"$f":"IF(Z116<('DCDC Ref'!$J$24/'DCDC Ref'!$J$26)*'DCDC Ref'!$J$28/100,0,1)","v":0},{"$f":"IF(BC116=0,\"\",('All Data'!Q116-'DCDC Ref'!$J$30)/'DCDC Ref'!$J$30*100)","v":""},{"$error":"#VALUE!"},null,null,0,null,{"$f":"IF(BC116=0,\"\",('All Data'!Z116-'DCDC Ref'!$J$28*('DCDC Ref'!$J$29/100))/'DCDC Ref'!$J$28*('DCDC Ref'!$J$29/100)*100)","v":""},"",null,null,null,null,null,"",{"$f":"IF(BQ116=\"\",\"\",RANK(BQ116,BQ$11:BQ$9927,1)+COUNTIF(BQ$11:BQ116,BQ116)-1)","v":""},{"$error":"#VALUE!"},{"$f":"IFERROR(INDEX($O$11:$O$1004,MATCH(ROWS($BS$11:BS116),$BS$11:$BS$1002,0)),\"\")","v":"ETQP4M220KFM"},"ETQP4M220KFM"]
[71,"〇",null,"OK",null,"MP","Panasonic","SMD","Metal Composite","PCC","LP (Low Profile)","4M-KVK","PCC-M0840M-LP","Yes","ETQP4M330KVK",{"$f":"MID(All_PCC_a[[#This Row],[Part Number]],7,3)","v":"330"},33,{"$f":"IF(All_PCC_a[[#This Row],[Lo (uH)]]<1,\"<1\",IF(All_PCC_a[[#This Row],[Lo (uH)]]<10,\"<10\",IF(All_PCC_a[[#This Row],[Lo (uH)]]<100,\"<100\",IF(All_PCC_a[[#This Row],[Lo (uH)]]<2000,\"<2000\",\"\"))))","v":"<100"},{"$f":"IFERROR(VLOOKUP(All_PCC_a[[#This Row],[Lo (uH)]],Utility!$D$5:$E$43,2,1),\"-\")","v":"≤  40"},0.2,118,129.80000000000001,10,3.1,2.6,4.7,3.74,8.5,8,4,{"$f":"ROUND(All_PCC_a[[#This Row],[L (mm)]]*All_PCC_a[[#This Row],[W (mm)]],1)","v":68},{"$f":"All_PCC_a[[#This Row],[L (mm)]]&\"  x  \"&All_PCC_a[[#This Row],[W (mm)]]","v":"8.5  x  8"},"_8 x 8",{"$f":"IF(All_PCC_a[[#This Row],[Max Height (mm)]]<=9,\"≤ \"&ROUNDUP(AD117,0),\"≤\"&ROUNDUP(AD117,0))","v":"≤ 4"},-55,155,{"$f":"All_PCC_a[[#This Row],[Min Temp (deg.C)]]&\" to +\"&All_PCC_a[[#This Row],[Max Temp (deg.C)]]","v":"-55 to +155"},null,null,null,"-","-","-","-","https://industrial.panasonic.com/ww/products/pt/automotive-inductors/models/ETQP4M330KVK","https://industrial.panasonic.com/content/data/CC/pictures/lineup-LP.gif",{"$f":"_xlfn.IMAGE(All_PCC_a[[#This Row],[Image URL]])","v":{"$error":"#VALUE!"}},null,null,null,null,null,null,null,{"$f":"IF(Z117<('DCDC Ref'!$J$24/'DCDC Ref'!$J$26)*'DCDC Ref'!$J$28/100,0,1)","v":1},{"$f":"IF(BC117=0,\"\",('All Data'!Q117-'DCDC Ref'!$J$30)/'DCDC Ref'!$J$30*100)","v":422.19780219780222},422.19780219780222,null,null,0,null,{"$f":"IF(BC117=0,\"\",('All Data'!Z117-'DCDC Ref'!$J$28*('DCDC Ref'!$J$29/100))/'DCDC Ref'!$J$28*('DCDC Ref'!$J$29/100)*100)","v":-78.931034482758619},10000,null,null,null,null,null,2160989.0109890113,{"$f":"IF(BQ117=\"\",\"\",RANK(BQ117,BQ$11:BQ$9927,1)+COUNTIF(BQ$11:BQ117,BQ117)-1)","v":109},109,{"$f":"IFERROR(INDEX($O$11:$O$1004,MATCH(ROWS($BS$11:BS117),$BS$11:$BS$1002,0)),\"\")","v":"ETQP5M330YFC"},"ETQP5M330YFC"]
[83,"〇",null,"OK",null,"MP","Panasonic","SMD","Metal Composite","PCC","LP (Low Profile)","4M-KVC","PCC-M1040M-LP","Yes","ETQP4M330KVC",{"$f":"MID(All_PCC_a[[#This Row],[Part Number]],7,3)","v":"330"},33,{"$f":"IF(All_PCC_a[[#This Row],[Lo (uH)]]<1,\"<1\",IF(All_PCC_a[[#This Row],[Lo (uH)]]<10,\"<10\",IF(All_PCC_a[[#This Row],[Lo (uH)]]<100,\"<100\",IF(All_PCC_a[[#This Row],[Lo (uH)]]<2000,\"<2000\",\"\"))))","v":"<100"},{"$f":"IFERROR(VLOOKUP(All_PCC_a[[#This Row],[Lo (uH)]],Utility!$D$5:$E$43,2,1),\"-\")","v":"≤  40"},0.2,84.6,93.06,10,4.2,3.4,5.6,4.0599999999999996,10.7,10,4,{"$f":"ROUND(All_PCC_a[[#This Row],[L (mm)]]*All_PCC_a[[#This Row],[W (mm)]],1)","v":107},{"$f":"All_PCC_a[[#This Row],[L (mm)]]&\"  x  \"&All_PCC_a[[#This Row],[W (mm)]]","v":"10.7  x  10"},"10 x 10",{"$f":"IF(All_PCC_a[[#This Row],[Max Height (mm)]]<=9,\"≤ \"&ROUNDUP(AD118,0),\"≤\"&ROUNDUP(AD118,0))","v":"≤ 4"},-55,155,{"$f":"All_PCC_a[[#This Row],[Min Temp (deg.C)]]&\" to +\"&All_PCC_a[[#This Row],[Max Temp (deg.C)]]","v":"-55 to +155"},null,null,null,"-","-","-","-","https://industrial.panasonic.com/ww/products/pt/automotive-inductors/models/ETQP4M330KVC","https://industrial.panasonic.com/content/data/CC/pictures/lineup-LP.gif",{"$f":"_xlfn.IMAGE(All_PCC_a[[#This Row],[Image URL]])","v":{"$error":"#VALUE!"}},null,null,null,null,null,null,null,{"$f":"IF(Z118<('DCDC Ref'!$J$24/'DCDC Ref'!$J$26)*'DCDC Ref'!$J$28/100,0,1)","v":1},{"$f":"IF(BC118=0,\"\",('All Data'!Q118-'DCDC Ref'!$J$30)/'DCDC Ref'!$J$30*100)","v":422.19780219780222},422.19780219780222,null,null,0,null,{"$f":"IF(BC118=0,\"\",('All Data'!Z118-'DCDC Ref'!$J$28*('DCDC Ref'!$J$29/100))/'DCDC Ref'!$J$28*('DCDC Ref'!$J$29/100)*100)","v":-74.896551724137936},10000,null,null,null,null,null,2160989.0109890113,{"$f":"IF(BQ118=\"\",\"\",RANK(BQ118,BQ$11:BQ$9927,1)+COUNTIF(BQ$11:BQ118,BQ118)-1)","v":110},110,{"$f":"IFERROR(INDEX($O$11:$O$1004,MATCH(ROWS($BS$11:BS118),$BS$11:$BS$1002,0)),\"\")","v":"ETQP5M330YFM"},"ETQP5M330YFM"]
[120,"〇","2022/6/30カタログ追加","OK",null,"MP","Panasonic","SMD","Metal Composite","PCC","LE (Low Price)","4M-KFM","PCC-M0748M-LE","Yes","ETQP4M330KFM",{"$f":"MID(All_PCC_a[[#This Row],[Part Number]],7,3)","v":"330"},33,{"$f":"IF(All_PCC_a[[#This Row],[Lo (uH)]]<1,\"<1\",IF(All_PCC_a[[#This Row],[Lo (uH)]]<10,\"<10\",IF(All_PCC_a[[#This Row],[Lo (uH)]]<100,\"<100\",IF(All_PCC_a[[#This Row],[Lo (uH)]]<2000,\"<2000\",\"\"))))","v":"<100"},{"$f":"IFERROR(VLOOKUP(All_PCC_a[[#This Row],[Lo (uH)]],Utility!$D$5:$E$43,2,1),\"-\")","v":"≤  40"},0.2,115,126.5,10,3.4,2.5,4.2,3.1,7.4,7,4.8,{"$f":"ROUND(All_PCC_a[[#This Row],[L (mm)]]*All_PCC_a[[#This Row],[W (mm)]],1)","v":51.8},{"$f":"All_PCC_a[[#This Row],[L (mm)]]&\"  x  \"&All_PCC_a[[#This Row],[W (mm)]]","v":"7.4  x  7"},"_7 x 7",{"$f":"IF(All_PCC_a[[#This Row],[Max Height (mm)]]<=9,\"≤ \"&ROUNDUP(AD119,0),\"≤\"&ROUNDUP(AD119,0))","v":"≤ 5"},-40,150,{"$f":"All_PCC_a[[#This Row],[Min Temp (deg.C)]]&\" to +\"&All_PCC_a[[#This Row],[Max Temp (deg.C)]]","v":"-40 to +150"},null,null,null,"-","-","-","-","https://industrial.panasonic.com/ww/products/pt/automotive-inductors/models/ETQP4M330KFM","https://industrial.panasonic.com/content/data/CC/pictures/lineup-LE.gif",{"$f":"_xlfn.IMAGE(All_PCC_a[[#This Row],[Image URL]])","v":{"$error":"#VALUE!"}},null,null,null,null,null,null,null,{"$f":"IF(Z119<('DCDC Ref'!$J$24/'DCDC Ref'!$J$26)*'DCDC Ref'!$J$28/100,0,1)","v":0},{"$f":"IF(BC119=0,\"\",('All Data'!Q119-'DCDC Ref'!$J$30)/'DCDC Ref'!$J$30*100)","v":""},{"$error":"#VALUE!"},null,null,0,null,{"$f":"IF(BC119=0,\"\",('All Data'!Z119-'DCDC Ref'!$J$28*('DCDC Ref'!$J$29/100))/'DCDC Ref'!$J$28*('DCDC Ref'!$J$29/100)*100)","v":""},"",null,null,null,null,null,"",{"$f":"IF(BQ119=\"\",\"\",RANK(BQ119,BQ$11:BQ$9927,1)+COUNTIF(BQ$11:BQ119,BQ119)-1)","v":""},{"$error":"#VALUE!"},{"$f":"IFERROR(INDEX($O$11:$O$1004,MATCH(ROWS($BS$11:BS119),$BS$11:$BS$1002,0)),\"\")","v":"ETQP4M330KVK"},"ETQP4M330KVK"]
[115,"〇","2021/11/12 カタログMP扱い(一時期NRND扱いになり削除していた)。2017/6/1追加。",null,null,"MP","Panasonic","SMD","Dust","PCC","Dust Core","DH-DTV","PCC-D1413H","Yes","ETQPDH240DTV",{"$f":"MID(All_PCC_a[[#This Row],[Part Number]],7,3)","v":"240"},36,{"$f":"IF(All_PCC_a[[#This Row],[Lo (uH)]]<1,\"<1\",IF(All_PCC_a[[#This Row],[Lo (uH)]]<10,\"<10\",IF(All_PCC_a[[#This Row],[Lo (uH)]]<100,\"<100\",IF(All_PCC_a[[#This Row],[Lo (uH)]]<2000,\"<2000\",\"\"))))","v":"<100"},{"$f":"IFERROR(VLOOKUP(All_PCC_a[[#This Row],[Lo (uH)]],Utility!$D$5:$E$43,2,1),\"-\")","v":"≤  40"},0.3,25.8,"-",10,null,6.9,null,"-",14,14,13.1,{"$f":"ROUND(All_PCC_a[[#This Row],[L (mm)]]*All_PCC_a[[#This Row],[W (mm)]],1)","v":196},{"$f":"All_PCC_a[[#This Row],[L (mm)]]&\"  x  \"&All_PCC_a[[#This Row],[W (mm)]]","v":"14  x  14"},"14 x 14",{"$f":"IF(All_PCC_a[[#This Row],[Max Height (mm)]]<=9,\"≤ \"&ROUNDUP(AD120,0),\"≤\"&ROUNDUP(AD120,0))","v":"≤14"},-40,150,{"$f":"All_PCC_a[[#This Row],[Min Temp (deg.C)]]&\" to +\"&All_PCC_a[[#This Row],[Max Temp (deg.C)]]","v":"-40 to +150"},null,null,null,"-","-","-","-","https://industrial.panasonic.com/ww/products/pt/automotive-inductors/models/ETQPDH240DTV","https://industrial.panasonic.com/content/data/CC/pictures/lineup-Dust-core.gif",{"$f":"_xlfn.IMAGE(All_PCC_a[[#This Row],[Image URL]])","v":{"$error":"#VALUE!"}},null,null,null,null,null,null,null,{"$f":"IF(Z120<('DCDC Ref'!$J$24/'DCDC Ref'!$J$26)*'DCDC Ref'!$J$28/100,0,1)","v":0},{"$f":"IF(BC120=0,\"\",('All Data'!Q120-'DCDC Ref'!$J$30)/'DCDC Ref'!$J$30*100)","v":""},{"$error":"#VALUE!"},null,null,0,null,{"$f":"IF(BC120=0,\"\",('All Data'!Z120-'DCDC Ref'!$J$28*('DCDC Ref'!$J$29/100))/'DCDC Ref'!$J$28*('DCDC Ref'!$J$29/100)*100)","v":""},"",null,null,null,null,null,"",{"$f":"IF(BQ120=\"\",\"\",RANK(BQ120,BQ$11:BQ$9927,1)+COUNTIF(BQ$11:BQ120,BQ120)-1)","v":""},{"$error":"#VALUE!"},{"$f":"IFERROR(INDEX($O$11:$O$1004,MATCH(ROWS($BS$11:BS120),$BS$11:$BS$1002,0)),\"\")","v":"ETQP4M330KVC"},"ETQP4M330KVC"]
[8,"〇",null,"OK",null,"MP","Panasonic","SMD","Metal Composite","PCC","High Isat (Standard)","4M-YFN","PCC-M0645M","Yes","ETQP4M470YFN",{"$f":"MID(All_PCC_a[[#This Row],[Part Number]],7,3)","v":"470"},47,{"$f":"IF(All_PCC_a[[#This Row],[Lo (uH)]]<1,\"<1\",IF(All_PCC_a[[#This Row],[Lo (uH)]]<10,\"<10\",IF(All_PCC_a[[#This Row],[Lo (uH)]]<100,\"<100\",IF(All_PCC_a[[#This Row],[Lo (uH)]]<2000,\"<2000\",\"\"))))","v":"<100"},{"$f":"IFERROR(VLOOKUP(All_PCC_a[[#This Row],[Lo (uH)]],Utility!$D$5:$E$43,2,1),\"-\")","v":"≤  50"},0.2,210,231.00000000000003,10,2.2000000000000002,1.8,3.8,2.6,6.5,6,4.5,{"$f":"ROUND(All_PCC_a[[#This Row],[L (mm)]]*All_PCC_a[[#This Row],[W (mm)]],1)","v":39},{"$f":"All_PCC_a[[#This Row],[L (mm)]]&\"  x  \"&All_PCC_a[[#This Row],[W (mm)]]","v":"6.5  x  6"},"_6 x 6",{"$f":"IF(All_PCC_a[[#This Row],[Max Height (mm)]]<=9,\"≤ \"&ROUNDUP(AD121,0),\"≤\"&ROUNDUP(AD121,0))","v":"≤ 5"},-40,150,{"$f":"All_PCC_a[[#This Row],[Min Temp (deg.C)]]&\" to +\"&All_PCC_a[[#This Row],[Max Temp (deg.C)]]","v":"-40 to +150"},null,null,null,"-","-","-","-","https://industrial.panasonic.com/ww/products/pt/automotive-inductors/models/ETQP4M470YFN","https://industrial.panasonic.com/content/data/CC/pictures/lineup-Metal-core.gif",{"$f":"_xlfn.IMAGE(All_PCC_a[[#This Row],[Image URL]])","v":{"$error":"#VALUE!"}},null,null,null,null,null,null,null,{"$f":"IF(Z121<('DCDC Ref'!$J$24/'DCDC Ref'!$J$26)*'DCDC Ref'!$J$28/100,0,1)","v":0},{"$f":"IF(BC121=0,\"\",('All Data'!Q121-'DCDC Ref'!$J$30)/'DCDC Ref'!$J$30*100)","v":""},{"$error":"#VALUE!"},null,null,0,null,{"$f":"IF(BC121=0,\"\",('All Data'!Z121-'DCDC Ref'!$J$28*('DCDC Ref'!$J$29/100))/'DCDC Ref'!$J$28*('DCDC Ref'!$J$29/100)*100)","v":""},"",null,null,null,null,null,"",{"$f":"IF(BQ121=\"\",\"\",RANK(BQ121,BQ$11:BQ$9927,1)+COUNTIF(BQ$11:BQ121,BQ121)-1)","v":""},{"$error":"#VALUE!"},{"$f":"IFERROR(INDEX($O$11:$O$1004,MATCH(ROWS($BS$11:BS121),$BS$11:$BS$1002,0)),\"\")","v":"ETQP5M470YSC"},"ETQP5M470YSC"]
[21,"〇",null,"OK",null,"MP","Panasonic","SMD","Metal Composite","PCC","High Isat (Standard)","5M-YFC","PCC-M1054M","Yes","ETQP5M470YFC",{"$f":"MID(All_PCC_a[[#This Row],[Part Number]],7,3)","v":"470"},47,{"$f":"IF(All_PCC_a[[#This Row],[Lo (uH)]]<1,\"<1\",IF(All_PCC_a[[#This Row],[Lo (uH)]]<10,\"<10\",IF(All_PCC_a[[#This Row],[Lo (uH)]]<100,\"<100\",IF(All_PCC_a[[#This Row],[Lo (uH)]]<2000,\"<2000\",\"\"))))","v":"<100"},{"$f":"IFERROR(VLOOKUP(All_PCC_a[[#This Row],[Lo (uH)]],Utility!$D$5:$E$43,2,1),\"-\")","v":"≤  50"},0.2,99,108.9,10,4.2,3.5,6.8,4.87,10.7,10,5.4,{"$f":"ROUND(All_PCC_a[[#This Row],[L (mm)]]*All_PCC_a[[#This Row],[W (mm)]],1)","v":107},{"$f":"All_PCC_a[[#This Row],[L (mm)]]&\"  x  \"&All_PCC_a[[#This Row],[W (mm)]]","v":"10.7  x  10"},"10 x 10",{"$f":"IF(All_PCC_a[[#This Row],[Max Height (mm)]]<=9,\"≤ \"&ROUNDUP(AD122,0),\"≤\"&ROUNDUP(AD122,0))","v":"≤ 6"},-40,150,{"$f":"All_PCC_a[[#This Row],[Min Temp (deg.C)]]&\" to +\"&All_PCC_a[[#This Row],[Max Temp (deg.C)]]","v":"-40 to +150"},null,null,null,"-","-","-","-","https://industrial.panasonic.com/ww/products/pt/automotive-inductors/models/ETQP5M470YFC","https://industrial.panasonic.com/content/data/CC/pictures/lineup-Metal-core.gif",{"$f":"_xlfn.IMAGE(All_PCC_a[[#This Row],[Image URL]])","v":{"$error":"#VALUE!"}},null,null,null,null,null,null,null,{"$f":"IF(Z122<('DCDC Ref'!$J$24/'DCDC Ref'!$J$26)*'DCDC Ref'!$J$28/100,0,1)","v":1},{"$f":"IF(BC122=0,\"\",('All Data'!Q122-'DCDC Ref'!$J$30)/'DCDC Ref'!$J$30*100)","v":643.73626373626371},643.73626373626371,null,null,0,null,{"$f":"IF(BC122=0,\"\",('All Data'!Z122-'DCDC Ref'!$J$28*('DCDC Ref'!$J$29/100))/'DCDC Ref'!$J$28*('DCDC Ref'!$J$29/100)*100)","v":-69.517241379310349},10000,null,null,null,null,null,3268681.3186813183,{"$f":"IF(BQ122=\"\",\"\",RANK(BQ122,BQ$11:BQ$9927,1)+COUNTIF(BQ$11:BQ122,BQ122)-1)","v":112},112,{"$f":"IFERROR(INDEX($O$11:$O$1004,MATCH(ROWS($BS$11:BS122),$BS$11:$BS$1002,0)),\"\")","v":"ETQP5M470YFC"},"ETQP5M470YFC"]
[82,"〇",null,"OK",null,"MP","Panasonic","SMD","Metal Composite","PCC","LP (Low Profile)","4M-KVC","PCC-M1040M-LP","Yes","ETQP4M470KVC",{"$f":"MID(All_PCC_a[[#This Row],[Part Number]],7,3)","v":"470"},47,{"$f":"IF(All_PCC_a[[#This Row],[Lo (uH)]]<1,\"<1\",IF(All_PCC_a[[#This Row],[Lo (uH)]]<10,\"<10\",IF(All_PCC_a[[#This Row],[Lo (uH)]]<100,\"<100\",IF(All_PCC_a[[#This Row],[Lo (uH)]]<2000,\"<2000\",\"\"))))","v":"<100"},{"$f":"IFERROR(VLOOKUP(All_PCC_a[[#This Row],[Lo (uH)]],Utility!$D$5:$E$43,2,1),\"-\")","v":"≤  50"},0.2,132,145.20000000000002,10,3.4,2.8,4.7,3.34,10.7,10,4,{"$f":"ROUND(All_PCC_a[[#This Row],[L (mm)]]*All_PCC_a[[#This Row],[W (mm)]],1)","v":107},{"$f":"All_PCC_a[[#This Row],[L (mm)]]&\"  x  \"&All_PCC_a[[#This Row],[W (mm)]]","v":"10.7  x  10"},"10 x 10",{"$f":"IF(All_PCC_a[[#This Row],[Max Height (mm)]]<=9,\"≤ \"&ROUNDUP(AD123,0),\"≤\"&ROUNDUP(AD123,0))","v":"≤ 4"},-55,155,{"$f":"All_PCC_a[[#This Row],[Min Temp (deg.C)]]&\" to +\"&All_PCC_a[[#This Row],[Max Temp (deg.C)]]","v":"-55 to +155"},null,null,null,"-","-","-","-","https://industrial.panasonic.com/ww/products/pt/automotive-inductors/models/ETQP4M470KVC","https://industrial.panasonic.com/content/data/CC/pictures/lineup-LP.gif",{"$f":"_xlfn.IMAGE(All_PCC_a[[#This Row],[Image URL]])","v":{"$error":"#VALUE!"}},null,null,null,null,null,null,null,{"$f":"IF(Z123<('DCDC Ref'!$J$24/'DCDC Ref'!$J$26)*'DCDC Ref'!$J$28/100,0,1)","v":1},{"$f":"IF(BC123=0,\"\",('All Data'!Q123-'DCDC Ref'!$J$30)/'DCDC Ref'!$J$30*100)","v":643.73626373626371},643.73626373626371,null,null,0,null,{"$f":"IF(BC123=0,\"\",('All Data'!Z123-'DCDC Ref'!$J$28*('DCDC Ref'!$J$29/100))/'DCDC Ref'!$J$28*('DCDC Ref'!$J$29/100)*100)","v":-78.931034482758619},10000,null,null,null,null,null,3268681.3186813183,{"$f":"IF(BQ123=\"\",\"\",RANK(BQ123,BQ$11:BQ$9927,1)+COUNTIF(BQ$11:BQ123,BQ123)-1)","v":113},113,{"$f":"IFERROR(INDEX($O$11:$O$1004,MATCH(ROWS($BS$11:BS123),$BS$11:$BS$1002,0)),\"\")","v":"ETQP4M470KVC"},"ETQP4M470KVC"]
[104,"〇",null,"OK",null,"MP","Panasonic","SMD","Metal Composite","PCC","LE (Low Price)","4M-KFM","PCC-M0748M-LE","Yes","ETQP4M470KFM",{"$f":"MID(All_PCC_a[[#This Row],[Part Number]],7,3)","v":"470"},47,{"$f":"IF(All_PCC_a[[#This Row],[Lo (uH)]]<1,\"<1\",IF(All_PCC_a[[#This Row],[Lo (uH)]]<10,\"<10\",IF(All_PCC_a[[#This Row],[Lo (uH)]]<100,\"<100\",IF(All_PCC_a[[#This Row],[Lo (uH)]]<2000,\"<2000\",\"\"))))","v":"<100"},{"$f":"IFERROR(VLOOKUP(All_PCC_a[[#This Row],[Lo (uH)]],Utility!$D$5:$E$43,2,1),\"-\")","v":"≤  50"},0.2,148.6,163.46,10,2.9,2.2000000000000002,3.7,2.7,7.4,7,4.8,{"$f":"ROUND(All_PCC_a[[#This Row],[L (mm)]]*All_PCC_a[[#This Row],[W (mm)]],1)","v":51.8},{"$f":"All_PCC_a[[#This Row],[L (mm)]]&\"  x  \"&All_PCC_a[[#This Row],[W (mm)]]","v":"7.4  x  7"},"_7 x 7",{"$f":"IF(All_PCC_a[[#This Row],[Max Height (mm)]]<=9,\"≤ \"&ROUNDUP(AD124,0),\"≤\"&ROUNDUP(AD124,0))","v":"≤ 5"},-40,150,{"$f":"All_PCC_a[[#This Row],[Min Temp (deg.C)]]&\" to +\"&All_PCC_a[[#This Row],[Max Temp (deg.C)]]","v":"-40 to +150"},null,null,null,"-","-","-","-","https://industrial.panasonic.com/ww/products/pt/automotive-inductors/models/ETQP4M470KFM","https://industrial.panasonic.com/content/data/CC/pictures/lineup-LE.gif",{"$f":"_xlfn.IMAGE(All_PCC_a[[#This Row],[Image URL]])","v":{"$error":"#VALUE!"}},null,null,null,null,null,null,null,{"$f":"IF(Z124<('DCDC Ref'!$J$24/'DCDC Ref'!$J$26)*'DCDC Ref'!$J$28/100,0,1)","v":0},{"$f":"IF(BC124=0,\"\",('All Data'!Q124-'DCDC Ref'!$J$30)/'DCDC Ref'!$J$30*100)","v":""},{"$error":"#VALUE!"},null,null,0,null,{"$f":"IF(BC124=0,\"\",('All Data'!Z124-'DCDC Ref'!$J$28*('DCDC Ref'!$J$29/100))/'DCDC Ref'!$J$28*('DCDC Ref'!$J$29/100)*100)","v":""},"",null,null,null,null,null,"",{"$f":"IF(BQ124=\"\",\"\",RANK(BQ124,BQ$11:BQ$9927,1)+COUNTIF(BQ$11:BQ124,BQ124)-1)","v":""},{"$error":"#VALUE!"},{"$f":"IFERROR(INDEX($O$11:$O$1004,MATCH(ROWS($BS$11:BS124),$BS$11:$BS$1002,0)),\"\")","v":"ETQP5M470YFK"},"ETQP5M470YFK"]
[28,"〇",null,"OK",null,"MP","Panasonic","SMD","Metal Composite","PCC","High Isat (Standard)","5M-YFK","PCC-M0854M","Yes","ETQP5M470YFK",{"$f":"MID(All_PCC_a[[#This Row],[Part Number]],7,3)","v":"470"},48,{"$f":"IF(All_PCC_a[[#This Row],[Lo (uH)]]<1,\"<1\",IF(All_PCC_a[[#This Row],[Lo (uH)]]<10,\"<10\",IF(All_PCC_a[[#This Row],[Lo (uH)]]<100,\"<100\",IF(All_PCC_a[[#This Row],[Lo (uH)]]<2000,\"<2000\",\"\"))))","v":"<100"},{"$f":"IFERROR(VLOOKUP(All_PCC_a[[#This Row],[Lo (uH)]],Utility!$D$5:$E$43,2,1),\"-\")","v":"≤  50"},0.2,125,138,10,3.4,2.9,5.4,3.96,8.5,8,5.4,{"$f":"ROUND(All_PCC_a[[#This Row],[L (mm)]]*All_PCC_a[[#This Row],[W (mm)]],1)","v":68},{"$f":"All_PCC_a[[#This Row],[L (mm)]]&\"  x  \"&All_PCC_a[[#This Row],[W (mm)]]","v":"8.5  x  8"},"_8 x 8",{"$f":"IF(All_PCC_a[[#This Row],[Max Height (mm)]]<=9,\"≤ \"&ROUNDUP(AD125,0),\"≤\"&ROUNDUP(AD125,0))","v":"≤ 6"},-40,150,{"$f":"All_PCC_a[[#This Row],[Min Temp (deg.C)]]&\" to +\"&All_PCC_a[[#This Row],[Max Temp (deg.C)]]","v":"-40 to +150"},null,null,null,"-","-","-","-","https://industrial.panasonic.com/ww/products/pt/automotive-inductors/models/ETQP5M470YFK","https://industrial.panasonic.com/content/data/CC/pictures/lineup-Metal-core.gif",{"$f":"_xlfn.IMAGE(All_PCC_a[[#This Row],[Image URL]])","v":{"$error":"#VALUE!"}},null,null,null,null,null,null,null,{"$f":"IF(Z125<('DCDC Ref'!$J$24/'DCDC Ref'!$J$26)*'DCDC Ref'!$J$28/100,0,1)","v":1},{"$f":"IF(BC125=0,\"\",('All Data'!Q125-'DCDC Ref'!$J$30)/'DCDC Ref'!$J$30*100)","v":659.56043956043948},659.56043956043948,null,null,0,null,{"$f":"IF(BC125=0,\"\",('All Data'!Z125-'DCDC Ref'!$J$28*('DCDC Ref'!$J$29/100))/'DCDC Ref'!$J$28*('DCDC Ref'!$J$29/100)*100)","v":-75.793103448275858},10000,null,null,null,null,null,3347802.1978021972,{"$f":"IF(BQ125=\"\",\"\",RANK(BQ125,BQ$11:BQ$9927,1)+COUNTIF(BQ$11:BQ125,BQ125)-1)","v":114},114,{"$f":"IFERROR(INDEX($O$11:$O$1004,MATCH(ROWS($BS$11:BS125),$BS$11:$BS$1002,0)),\"\")","v":"ETQP5M680YFC"},"ETQP5M680YFC"]
[35,"〇",null,"OK",null,"MP","Panasonic","SMD","Metal Composite","PCC","High Isat (Standard)","5M-YFM","PCC-M0754M","Yes","ETQP5M470YFM",{"$f":"MID(All_PCC_a[[#This Row],[Part Number]],7,3)","v":"470"},48,{"$f":"IF(All_PCC_a[[#This Row],[Lo (uH)]]<1,\"<1\",IF(All_PCC_a[[#This Row],[Lo (uH)]]<10,\"<10\",IF(All_PCC_a[[#This Row],[Lo (uH)]]<100,\"<100\",IF(All_PCC_a[[#This Row],[Lo (uH)]]<2000,\"<2000\",\"\"))))","v":"<100"},{"$f":"IFERROR(VLOOKUP(All_PCC_a[[#This Row],[Lo (uH)]],Utility!$D$5:$E$43,2,1),\"-\")","v":"≤  50"},0.2,156,172,10,2.9,2.2999999999999998,4.0999999999999996,2.94,7.5,7,5.4,{"$f":"ROUND(All_PCC_a[[#This Row],[L (mm)]]*All_PCC_a[[#This Row],[W (mm)]],1)","v":52.5},{"$f":"All_PCC_a[[#This Row],[L (mm)]]&\"  x  \"&All_PCC_a[[#This Row],[W (mm)]]","v":"7.5  x  7"},"_7 x 7",{"$f":"IF(All_PCC_a[[#This Row],[Max Height (mm)]]<=9,\"≤ \"&ROUNDUP(AD126,0),\"≤\"&ROUNDUP(AD126,0))","v":"≤ 6"},-40,150,{"$f":"All_PCC_a[[#This Row],[Min Temp (deg.C)]]&\" to +\"&All_PCC_a[[#This Row],[Max Temp (deg.C)]]","v":"-40 to +150"},null,null,null,"-","-","-","-","https://industrial.panasonic.com/ww/products/pt/automotive-inductors/models/ETQP5M470YFM","https://industrial.panasonic.com/content/data/CC/pictures/lineup-Metal-core.gif",{"$f":"_xlfn.IMAGE(All_PCC_a[[#This Row],[Image URL]])","v":{"$error":"#VALUE!"}},null,null,null,null,null,null,null,{"$f":"IF(Z126<('DCDC Ref'!$J$24/'DCDC Ref'!$J$26)*'DCDC Ref'!$J$28/100,0,1)","v":0},{"$f":"IF(BC126=0,\"\",('All Data'!Q126-'DCDC Ref'!$J$30)/'DCDC Ref'!$J$30*100)","v":""},{"$error":"#VALUE!"},null,null,0,null,{"$f":"IF(BC126=0,\"\",('All Data'!Z126-'DCDC Ref'!$J$28*('DCDC Ref'!$J$29/100))/'DCDC Ref'!$J$28*('DCDC Ref'!$J$29/100)*100)","v":""},"",null,null,null,null,null,"",{"$f":"IF(BQ126=\"\",\"\",RANK(BQ126,BQ$11:BQ$9927,1)+COUNTIF(BQ$11:BQ126,BQ126)-1)","v":""},{"$error":"#VALUE!"},{"$f":"IFERROR(INDEX($O$11:$O$1004,MATCH(ROWS($BS$11:BS126),$BS$11:$BS$1002,0)),\"\")","v":"ETQP4M680KVC"},"ETQP4M680KVC"]
[22,"〇",null,"OK",null,"MP","Panasonic","SMD","Metal Composite","PCC","High Isat (Standard)","5M-YFC","PCC-M1054M","Yes","ETQP5M680YFC",{"$f":"MID(All_PCC_a[[#This Row],[Part Number]],7,3)","v":"680"},66,{"$f":"IF(All_PCC_a[[#This Row],[Lo (uH)]]<1,\"<1\",IF(All_PCC_a[[#This Row],[Lo (uH)]]<10,\"<10\",IF(All_PCC_a[[#This Row],[Lo (uH)]]<100,\"<100\",IF(All_PCC_a[[#This Row],[Lo (uH)]]<2000,\"<2000\",\"\"))))","v":"<100"},{"$f":"IFERROR(VLOOKUP(All_PCC_a[[#This Row],[Lo (uH)]],Utility!$D$5:$E$43,2,1),\"-\")","v":"≤  70"},0.2,136,149.6,10,3.6,3,4.9000000000000004,3.75,10.7,10,5.4,{"$f":"ROUND(All_PCC_a[[#This Row],[L (mm)]]*All_PCC_a[[#This Row],[W (mm)]],1)","v":107},{"$f":"All_PCC_a[[#This Row],[L (mm)]]&\"  x  \"&All_PCC_a[[#This Row],[W (mm)]]","v":"10.7  x  10"},"10 x 10",{"$f":"IF(All_PCC_a[[#This Row],[Max Height (mm)]]<=9,\"≤ \"&ROUNDUP(AD127,0),\"≤\"&ROUNDUP(AD127,0))","v":"≤ 6"},-40,150,{"$f":"All_PCC_a[[#This Row],[Min Temp (deg.C)]]&\" to +\"&All_PCC_a[[#This Row],[Max Temp (deg.C)]]","v":"-40 to +150"},null,null,null,"-","-","-","-","https://industrial.panasonic.com/ww/products/pt/automotive-inductors/models/ETQP5M680YFC","https://industrial.panasonic.com/content/data/CC/pictures/lineup-Metal-core.gif",{"$f":"_xlfn.IMAGE(All_PCC_a[[#This Row],[Image URL]])","v":{"$error":"#VALUE!"}},null,null,null,null,null,null,null,{"$f":"IF(Z127<('DCDC Ref'!$J$24/'DCDC Ref'!$J$26)*'DCDC Ref'!$J$28/100,0,1)","v":1},{"$f":"IF(BC127=0,\"\",('All Data'!Q127-'DCDC Ref'!$J$30)/'DCDC Ref'!$J$30*100)","v":944.39560439560444},944.39560439560444,null,null,0,null,{"$f":"IF(BC127=0,\"\",('All Data'!Z127-'DCDC Ref'!$J$28*('DCDC Ref'!$J$29/100))/'DCDC Ref'!$J$28*('DCDC Ref'!$J$29/100)*100)","v":-78.034482758620683},10000,null,null,null,null,null,4771978.0219780225,{"$f":"IF(BQ127=\"\",\"\",RANK(BQ127,BQ$11:BQ$9927,1)+COUNTIF(BQ$11:BQ127,BQ127)-1)","v":115},115,{"$f":"IFERROR(INDEX($O$11:$O$1004,MATCH(ROWS($BS$11:BS127),$BS$11:$BS$1002,0)),\"\")","v":""},""]
[108,"〇","2022/*/* MP。2021/11/12 カタログUD扱い。2019/11/15追加","OK",null,"MP","Panasonic","SMD","Metal Composite","PCC","High Isat (Standard)","5M-YFM","PCC-M0754M","Yes","ETQP5M680YFM",{"$f":"MID(All_PCC_a[[#This Row],[Part Number]],7,3)","v":"680"},68,{"$f":"IF(All_PCC_a[[#This Row],[Lo (uH)]]<1,\"<1\",IF(All_PCC_a[[#This Row],[Lo (uH)]]<10,\"<10\",IF(All_PCC_a[[#This Row],[Lo (uH)]]<100,\"<100\",IF(All_PCC_a[[#This Row],[Lo (uH)]]<2000,\"<2000\",\"\"))))","v":"<100"},{"$f":"IFERROR(VLOOKUP(All_PCC_a[[#This Row],[Lo (uH)]],Utility!$D$5:$E$43,2,1),\"-\")","v":"≤  70"},0.2,251,{"$f":"All_PCC_a[[#This Row],[DCR Typ (mOhm)]]*1.1","v":276.10000000000002},10,2.2999999999999998,1.9,3.9,2.75,7.5,7,5.4,{"$f":"ROUND(All_PCC_a[[#This Row],[L (mm)]]*All_PCC_a[[#This Row],[W (mm)]],1)","v":52.5},{"$f":"All_PCC_a[[#This Row],[L (mm)]]&\"  x  \"&All_PCC_a[[#This Row],[W (mm)]]","v":"7.5  x  7"},"_7 x 7",{"$f":"IF(All_PCC_a[[#This Row],[Max Height (mm)]]<=9,\"≤ \"&ROUNDUP(AD128,0),\"≤\"&ROUNDUP(AD128,0))","v":"≤ 6"},-40,150,{"$f":"All_PCC_a[[#This Row],[Min Temp (deg.C)]]&\" to +\"&All_PCC_a[[#This Row],[Max Temp (deg.C)]]","v":"-40 to +150"},null,null,null,"-","-","-","-","https://industrial.panasonic.com/ww/products/pt/automotive-inductors/models/ETQP5M680YFM","https://industrial.panasonic.com/content/data/CC/pictures/lineup-Metal-core.gif",{"$f":"_xlfn.IMAGE(All_PCC_a[[#This Row],[Image URL]])","v":{"$error":"#VALUE!"}},null,null,null,null,null,null,null,{"$f":"IF(Z128<('DCDC Ref'!$J$24/'DCDC Ref'!$J$26)*'DCDC Ref'!$J$28/100,0,1)","v":0},{"$f":"IF(BC128=0,\"\",('All Data'!Q128-'DCDC Ref'!$J$30)/'DCDC Ref'!$J$30*100)","v":""},{"$error":"#VALUE!"},null,null,0,null,{"$f":"IF(BC128=0,\"\",('All Data'!Z128-'DCDC Ref'!$J$28*('DCDC Ref'!$J$29/100))/'DCDC Ref'!$J$28*('DCDC Ref'!$J$29/100)*100)","v":""},"",null,null,null,null,null,"",{"$f":"IF(BQ128=\"\",\"\",RANK(BQ128,BQ$11:BQ$9927,1)+COUNTIF(BQ$11:BQ128,BQ128)-1)","v":""},{"$error":"#VALUE!"},{"$f":"IFERROR(INDEX($O$11:$O$1004,MATCH(ROWS($BS$11:BS128),$BS$11:$BS$1002,0)),\"\")","v":""},""]
[118,"〇","2022/6/30カタログ追加","OK",null,"MP","Panasonic","SMD","Metal Composite","PCC","LP (Low Profile)","4M-KVC","PCC-M1040M-LP","Yes","ETQP4M680KVC",{"$f":"MID(All_PCC_a[[#This Row],[Part Number]],7,3)","v":"680"},68,{"$f":"IF(All_PCC_a[[#This Row],[Lo (uH)]]<1,\"<1\",IF(All_PCC_a[[#This Row],[Lo (uH)]]<10,\"<10\",IF(All_PCC_a[[#This Row],[Lo (uH)]]<100,\"<100\",IF(All_PCC_a[[#This Row],[Lo (uH)]]<2000,\"<2000\",\"\"))))","v":"<100"},{"$f":"IFERROR(VLOOKUP(All_PCC_a[[#This Row],[Lo (uH)]],Utility!$D$5:$E$43,2,1),\"-\")","v":"≤  70"},0.2,178.4,196.24,10,2.9,2.4,4.7,3.35,10.7,10,4,{"$f":"ROUND(All_PCC_a[[#This Row],[L (mm)]]*All_PCC_a[[#This Row],[W (mm)]],1)","v":107},{"$f":"All_PCC_a[[#This Row],[L (mm)]]&\"  x  \"&All_PCC_a[[#This Row],[W (mm)]]","v":"10.7  x  10"},"10 x 10",{"$f":"IF(All_PCC_a[[#This Row],[Max Height (mm)]]<=9,\"≤ \"&ROUNDUP(AD129,0),\"≤\"&ROUNDUP(AD129,0))","v":"≤ 4"},-55,155,{"$f":"All_PCC_a[[#This Row],[Min Temp (deg.C)]]&\" to +\"&All_PCC_a[[#This Row],[Max Temp (deg.C)]]","v":"-55 to +155"},null,null,null,"-","-","-","-","https://industrial.panasonic.com/ww/products/pt/automotive-inductors/models/ETQP4M680KVC","https://industrial.panasonic.com/content/data/CC/pictures/lineup-LP.gif",{"$f":"_xlfn.IMAGE(All_PCC_a[[#This Row],[Image URL]])","v":{"$error":"#VALUE!"}},null,null,null,null,null,null,null,{"$f":"IF(Z129<('DCDC Ref'!$J$24/'DCDC Ref'!$J$26)*'DCDC Ref'!$J$28/100,0,1)","v":1},{"$f":"IF(BC129=0,\"\",('All Data'!Q129-'DCDC Ref'!$J$30)/'DCDC Ref'!$J$30*100)","v":976.04395604395597},976.04395604395597,null,null,0,null,{"$f":"IF(BC129=0,\"\",('All Data'!Z129-'DCDC Ref'!$J$28*('DCDC Ref'!$J$29/100))/'DCDC Ref'!$J$28*('DCDC Ref'!$J$29/100)*100)","v":-78.931034482758619},10000,null,null,null,null,null,4930219.7802197803,{"$f":"IF(BQ129=\"\",\"\",RANK(BQ129,BQ$11:BQ$9927,1)+COUNTIF(BQ$11:BQ129,BQ129)-1)","v":116},116,{"$f":"IFERROR(INDEX($O$11:$O$1004,MATCH(ROWS($BS$11:BS129),$BS$11:$BS$1002,0)),\"\")","v":""},""]
[125,"〇","2022-11-18","OK",null,"MP","Panasonic","SMD","Metal Composite","PCC","High Isat (Standard)","5M-YGC","PCC-M1050M","Yes","ETQP5M820YGC",{"$f":"MID(All_PCC_a[[#This Row],[Part Number]],7,3)","v":"820"},82,{"$f":"IF(All_PCC_a[[#This Row],[Lo (uH)]]<1,\"<1\",IF(All_PCC_a[[#This Row],[Lo (uH)]]<10,\"<10\",IF(All_PCC_a[[#This Row],[Lo (uH)]]<100,\"<100\",IF(All_PCC_a[[#This Row],[Lo (uH)]]<2000,\"<2000\",\"\"))))","v":"<100"},{"$f":"IFERROR(VLOOKUP(All_PCC_a[[#This Row],[Lo (uH)]],Utility!$D$5:$E$43,2,1),\"-\")","v":"≤  90"},0.2,194,213.4,10,2.8,2.2000000000000002,4.3,3.1,10.7,10,5,{"$f":"ROUND(All_PCC_a[[#This Row],[L (mm)]]*All_PCC_a[[#This Row],[W (mm)]],1)","v":107},{"$f":"All_PCC_a[[#This Row],[L (mm)]]&\"  x  \"&All_PCC_a[[#This Row],[W (mm)]]","v":"10.7  x  10"},"10 x 10",{"$f":"IF(All_PCC_a[[#This Row],[Max Height (mm)]]<=9,\"≤ \"&ROUNDUP(AD130,0),\"≤\"&ROUNDUP(AD130,0))","v":"≤ 5"},-40,150,{"$f":"All_PCC_a[[#This Row],[Min Temp (deg.C)]]&\" to +\"&All_PCC_a[[#This Row],[Max Temp (deg.C)]]","v":"-40 to +150"},null,null,null,"-","-","-","-","https://industrial.panasonic.com/ww/products/pt/automotive-inductors/models/ETQP5M820YGC","https://industrial.panasonic.com/content/data/CC/pictures/lineup-Metal-core.gif",{"$f":"_xlfn.IMAGE(All_PCC_a[[#This Row],[Image URL]])","v":{"$error":"#VALUE!"}},null,null,null,null,null,null,null,{"$f":"IF(Z130<('DCDC Ref'!$J$24/'DCDC Ref'!$J$26)*'DCDC Ref'!$J$28/100,0,1)","v":0},{"$f":"IF(BC130=0,\"\",('All Data'!Q130-'DCDC Ref'!$J$30)/'DCDC Ref'!$J$30*100)","v":""},{"$error":"#VALUE!"},null,null,0,null,{"$f":"IF(BC130=0,\"\",('All Data'!Z130-'DCDC Ref'!$J$28*('DCDC Ref'!$J$29/100))/'DCDC Ref'!$J$28*('DCDC Ref'!$J$29/100)*100)","v":""},"",null,null,null,null,null,"",{"$f":"IF(BQ130=\"\",\"\",RANK(BQ130,BQ$11:BQ$9927,1)+COUNTIF(BQ$11:BQ130,BQ130)-1)","v":""},{"$error":"#VALUE!"},{"$f":"IFERROR(INDEX($O$11:$O$1004,MATCH(ROWS($BS$11:BS130),$BS$11:$BS$1002,0)),\"\")","v":""},""]
[36,"〇",null,"OK",null,"MP","Panasonic","SMD","Metal Composite","PCC","High Isat (Standard)","5M-YGM","PCC-M0750M","Yes","ETQP5M101YGM",{"$f":"MID(All_PCC_a[[#This Row],[Part Number]],7,3)","v":"101"},95,{"$f":"IF(All_PCC_a[[#This Row],[Lo (uH)]]<1,\"<1\",IF(All_PCC_a[[#This Row],[Lo (uH)]]<10,\"<10\",IF(All_PCC_a[[#This Row],[Lo (uH)]]<100,\"<100\",IF(All_PCC_a[[#This Row],[Lo (uH)]]<2000,\"<2000\",\"\"))))","v":"<100"},{"$f":"IFERROR(VLOOKUP(All_PCC_a[[#This Row],[Lo (uH)]],Utility!$D$5:$E$43,2,1),\"-\")","v":"≤ 100"},0.2,348,382.8,10,1.9,1.4,3.1,2.4700000000000002,7.5,7,5,{"$f":"ROUND(All_PCC_a[[#This Row],[L (mm)]]*All_PCC_a[[#This Row],[W (mm)]],1)","v":52.5},{"$f":"All_PCC_a[[#This Row],[L (mm)]]&\"  x  \"&All_PCC_a[[#This Row],[W (mm)]]","v":"7.5  x  7"},"_7 x 7",{"$f":"IF(All_PCC_a[[#This Row],[Max Height (mm)]]<=9,\"≤ \"&ROUNDUP(AD131,0),\"≤\"&ROUNDUP(AD131,0))","v":"≤ 5"},-40,150,{"$f":"All_PCC_a[[#This Row],[Min Temp (deg.C)]]&\" to +\"&All_PCC_a[[#This Row],[Max Temp (deg.C)]]","v":"-40 to +150"},null,null,null,"-","-","-","-","https://industrial.panasonic.com/ww/products/pt/automotive-inductors/models/ETQP5M101YGM","https://industrial.panasonic.com/content/data/CC/pictures/lineup-Metal-core.gif",{"$f":"_xlfn.IMAGE(All_PCC_a[[#This Row],[Image URL]])","v":{"$error":"#VALUE!"}},null,null,null,null,null,null,null,{"$f":"IF(Z131<('DCDC Ref'!$J$24/'DCDC Ref'!$J$26)*'DCDC Ref'!$J$28/100,0,1)","v":0},{"$f":"IF(BC131=0,\"\",('All Data'!Q131-'DCDC Ref'!$J$30)/'DCDC Ref'!$J$30*100)","v":""},{"$error":"#VALUE!"},null,null,0,null,{"$f":"IF(BC131=0,\"\",('All Data'!Z131-'DCDC Ref'!$J$28*('DCDC Ref'!$J$29/100))/'DCDC Ref'!$J$28*('DCDC Ref'!$J$29/100)*100)","v":""},"",null,null,null,null,null,"",{"$f":"IF(BQ131=\"\",\"\",RANK(BQ131,BQ$11:BQ$9927,1)+COUNTIF(BQ$11:BQ131,BQ131)-1)","v":""},{"$error":"#VALUE!"},{"$f":"IFERROR(INDEX($O$11:$O$1004,MATCH(ROWS($BS$11:BS131),$BS$11:$BS$1002,0)),\"\")","v":""},""]
[23,"〇",null,"OK",null,"MP","Panasonic","SMD","Metal Composite","PCC","High Isat (Standard)","5M-YGC","PCC-M1050M","Yes","ETQP5M101YGC",{"$f":"MID(All_PCC_a[[#This Row],[Part Number]],7,3)","v":"101"},97,{"$f":"IF(All_PCC_a[[#This Row],[Lo (uH)]]<1,\"<1\",IF(All_PCC_a[[#This Row],[Lo (uH)]]<10,\"<10\",IF(All_PCC_a[[#This Row],[Lo (uH)]]<100,\"<100\",IF(All_PCC_a[[#This Row],[Lo (uH)]]<2000,\"<2000\",\"\"))))","v":"<100"},{"$f":"IFERROR(VLOOKUP(All_PCC_a[[#This Row],[Lo (uH)]],Utility!$D$5:$E$43,2,1),\"-\")","v":"≤ 100"},0.2,208,229,10,2.7,2.2000000000000002,3,2.1800000000000002,10.7,10,5,{"$f":"ROUND(All_PCC_a[[#This Row],[L (mm)]]*All_PCC_a[[#This Row],[W (mm)]],1)","v":107},{"$f":"All_PCC_a[[#This Row],[L (mm)]]&\"  x  \"&All_PCC_a[[#This Row],[W (mm)]]","v":"10.7  x  10"},"10 x 10",{"$f":"IF(All_PCC_a[[#This Row],[Max Height (mm)]]<=9,\"≤ \"&ROUNDUP(AD132,0),\"≤\"&ROUNDUP(AD132,0))","v":"≤ 5"},-40,150,{"$f":"All_PCC_a[[#This Row],[Min Temp (deg.C)]]&\" to +\"&All_PCC_a[[#This Row],[Max Temp (deg.C)]]","v":"-40 to +150"},null,null,null,"-","-","-","-","https://industrial.panasonic.com/ww/products/pt/automotive-inductors/models/ETQP5M101YGC","https://industrial.panasonic.com/content/data/CC/pictures/lineup-Metal-core.gif",{"$f":"_xlfn.IMAGE(All_PCC_a[[#This Row],[Image URL]])","v":{"$error":"#VALUE!"}},null,null,null,null,null,null,null,{"$f":"IF(Z132<('DCDC Ref'!$J$24/'DCDC Ref'!$J$26)*'DCDC Ref'!$J$28/100,0,1)","v":0},{"$f":"IF(BC132=0,\"\",('All Data'!Q132-'DCDC Ref'!$J$30)/'DCDC Ref'!$J$30*100)","v":""},{"$error":"#VALUE!"},null,null,0,null,{"$f":"IF(BC132=0,\"\",('All Data'!Z132-'DCDC Ref'!$J$28*('DCDC Ref'!$J$29/100))/'DCDC Ref'!$J$28*('DCDC Ref'!$J$29/100)*100)","v":""},"",null,null,null,null,null,"",{"$f":"IF(BQ132=\"\",\"\",RANK(BQ132,BQ$11:BQ$9927,1)+COUNTIF(BQ$11:BQ132,BQ132)-1)","v":""},{"$error":"#VALUE!"},{"$f":"IFERROR(INDEX($O$11:$O$1004,MATCH(ROWS($BS$11:BS132),$BS$11:$BS$1002,0)),\"\")","v":""},""]
[29,"〇",null,"OK",null,"MP","Panasonic","SMD","Metal Composite","PCC","High Isat (Standard)","5M-YGK","PCC-M0850M","Yes","ETQP5M101YGK",{"$f":"MID(All_PCC_a[[#This Row],[Part Number]],7,3)","v":"101"},100,{"$f":"IF(All_PCC_a[[#This Row],[Lo (uH)]]<1,\"<1\",IF(All_PCC_a[[#This Row],[Lo (uH)]]<10,\"<10\",IF(All_PCC_a[[#This Row],[Lo (uH)]]<100,\"<100\",IF(All_PCC_a[[#This Row],[Lo (uH)]]<2000,\"<2000\",\"\"))))","v":"<2000"},{"$f":"IFERROR(VLOOKUP(All_PCC_a[[#This Row],[Lo (uH)]],Utility!$D$5:$E$43,2,1),\"-\")","v":"≤ 100"},0.2,302,333,10,2.1,1.7,3,1.98,8.5,8,5,{"$f":"ROUND(All_PCC_a[[#This Row],[L (mm)]]*All_PCC_a[[#This Row],[W (mm)]],1)","v":68},{"$f":"All_PCC_a[[#This Row],[L (mm)]]&\"  x  \"&All_PCC_a[[#This Row],[W (mm)]]","v":"8.5  x  8"},"_8 x 8",{"$f":"IF(All_PCC_a[[#This Row],[Max Height (mm)]]<=9,\"≤ \"&ROUNDUP(AD133,0),\"≤\"&ROUNDUP(AD133,0))","v":"≤ 5"},-40,150,{"$f":"All_PCC_a[[#This Row],[Min Temp (deg.C)]]&\" to +\"&All_PCC_a[[#This Row],[Max Temp (deg.C)]]","v":"-40 to +150"},null,null,null,"-","-","-","-","https://industrial.panasonic.com/ww/products/pt/automotive-inductors/models/ETQP5M101YGK","https://industrial.panasonic.com/content/data/CC/pictures/lineup-Metal-core.gif",{"$f":"_xlfn.IMAGE(All_PCC_a[[#This Row],[Image URL]])","v":{"$error":"#VALUE!"}},null,null,null,null,null,null,null,{"$f":"IF(Z133<('DCDC Ref'!$J$24/'DCDC Ref'!$J$26)*'DCDC Ref'!$J$28/100,0,1)","v":0},{"$f":"IF(BC133=0,\"\",('All Data'!Q133-'DCDC Ref'!$J$30)/'DCDC Ref'!$J$30*100)","v":""},{"$error":"#VALUE!"},null,null,0,null,{"$f":"IF(BC133=0,\"\",('All Data'!Z133-'DCDC Ref'!$J$28*('DCDC Ref'!$J$29/100))/'DCDC Ref'!$J$28*('DCDC Ref'!$J$29/100)*100)","v":""},"",null,null,null,null,null,"",{"$f":"IF(BQ133=\"\",\"\",RANK(BQ133,BQ$11:BQ$9927,1)+COUNTIF(BQ$11:BQ133,BQ133)-1)","v":""},{"$error":"#VALUE!"},{"$f":"IFERROR(INDEX($O$11:$O$1004,MATCH(ROWS($BS$11:BS133),$BS$11:$BS$1002,0)),\"\")","v":""},""]
[117,"〇","2022/6/30カタログ追加","OK",null,"MP","Panasonic","SMD","Metal Composite","PCC","LP (Low Profile)","4M-KVC","PCC-M1040M-LP","Yes","ETQP4M101KVC",{"$f":"MID(All_PCC_a[[#This Row],[Part Number]],7,3)","v":"101"},100,{"$f":"IF(All_PCC_a[[#This Row],[Lo (uH)]]<1,\"<1\",IF(All_PCC_a[[#This Row],[Lo (uH)]]<10,\"<10\",IF(All_PCC_a[[#This Row],[Lo (uH)]]<100,\"<100\",IF(All_PCC_a[[#This Row],[Lo (uH)]]<2000,\"<2000\",\"\"))))","v":"<2000"},{"$f":"IFERROR(VLOOKUP(All_PCC_a[[#This Row],[Lo (uH)]],Utility!$D$5:$E$43,2,1),\"-\")","v":"≤ 100"},0.2,242,266.2,10,2.5,2,3.5,2.5,10.7,10,4,{"$f":"ROUND(All_PCC_a[[#This Row],[L (mm)]]*All_PCC_a[[#This Row],[W (mm)]],1)","v":107},{"$f":"All_PCC_a[[#This Row],[L (mm)]]&\"  x  \"&All_PCC_a[[#This Row],[W (mm)]]","v":"10.7  x  10"},"10 x 10",{"$f":"IF(All_PCC_a[[#This Row],[Max Height (mm)]]<=9,\"≤ \"&ROUNDUP(AD134,0),\"≤\"&ROUNDUP(AD134,0))","v":"≤ 4"},-55,155,{"$f":"All_PCC_a[[#This Row],[Min Temp (deg.C)]]&\" to +\"&All_PCC_a[[#This Row],[Max Temp (deg.C)]]","v":"-55 to +155"},null,null,null,"-","-","-","-","https://industrial.panasonic.com/ww/products/pt/automotive-inductors/models/ETQP4M101KVC","https://industrial.panasonic.com/content/data/CC/pictures/lineup-LP.gif",{"$f":"_xlfn.IMAGE(All_PCC_a[[#This Row],[Image URL]])","v":{"$error":"#VALUE!"}},null,null,null,null,null,null,null,{"$f":"IF(Z134<('DCDC Ref'!$J$24/'DCDC Ref'!$J$26)*'DCDC Ref'!$J$28/100,0,1)","v":0},{"$f":"IF(BC134=0,\"\",('All Data'!Q134-'DCDC Ref'!$J$30)/'DCDC Ref'!$J$30*100)","v":""},{"$error":"#VALUE!"},null,null,0,null,{"$f":"IF(BC134=0,\"\",('All Data'!Z134-'DCDC Ref'!$J$28*('DCDC Ref'!$J$29/100))/'DCDC Ref'!$J$28*('DCDC Ref'!$J$29/100)*100)","v":""},"",null,null,null,null,null,"",{"$f":"IF(BQ134=\"\",\"\",RANK(BQ134,BQ$11:BQ$9927,1)+COUNTIF(BQ$11:BQ134,BQ134)-1)","v":""},{"$error":"#VALUE!"},{"$f":"IFERROR(INDEX($O$11:$O$1004,MATCH(ROWS($BS$11:BS134),$BS$11:$BS$1002,0)),\"\")","v":""},""]
[null,"〇","2024/6/7 UD→MPへ","OK",null,"MP","Panasonic","SMD","Metal Composite","PCC","High Anti-vibration","5M-YSC","PCC-M1056MS","Yes","ETQP5M220YSC",{"$f":"MID(All_PCC_a[[#This Row],[Part Number]],7,3)","v":"220"},20,{"$f":"IF(All_PCC_a[[#This Row],[Lo (uH)]]<1,\"<1\",IF(All_PCC_a[[#This Row],[Lo (uH)]]<10,\"<10\",IF(All_PCC_a[[#This Row],[Lo (uH)]]<100,\"<100\",IF(All_PCC_a[[#This Row],[Lo (uH)]]<2000,\"<2000\",\"\"))))","v":"<100"},{"$f":"IFERROR(VLOOKUP(All_PCC_a[[#This Row],[Lo (uH)]],Utility!$D$5:$E$43,2,1),\"-\")","v":"≤  20"},0.2,45.5,50.05,10,6.2,5.2,7.9,5.5,10.9,10,5.6,{"$f":"ROUND(All_PCC_a[[#This Row],[L (mm)]]*All_PCC_a[[#This Row],[W (mm)]],1)","v":109},{"$f":"All_PCC_a[[#This Row],[L (mm)]]&\"  x  \"&All_PCC_a[[#This Row],[W (mm)]]","v":"10.9  x  10"},"10 x 10",{"$f":"IF(All_PCC_a[[#This Row],[Max Height (mm)]]<=9,\"≤ \"&ROUNDUP(AD135,0),\"≤\"&ROUNDUP(AD135,0))","v":"≤ 6"},-40,150,{"$f":"All_PCC_a[[#This Row],[Min Temp (deg.C)]]&\" to +\"&All_PCC_a[[#This Row],[Max Temp (deg.C)]]","v":"-40 to +150"},null,null,null,"-",{"$f":"IFERROR(IF(L1Round>1,ROUND(L1Round,1),L1Round),\"-\")","v":"-"},"-","-","https://industrial.panasonic.com/ww/products/pt/automotive-inductors/models/ETQP5M220YSC","https://industrial.panasonic.com/content/data/CC/pictures/lineup-High%20Vibration%20Acceleration.gif",{"$f":"_xlfn.IMAGE(All_PCC_a[[#This Row],[Image URL]])","v":{"$error":"#VALUE!"}},null,null,null,null,null,null,null,{"$f":"IF(Z135<('DCDC Ref'!$J$24/'DCDC Ref'!$J$26)*'DCDC Ref'!$J$28/100,0,1)","v":1},{"$f":"IF(BC135=0,\"\",('All Data'!Q135-'DCDC Ref'!$J$30)/'DCDC Ref'!$J$30*100)","v":216.48351648351647},216.48351648351647,null,null,0,null,{"$f":"IF(BC135=0,\"\",('All Data'!Z135-'DCDC Ref'!$J$28*('DCDC Ref'!$J$29/100))/'DCDC Ref'!$J$28*('DCDC Ref'!$J$29/100)*100)","v":-64.58620689655173},10000,null,null,null,null,null,1132417.5824175824,{"$f":"IF(BQ135=\"\",\"\",RANK(BQ135,BQ$11:BQ$9927,1)+COUNTIF(BQ$11:BQ135,BQ135)-1)","v":99},99,{"$f":"IFERROR(INDEX($O$11:$O$1004,MATCH(ROWS($BS$11:BS135),$BS$11:$BS$1002,0)),\"\")","v":""},""]
[null,"〇","2024/6/7 UD→MPへ","OK",null,"MP","Panasonic","SMD","Metal Composite","PCC","High Anti-vibration","5M-YSC","PCC-M1054MS","Yes","ETQP5M470YSC",{"$f":"MID(All_PCC_a[[#This Row],[Part Number]],7,3)","v":"470"},44,{"$f":"IF(All_PCC_a[[#This Row],[Lo (uH)]]<1,\"<1\",IF(All_PCC_a[[#This Row],[Lo (uH)]]<10,\"<10\",IF(All_PCC_a[[#This Row],[Lo (uH)]]<100,\"<100\",IF(All_PCC_a[[#This Row],[Lo (uH)]]<2000,\"<2000\",\"\"))))","v":"<100"},{"$f":"IFERROR(VLOOKUP(All_PCC_a[[#This Row],[Lo (uH)]],Utility!$D$5:$E$43,2,1),\"-\")","v":"≤  50"},0.2,102,112.2,10,4.0999999999999996,3.4,5.6,4.5,10.9,10,5.4,{"$f":"ROUND(All_PCC_a[[#This Row],[L (mm)]]*All_PCC_a[[#This Row],[W (mm)]],1)","v":109},{"$f":"All_PCC_a[[#This Row],[L (mm)]]&\"  x  \"&All_PCC_a[[#This Row],[W (mm)]]","v":"10.9  x  10"},"10 x 10",{"$f":"IF(All_PCC_a[[#This Row],[Max Height (mm)]]<=9,\"≤ \"&ROUNDUP(AD136,0),\"≤\"&ROUNDUP(AD136,0))","v":"≤ 6"},-40,150,{"$f":"All_PCC_a[[#This Row],[Min Temp (deg.C)]]&\" to +\"&All_PCC_a[[#This Row],[Max Temp (deg.C)]]","v":"-40 to +150"},null,null,null,"-","-","-","-","https://industrial.panasonic.com/ww/products/pt/automotive-inductors/models/ETQP5M470YSC","https://industrial.panasonic.com/content/data/CC/pictures/lineup-High%20Vibration%20Acceleration.gif",{"$f":"_xlfn.IMAGE(All_PCC_a[[#This Row],[Image URL]])","v":{"$error":"#VALUE!"}},null,null,null,null,null,null,null,{"$f":"IF(Z136<('DCDC Ref'!$J$24/'DCDC Ref'!$J$26)*'DCDC Ref'!$J$28/100,0,1)","v":1},{"$f":"IF(BC136=0,\"\",('All Data'!Q136-'DCDC Ref'!$J$30)/'DCDC Ref'!$J$30*100)","v":596.26373626373629},596.26373626373629,null,null,0,null,{"$f":"IF(BC136=0,\"\",('All Data'!Z136-'DCDC Ref'!$J$28*('DCDC Ref'!$J$29/100))/'DCDC Ref'!$J$28*('DCDC Ref'!$J$29/100)*100)","v":-74.896551724137936},10000,null,null,null,null,null,3031318.6813186817,{"$f":"IF(BQ136=\"\",\"\",RANK(BQ136,BQ$11:BQ$9927,1)+COUNTIF(BQ$11:BQ136,BQ136)-1)","v":111},111,{"$f":"IFERROR(INDEX($O$11:$O$1004,MATCH(ROWS($BS$11:BS136),$BS$11:$BS$1002,0)),\"\")","v":""},""]
[null,"〇","2023/10/31 MP","OK",null,"MP","Panasonic","SMD","Metal Composite","PCC","High Anti-vibration","5M-YSC","PCC-M1060MS","Yes","ETQP6M2R5YSC",{"$f":"MID(All_PCC_a[[#This Row],[Part Number]],7,3)","v":"2R5"},2.5,{"$f":"IF(All_PCC_a[[#This Row],[Lo (uH)]]<1,\"<1\",IF(All_PCC_a[[#This Row],[Lo (uH)]]<10,\"<10\",IF(All_PCC_a[[#This Row],[Lo (uH)]]<100,\"<100\",IF(All_PCC_a[[#This Row],[Lo (uH)]]<2000,\"<2000\",\"\"))))","v":"<10"},{"$f":"IFERROR(VLOOKUP(All_PCC_a[[#This Row],[Lo (uH)]],Utility!$D$5:$E$43,2,1),\"-\")","v":"≤   3"},0.2,4.4800000000000004,4.93,10,19.7,16.399999999999999,23.7,16.600000000000001,10.9,10,6,{"$f":"ROUND(All_PCC_a[[#This Row],[L (mm)]]*All_PCC_a[[#This Row],[W (mm)]],1)","v":109},{"$f":"All_PCC_a[[#This Row],[L (mm)]]&\"  x  \"&All_PCC_a[[#This Row],[W (mm)]]","v":"10.9  x  10"},"10 x 10",{"$f":"IF(All_PCC_a[[#This Row],[Max Height (mm)]]<=9,\"≤ \"&ROUNDUP(AD137,0),\"≤\"&ROUNDUP(AD137,0))","v":"≤ 6"},-40,150,{"$f":"All_PCC_a[[#This Row],[Min Temp (deg.C)]]&\" to +\"&All_PCC_a[[#This Row],[Max Temp (deg.C)]]","v":"-40 to +150"},null,null,null,"-","-","-","-","https://industrial.panasonic.com/ww/products/pt/automotive-inductors/models/ETQP6M2R5YSC","https://industrial.panasonic.com/content/data/CC/pictures/lineup-High%20Vibration%20Acceleration.gif",{"$f":"_xlfn.IMAGE(All_PCC_a[[#This Row],[Image URL]])","v":{"$error":"#VALUE!"}},null,null,null,null,null,null,null,{"$f":"IF(Z137<('DCDC Ref'!$J$24/'DCDC Ref'!$J$26)*'DCDC Ref'!$J$28/100,0,1)","v":1},{"$f":"IF(BC137=0,\"\",('All Data'!Q137-'DCDC Ref'!$J$30)/'DCDC Ref'!$J$30*100)","v":-60.439560439560438},60.439560439560438,null,null,0,null,{"$f":"IF(BC137=0,\"\",('All Data'!Z137-'DCDC Ref'!$J$28*('DCDC Ref'!$J$29/100))/'DCDC Ref'!$J$28*('DCDC Ref'!$J$29/100)*100)","v":6.2413793103448123},6.2413793103448123,null,null,null,null,null,302229.00909435388,{"$f":"IF(BQ137=\"\",\"\",RANK(BQ137,BQ$11:BQ$9927,1)+COUNTIF(BQ$11:BQ137,BQ137)-1)","v":34},34,{"$f":"IFERROR(INDEX($O$11:$O$1004,MATCH(ROWS($BS$11:BS137),$BS$11:$BS$1002,0)),\"\")","v":""},""]
[null,"〇",null,"OK",null,"MP","Panasonic","SMD","Metal Composite","PCC","High Current (≥□12)","AM-JFW","PCC-M15A0MF","Yes","ETQPAMR33JFW",{"$f":"MID(All_PCC_a[[#This Row],[Part Number]],7,3)","v":"R33"},0.33,{"$f":"IF(All_PCC_a[[#This Row],[Lo (uH)]]<1,\"<1\",IF(All_PCC_a[[#This Row],[Lo (uH)]]<10,\"<10\",IF(All_PCC_a[[#This Row],[Lo (uH)]]<100,\"<100\",IF(All_PCC_a[[#This Row],[Lo (uH)]]<2000,\"<2000\",\"\"))))","v":"<1"},{"$f":"IFERROR(VLOOKUP(All_PCC_a[[#This Row],[Lo (uH)]],Utility!$D$5:$E$43,2,1),\"-\")","v":"≤    0.4"},0.2,0.42,0.48,10,83,69,103,75,15.6,17.2,10.5,{"$f":"ROUND(All_PCC_a[[#This Row],[L (mm)]]*All_PCC_a[[#This Row],[W (mm)]],1)","v":268.3},{"$f":"All_PCC_a[[#This Row],[L (mm)]]&\"  x  \"&All_PCC_a[[#This Row],[W (mm)]]","v":"15.6  x  17.2"},"15 x 15",{"$f":"IF(All_PCC_a[[#This Row],[Max Height (mm)]]<=9,\"≤ \"&ROUNDUP(AD138,0),\"≤\"&ROUNDUP(AD138,0))","v":"≤11"},-40,160,{"$f":"All_PCC_a[[#This Row],[Min Temp (deg.C)]]&\" to +\"&All_PCC_a[[#This Row],[Max Temp (deg.C)]]","v":"-40 to +160"},null,null,null,"-","-","-","-","https://industrial.panasonic.com/ww/products/pt/automotive-inductors/models/ETQPAMR33JFW","https://industrial.panasonic.com/content/data/CC/pictures/lineup-Large%20current.gif",{"$f":"_xlfn.IMAGE(All_PCC_a[[#This Row],[Image URL]])","v":{"$error":"#VALUE!"}},null,null,null,null,null,null,null,{"$f":"IF(Z138<('DCDC Ref'!$J$24/'DCDC Ref'!$J$26)*'DCDC Ref'!$J$28/100,0,1)","v":1},{"$f":"IF(BC138=0,\"\",('All Data'!Q138-'DCDC Ref'!$J$30)/'DCDC Ref'!$J$30*100)","v":-94.778021978021982},94.778021978021982,null,null,{"$f":"IF(BG138<0,10000,BG138)","v":0},null,{"$f":"IF(BC138=0,\"\",('All Data'!Z138-'DCDC Ref'!$J$28*('DCDC Ref'!$J$29/100))/'DCDC Ref'!$J$28*('DCDC Ref'!$J$29/100)*100)","v":361.72413793103442},{"$f":"IF(BJ138<0,10000,BJ138)","v":361.72413793103442},null,null,null,null,null,475698.73057976511,{"$f":"IF(BQ138=\"\",\"\",RANK(BQ138,BQ$11:BQ$9927,1)+COUNTIF(BQ$11:BQ138,BQ138)-1)","v":86},86,{"$f":"IFERROR(INDEX($O$11:$O$1004,MATCH(ROWS($BS$11:BS138),$BS$11:$BS$1002,0)),\"\")","v":""},""]
[null,"〇","2023/8/1 MP","OK",null,"MP","Panasonic","SMD","Metal Composite","PCC","High Current (≥□12)","AM-JFW","PCC-M15A0MF","Yes","ETQPAMR68JFW",{"$f":"MID(All_PCC_a[[#This Row],[Part Number]],7,3)","v":"R68"},0.68,{"$f":"IF(All_PCC_a[[#This Row],[Lo (uH)]]<1,\"<1\",IF(All_PCC_a[[#This Row],[Lo (uH)]]<10,\"<10\",IF(All_PCC_a[[#This Row],[Lo (uH)]]<100,\"<100\",IF(All_PCC_a[[#This Row],[Lo (uH)]]<2000,\"<2000\",\"\"))))","v":"<1"},{"$f":"IFERROR(VLOOKUP(All_PCC_a[[#This Row],[Lo (uH)]],Utility!$D$5:$E$43,2,1),\"-\")","v":"≤    0.7"},0.2,0.7,0.77,10,65,53,71,51,15.6,17.2,10.5,{"$f":"ROUND(All_PCC_a[[#This Row],[L (mm)]]*All_PCC_a[[#This Row],[W (mm)]],1)","v":268.3},{"$f":"All_PCC_a[[#This Row],[L (mm)]]&\"  x  \"&All_PCC_a[[#This Row],[W (mm)]]","v":"15.6  x  17.2"},"15 x 15",{"$f":"IF(All_PCC_a[[#This Row],[Max Height (mm)]]<=9,\"≤ \"&ROUNDUP(AD139,0),\"≤\"&ROUNDUP(AD139,0))","v":"≤11"},-40,160,{"$f":"All_PCC_a[[#This Row],[Min Temp (deg.C)]]&\" to +\"&All_PCC_a[[#This Row],[Max Temp (deg.C)]]","v":"-40 to +160"},null,null,null,"-","-","-","-","https://industrial.panasonic.com/ww/products/pt/automotive-inductors/models/ETQPAMR68JFW","https://industrial.panasonic.com/content/data/CC/pictures/lineup-Large%20current.gif",{"$f":"_xlfn.IMAGE(All_PCC_a[[#This Row],[Image URL]])","v":{"$error":"#VALUE!"}},null,null,null,null,null,null,null,{"$f":"IF(Z139<('DCDC Ref'!$J$24/'DCDC Ref'!$J$26)*'DCDC Ref'!$J$28/100,0,1)","v":1},{"$f":"IF(BC139=0,\"\",('All Data'!Q139-'DCDC Ref'!$J$30)/'DCDC Ref'!$J$30*100)","v":-89.239560439560435},{"$f":"ABS(BD139)","v":89.239560439560435},null,null,0,null,{"$f":"IF(BC139=0,\"\",('All Data'!Z139-'DCDC Ref'!$J$28*('DCDC Ref'!$J$29/100))/'DCDC Ref'!$J$28*('DCDC Ref'!$J$29/100)*100)","v":218.27586206896549},218.27586206896549,null,null,null,null,null,{"$f":"IFERROR(BE139*$BP$6+BK139*$BP$7,\"\")","v":447289.18150814698},{"$f":"IF(BQ139=\"\",\"\",RANK(BQ139,BQ$11:BQ$9927,1)+COUNTIF(BQ$11:BQ139,BQ139)-1)","v":79},{"$f":"RANK(BR139,BR$11:BR$9927,1)","v":79},{"$f":"IFERROR(INDEX($O$11:$O$1004,MATCH(ROWS($BS$11:BS139),$BS$11:$BS$1002,0)),\"\")","v":""},{"$f":"IF(BT139<>\"\",BT139,\"\")","v":""}]
[null,"〇","2024/11/29 MP","OK",null,"MP","Panasonic","SMD","Metal Composite","PCC","High Current (≥□12)","AM-JFW","PCC-M15A0MF","Yes","ETQPAM1R0JFW",{"$f":"MID(All_PCC_a[[#This Row],[Part Number]],7,3)","v":"1R0"},1,{"$f":"IF(All_PCC_a[[#This Row],[Lo (uH)]]<1,\"<1\",IF(All_PCC_a[[#This Row],[Lo (uH)]]<10,\"<10\",IF(All_PCC_a[[#This Row],[Lo (uH)]]<100,\"<100\",IF(All_PCC_a[[#This Row],[Lo (uH)]]<2000,\"<2000\",\"\"))))","v":"<10"},{"$f":"IFERROR(VLOOKUP(All_PCC_a[[#This Row],[Lo (uH)]],Utility!$D$5:$E$43,2,1),\"-\")","v":"≤   1"},0.2,0.88,0.97,10,57,47,52,36.200000000000003,15.6,17.2,10.5,{"$f":"ROUND(All_PCC_a[[#This Row],[L (mm)]]*All_PCC_a[[#This Row],[W (mm)]],1)","v":268.3},{"$f":"All_PCC_a[[#This Row],[L (mm)]]&\"  x  \"&All_PCC_a[[#This Row],[W (mm)]]","v":"15.6  x  17.2"},"15 x 15",{"$f":"IF(All_PCC_a[[#This Row],[Max Height (mm)]]<=9,\"≤ \"&ROUNDUP(AD140,0),\"≤\"&ROUNDUP(AD140,0))","v":"≤11"},-40,160,{"$f":"All_PCC_a[[#This Row],[Min Temp (deg.C)]]&\" to +\"&All_PCC_a[[#This Row],[Max Temp (deg.C)]]","v":"-40 to +160"},null,null,null,"-","-","-","-","https://industrial.panasonic.com/ww/products/pt/automotive-inductors/models/ETQPAM1R0JFW","https://industrial.panasonic.com/content/data/CC/pictures/lineup-Large%20current.gif",{"$f":"_xlfn.IMAGE(All_PCC_a[[#This Row],[Image URL]])","v":{"$error":"#VALUE!"}},null,null,null,null,null,null,null,{"$f":"IF(Z140<('DCDC Ref'!$J$24/'DCDC Ref'!$J$26)*'DCDC Ref'!$J$28/100,0,1)","v":1},{"$f":"IF(BC140=0,\"\",('All Data'!Q140-'DCDC Ref'!$J$30)/'DCDC Ref'!$J$30*100)","v":-84.175824175824175},84.175824175824175,null,null,0,null,{"$f":"IF(BC140=0,\"\",('All Data'!Z140-'DCDC Ref'!$J$28*('DCDC Ref'!$J$29/100))/'DCDC Ref'!$J$28*('DCDC Ref'!$J$29/100)*100)","v":133.10344827586204},133.10344827586204,null,null,null,null,null,421544.6381205002,{"$f":"IF(BQ140=\"\",\"\",RANK(BQ140,BQ$11:BQ$9927,1)+COUNTIF(BQ$11:BQ140,BQ140)-1)","v":71},71,{"$f":"IFERROR(INDEX($O$11:$O$1004,MATCH(ROWS($BS$11:BS140),$BS$11:$BS$1002,0)),\"\")","v":""},""]
[null,"〇","2025/7/10 UD→MP","OK",null,"MP","Panasonic","SMD","Metal Composite","PCC","High Current (≥□12)","AM-JFW","PCC-M15A0MF","Yes","ETQPAM1R5JFW",{"$f":"MID(All_PCC_a[[#This Row],[Part Number]],7,3)","v":"1R5"},1.5,{"$f":"IF(All_PCC_a[[#This Row],[Lo (uH)]]<1,\"<1\",IF(All_PCC_a[[#This Row],[Lo (uH)]]<10,\"<10\",IF(All_PCC_a[[#This Row],[Lo (uH)]]<100,\"<100\",IF(All_PCC_a[[#This Row],[Lo (uH)]]<2000,\"<2000\",\"\"))))","v":"<10"},{"$f":"IFERROR(VLOOKUP(All_PCC_a[[#This Row],[Lo (uH)]],Utility!$D$5:$E$43,2,1),\"-\")","v":"≤   2"},0.2,1.1000000000000001,1.21,10,52,43,43,30.5,15.6,17.2,10.5,{"$f":"ROUND(All_PCC_a[[#This Row],[L (mm)]]*All_PCC_a[[#This Row],[W (mm)]],1)","v":268.3},{"$f":"All_PCC_a[[#This Row],[L (mm)]]&\"  x  \"&All_PCC_a[[#This Row],[W (mm)]]","v":"15.6  x  17.2"},"15 x 15",{"$f":"IF(All_PCC_a[[#This Row],[Max Height (mm)]]<=9,\"≤ \"&ROUNDUP(AD141,0),\"≤\"&ROUNDUP(AD141,0))","v":"≤11"},-40,160,{"$f":"All_PCC_a[[#This Row],[Min Temp (deg.C)]]&\" to +\"&All_PCC_a[[#This Row],[Max Temp (deg.C)]]","v":"-40 to +160"},null,null,null,"-","-","-","-","https://industrial.panasonic.com/ww/products/pt/automotive-inductors/models/ETQPAM1R5JFW","https://industrial.panasonic.com/content/data/CC/pictures/lineup-Large%20current.gif",{"$f":"_xlfn.IMAGE(All_PCC_a[[#This Row],[Image URL]])","v":{"$error":"#VALUE!"}},null,null,null,null,null,null,null,{"$f":"IF(Z141<('DCDC Ref'!$J$24/'DCDC Ref'!$J$26)*'DCDC Ref'!$J$28/100,0,1)","v":1},{"$f":"IF(BC141=0,\"\",('All Data'!Q141-'DCDC Ref'!$J$30)/'DCDC Ref'!$J$30*100)","v":-76.263736263736263},76.263736263736263,null,null,0,null,{"$f":"IF(BC141=0,\"\",('All Data'!Z141-'DCDC Ref'!$J$28*('DCDC Ref'!$J$29/100))/'DCDC Ref'!$J$28*('DCDC Ref'!$J$29/100)*100)","v":92.758620689655146},92.758620689655146,null,null,null,null,null,381782.47442212963,{"$f":"IF(BQ141=\"\",\"\",RANK(BQ141,BQ$11:BQ$9927,1)+COUNTIF(BQ$11:BQ141,BQ141)-1)","v":66},66,{"$f":"IFERROR(INDEX($O$11:$O$1004,MATCH(ROWS($BS$11:BS141),$BS$11:$BS$1002,0)),\"\")","v":""},""]
[null,"〇","2025/7/10 UD→MP","OK",null,"MP","Panasonic","SMD","Metal Composite","PCC","High Current (≥□12)","AM-JFW","PCC-M15A0MF","Yes","ETQPAM2R5JFW",{"$f":"MID(All_PCC_a[[#This Row],[Part Number]],7,3)","v":"2R5"},2.5,{"$f":"IF(All_PCC_a[[#This Row],[Lo (uH)]]<1,\"<1\",IF(All_PCC_a[[#This Row],[Lo (uH)]]<10,\"<10\",IF(All_PCC_a[[#This Row],[Lo (uH)]]<100,\"<100\",IF(All_PCC_a[[#This Row],[Lo (uH)]]<2000,\"<2000\",\"\"))))","v":"<10"},{"$f":"IFERROR(VLOOKUP(All_PCC_a[[#This Row],[Lo (uH)]],Utility!$D$5:$E$43,2,1),\"-\")","v":"≤   3"},0.2,1.7,1.87,10,42,34,41,29.1,15.6,17.2,10.5,{"$f":"ROUND(All_PCC_a[[#This Row],[L (mm)]]*All_PCC_a[[#This Row],[W (mm)]],1)","v":268.3},{"$f":"All_PCC_a[[#This Row],[L (mm)]]&\"  x  \"&All_PCC_a[[#This Row],[W (mm)]]","v":"15.6  x  17.2"},"15 x 15",{"$f":"IF(All_PCC_a[[#This Row],[Max Height (mm)]]<=9,\"≤ \"&ROUNDUP(AD142,0),\"≤\"&ROUNDUP(AD142,0))","v":"≤11"},-40,160,{"$f":"All_PCC_a[[#This Row],[Min Temp (deg.C)]]&\" to +\"&All_PCC_a[[#This Row],[Max Temp (deg.C)]]","v":"-40 to +160"},null,null,null,"-","-","-","-","https://industrial.panasonic.com/ww/products/pt/automotive-inductors/models/ETQPAM2R5JFW","https://industrial.panasonic.com/content/data/CC/pictures/lineup-Large%20current.gif",{"$f":"_xlfn.IMAGE(All_PCC_a[[#This Row],[Image URL]])","v":{"$error":"#VALUE!"}},null,null,null,null,null,null,null,{"$f":"IF(Z142<('DCDC Ref'!$J$24/'DCDC Ref'!$J$26)*'DCDC Ref'!$J$28/100,0,1)","v":1},{"$f":"IF(BC142=0,\"\",('All Data'!Q142-'DCDC Ref'!$J$30)/'DCDC Ref'!$J$30*100)","v":-60.439560439560438},60.439560439560438,null,null,0,null,{"$f":"IF(BC142=0,\"\",('All Data'!Z142-'DCDC Ref'!$J$28*('DCDC Ref'!$J$29/100))/'DCDC Ref'!$J$28*('DCDC Ref'!$J$29/100)*100)","v":83.793103448275843},83.793103448275843,null,null,null,null,null,302616.76771504356,{"$f":"IF(BQ142=\"\",\"\",RANK(BQ142,BQ$11:BQ$9927,1)+COUNTIF(BQ$11:BQ142,BQ142)-1)","v":38},38,{"$f":"IFERROR(INDEX($O$11:$O$1004,MATCH(ROWS($BS$11:BS142),$BS$11:$BS$1002,0)),\"\")","v":""},""]
[null,"〇","2025/3/28 UD→MPへ","OK",null,"MP","Panasonic","SMD","Metal Composite","PCC","High Current (≥□12)","AM-JFW","PCC-M15A0MF","Yes","ETQPAM3R3JFW",{"$f":"MID(All_PCC_a[[#This Row],[Part Number]],7,3)","v":"3R3"},3.3,{"$f":"IF(All_PCC_a[[#This Row],[Lo (uH)]]<1,\"<1\",IF(All_PCC_a[[#This Row],[Lo (uH)]]<10,\"<10\",IF(All_PCC_a[[#This Row],[Lo (uH)]]<100,\"<100\",IF(All_PCC_a[[#This Row],[Lo (uH)]]<2000,\"<2000\",\"\"))))","v":"<10"},{"$f":"IFERROR(VLOOKUP(All_PCC_a[[#This Row],[Lo (uH)]],Utility!$D$5:$E$43,2,1),\"-\")","v":"≤   4"},0.2,2.4,2.64,10,35,29,37,26.1,15.6,17.2,10.5,{"$f":"ROUND(All_PCC_a[[#This Row],[L (mm)]]*All_PCC_a[[#This Row],[W (mm)]],1)","v":268.3},{"$f":"All_PCC_a[[#This Row],[L (mm)]]&\"  x  \"&All_PCC_a[[#This Row],[W (mm)]]","v":"15.6  x  17.2"},"15 x 15",{"$f":"IF(All_PCC_a[[#This Row],[Max Height (mm)]]<=9,\"≤ \"&ROUNDUP(AD143,0),\"≤\"&ROUNDUP(AD143,0))","v":"≤11"},-40,160,{"$f":"All_PCC_a[[#This Row],[Min Temp (deg.C)]]&\" to +\"&All_PCC_a[[#This Row],[Max Temp (deg.C)]]","v":"-40 to +160"},null,null,null,"-","-","-","-","https://industrial.panasonic.com/ww/products/pt/automotive-inductors/models/ETQPAM3R3JFW","https://industrial.panasonic.com/content/data/CC/pictures/lineup-Large%20current.gif",{"$f":"_xlfn.IMAGE(All_PCC_a[[#This Row],[Image URL]])","v":{"$error":"#VALUE!"}},null,null,null,null,null,null,null,{"$f":"IF(Z143<('DCDC Ref'!$J$24/'DCDC Ref'!$J$26)*'DCDC Ref'!$J$28/100,0,1)","v":1},{"$f":"IF(BC143=0,\"\",('All Data'!Q143-'DCDC Ref'!$J$30)/'DCDC Ref'!$J$30*100)","v":-47.780219780219788},47.780219780219788,null,null,0,null,{"$f":"IF(BC143=0,\"\",('All Data'!Z143-'DCDC Ref'!$J$28*('DCDC Ref'!$J$29/100))/'DCDC Ref'!$J$28*('DCDC Ref'!$J$29/100)*100)","v":65.862068965517224},65.862068965517224,null,null,null,null,null,239230.40924592654,{"$f":"IF(BQ143=\"\",\"\",RANK(BQ143,BQ$11:BQ$9927,1)+COUNTIF(BQ$11:BQ143,BQ143)-1)","v":24},24,{"$f":"IFERROR(INDEX($O$11:$O$1004,MATCH(ROWS($BS$11:BS143),$BS$11:$BS$1002,0)),\"\")","v":""},""]
[null,"〇","2025/3/28 UD→MPへ","OK",null,"MP","Panasonic","SMD","Metal Composite","PCC","High Current (≥□12)","AM-JFW","PCC-M15A0MF","Yes","ETQPAM4R7JFW",{"$f":"MID(All_PCC_a[[#This Row],[Part Number]],7,3)","v":"4R7"},4.7,{"$f":"IF(All_PCC_a[[#This Row],[Lo (uH)]]<1,\"<1\",IF(All_PCC_a[[#This Row],[Lo (uH)]]<10,\"<10\",IF(All_PCC_a[[#This Row],[Lo (uH)]]<100,\"<100\",IF(All_PCC_a[[#This Row],[Lo (uH)]]<2000,\"<2000\",\"\"))))","v":"<10"},{"$f":"IFERROR(VLOOKUP(All_PCC_a[[#This Row],[Lo (uH)]],Utility!$D$5:$E$43,2,1),\"-\")","v":"≤   5"},0.2,3.1,3.41,10,31,26,30,21.1,15.6,17.2,10.5,{"$f":"ROUND(All_PCC_a[[#This Row],[L (mm)]]*All_PCC_a[[#This Row],[W (mm)]],1)","v":268.3},{"$f":"All_PCC_a[[#This Row],[L (mm)]]&\"  x  \"&All_PCC_a[[#This Row],[W (mm)]]","v":"15.6  x  17.2"},"15 x 15",{"$f":"IF(All_PCC_a[[#This Row],[Max Height (mm)]]<=9,\"≤ \"&ROUNDUP(AD144,0),\"≤\"&ROUNDUP(AD144,0))","v":"≤11"},-40,160,{"$f":"All_PCC_a[[#This Row],[Min Temp (deg.C)]]&\" to +\"&All_PCC_a[[#This Row],[Max Temp (deg.C)]]","v":"-40 to +160"},null,null,null,"-","-","-","-","https://industrial.panasonic.com/ww/products/pt/automotive-inductors/models/ETQPAM4R7JFW","https://industrial.panasonic.com/content/data/CC/pictures/lineup-Large%20current.gif",{"$f":"_xlfn.IMAGE(All_PCC_a[[#This Row],[Image URL]])","v":{"$error":"#VALUE!"}},null,null,null,null,null,null,null,{"$f":"IF(Z144<('DCDC Ref'!$J$24/'DCDC Ref'!$J$26)*'DCDC Ref'!$J$28/100,0,1)","v":1},{"$f":"IF(BC144=0,\"\",('All Data'!Q144-'DCDC Ref'!$J$30)/'DCDC Ref'!$J$30*100)","v":-25.626373626373628},25.626373626373628,null,null,0,null,{"$f":"IF(BC144=0,\"\",('All Data'!Z144-'DCDC Ref'!$J$28*('DCDC Ref'!$J$29/100))/'DCDC Ref'!$J$28*('DCDC Ref'!$J$29/100)*100)","v":34.482758620689644},34.482758620689644,null,null,null,null,null,128304.28192497158,{"$f":"IF(BQ144=\"\",\"\",RANK(BQ144,BQ$11:BQ$9927,1)+COUNTIF(BQ$11:BQ144,BQ144)-1)","v":10},10,{"$f":"IFERROR(INDEX($O$11:$O$1004,MATCH(ROWS($BS$11:BS144),$BS$11:$BS$1002,0)),\"\")","v":""},""]
[null,"〇","2023-05-11","OK",null,"MP","Panasonic","SMD","Metal Composite","PCC","LP (Low Profile)","3M-KVP","PCC-M0530M-LP","Yes","ETQP3M220KVP",{"$f":"MID(All_PCC_a[[#This Row],[Part Number]],7,3)","v":"220"},22,{"$f":"IF(All_PCC_a[[#This Row],[Lo (uH)]]<1,\"<1\",IF(All_PCC_a[[#This Row],[Lo (uH)]]<10,\"<10\",IF(All_PCC_a[[#This Row],[Lo (uH)]]<100,\"<100\",IF(All_PCC_a[[#This Row],[Lo (uH)]]<2000,\"<2000\",\"\"))))","v":"<100"},{"$f":"IFERROR(VLOOKUP(All_PCC_a[[#This Row],[Lo (uH)]],Utility!$D$5:$E$43,2,1),\"-\")","v":"≤  30"},0.2,165,181.5,10,2.2000000000000002,1.8,2.8,1.9,5.5,5,3,{"$f":"ROUND(All_PCC_a[[#This Row],[L (mm)]]*All_PCC_a[[#This Row],[W (mm)]],1)","v":27.5},{"$f":"All_PCC_a[[#This Row],[L (mm)]]&\"  x  \"&All_PCC_a[[#This Row],[W (mm)]]","v":"5.5  x  5"},"_5 x 5",{"$f":"IF(All_PCC_a[[#This Row],[Max Height (mm)]]<=9,\"≤ \"&ROUNDUP(AD145,0),\"≤\"&ROUNDUP(AD145,0))","v":"≤ 3"},-55,155,{"$f":"All_PCC_a[[#This Row],[Min Temp (deg.C)]]&\" to +\"&All_PCC_a[[#This Row],[Max Temp (deg.C)]]","v":"-55 to +155"},null,null,null,"-","-","-","-","https://industrial.panasonic.com/ww/products/pt/automotive-inductors/models/ETQP3M220KVP","https://industrial.panasonic.com/content/data/CC/pictures/lineup-LP.gif",{"$f":"_xlfn.IMAGE(All_PCC_a[[#This Row],[Image URL]])","v":{"$error":"#VALUE!"}},null,null,null,null,null,null,null,{"$f":"IF(Z145<('DCDC Ref'!$J$24/'DCDC Ref'!$J$26)*'DCDC Ref'!$J$28/100,0,1)","v":0},{"$f":"IF(BC145=0,\"\",('All Data'!Q145-'DCDC Ref'!$J$30)/'DCDC Ref'!$J$30*100)","v":""},{"$f":"ABS(BD145)","v":{"$error":"#VALUE!"}},null,null,{"$f":"IF(BG145<0,10000,BG145)","v":0},null,{"$f":"IF(BC145=0,\"\",('All Data'!Z145-'DCDC Ref'!$J$28*('DCDC Ref'!$J$29/100))/'DCDC Ref'!$J$28*('DCDC Ref'!$J$29/100)*100)","v":""},{"$f":"IF(BJ145<0,10000,BJ145)","v":""},null,null,null,null,null,{"$f":"IFERROR(BE145*$BP$6+BK145*$BP$7,\"\")","v":""},{"$f":"IF(BQ145=\"\",\"\",RANK(BQ145,BQ$11:BQ$9927,1)+COUNTIF(BQ$11:BQ145,BQ145)-1)","v":""},{"$error":"#VALUE!"},{"$f":"IFERROR(INDEX($O$11:$O$1004,MATCH(ROWS($BS$11:BS145),$BS$11:$BS$1002,0)),\"\")","v":""},{"$f":"IF(BT145<>\"\",BT145,\"\")","v":""}]
[null,"〇","2025/7/10 UD→MP　2023/10/31 UD","OK",null,"MP","Panasonic","SMD","Metal Composite","PCC","LL (Low Inductance)","5M-CVM","PCC-M0750M-LL","Yes","ETQP5MR22CVM",{"$f":"MID(All_PCC_a[[#This Row],[Part Number]],7,3)","v":"R22"},0.22,{"$f":"IF(All_PCC_a[[#This Row],[Lo (uH)]]<1,\"<1\",IF(All_PCC_a[[#This Row],[Lo (uH)]]<10,\"<10\",IF(All_PCC_a[[#This Row],[Lo (uH)]]<100,\"<100\",IF(All_PCC_a[[#This Row],[Lo (uH)]]<2000,\"<2000\",\"\"))))","v":"<1"},{"$f":"IFERROR(VLOOKUP(All_PCC_a[[#This Row],[Lo (uH)]],Utility!$D$5:$E$43,2,1),\"-\")","v":"≤    0.3"},0.2,0.71,0.78,20,44,32,63.7,45,7.9,7,5,{"$f":"ROUND(All_PCC_a[[#This Row],[L (mm)]]*All_PCC_a[[#This Row],[W (mm)]],1)","v":55.3},{"$f":"All_PCC_a[[#This Row],[L (mm)]]&\"  x  \"&All_PCC_a[[#This Row],[W (mm)]]","v":"7.9  x  7"},"_7 x 7",{"$f":"IF(All_PCC_a[[#This Row],[Max Height (mm)]]<=9,\"≤ \"&ROUNDUP(AD146,0),\"≤\"&ROUNDUP(AD146,0))","v":"≤ 5"},-55,155,{"$f":"All_PCC_a[[#This Row],[Min Temp (deg.C)]]&\" to +\"&All_PCC_a[[#This Row],[Max Temp (deg.C)]]","v":"-55 to +155"},null,null,null,"-","-","-","-","https://industrial.panasonic.com/ww/products/pt/automotive-inductors/models/ETQP3M220KVP","https://industrial.panasonic.com/content/data/CC/pictures/lineup-LL.gif",{"$f":"_xlfn.IMAGE(All_PCC_a[[#This Row],[Image URL]])","v":{"$error":"#VALUE!"}}]
[null,"〇","2025/2/21 カタログ追加","OK",null,"MP","Panasonic","SMD","Metal Composite","PCC","High Anti-vibration","5M-YTC","PCC-M1054MS","Yes","ETQP5M2R5YTC",{"$f":"MID(All_PCC_a[[#This Row],[Part Number]],7,3)","v":"2R5"},2.5,{"$f":"IF(All_PCC_a[[#This Row],[Lo (uH)]]<1,\"<1\",IF(All_PCC_a[[#This Row],[Lo (uH)]]<10,\"<10\",IF(All_PCC_a[[#This Row],[Lo (uH)]]<100,\"<100\",IF(All_PCC_a[[#This Row],[Lo (uH)]]<2000,\"<2000\",\"\"))))","v":"<10"},{"$f":"IFERROR(VLOOKUP(All_PCC_a[[#This Row],[Lo (uH)]],Utility!$D$5:$E$43,2,1),\"-\")","v":"≤   3"},0.2,5.3,5.83,10,18.100000000000001,15.1,27.2,20,10.9,10,5.4,{"$f":"ROUND(All_PCC_a[[#This Row],[L (mm)]]*All_PCC_a[[#This Row],[W (mm)]],1)","v":109},{"$f":"All_PCC_a[[#This Row],[L (mm)]]&\"  x  \"&All_PCC_a[[#This Row],[W (mm)]]","v":"10.9  x  10"},"10 x 10",{"$f":"IF(All_PCC_a[[#This Row],[Max Height (mm)]]<=9,\"≤ \"&ROUNDUP(AD147,0),\"≤\"&ROUNDUP(AD147,0))","v":"≤ 6"},-40,150,{"$f":"All_PCC_a[[#This Row],[Min Temp (deg.C)]]&\" to +\"&All_PCC_a[[#This Row],[Max Temp (deg.C)]]","v":"-40 to +150"},null,null,null,null,"-",null,null,"https://industrial.panasonic.com/ww/products/pt/automotive-inductors/models/ETQP5M2R5YTC","https://industrial.panasonic.com/content/data/CC/pictures/lineup-High%20Vibration%20Acceleration.gif",{"$f":"_xlfn.IMAGE(All_PCC_a[[#This Row],[Image URL]])","v":{"$error":"#VALUE!"}}]
[null,"〇","2025/2/21 カタログ追加","OK",null,"MP","Panasonic","SMD","Metal Composite","PCC","High Anti-vibration","5M-YTC","PCC-M1054MS","Yes","ETQP5M3R3YTC",{"$f":"MID(All_PCC_a[[#This Row],[Part Number]],7,3)","v":"3R3"},3.3,{"$f":"IF(All_PCC_a[[#This Row],[Lo (uH)]]<1,\"<1\",IF(All_PCC_a[[#This Row],[Lo (uH)]]<10,\"<10\",IF(All_PCC_a[[#This Row],[Lo (uH)]]<100,\"<100\",IF(All_PCC_a[[#This Row],[Lo (uH)]]<2000,\"<2000\",\"\"))))","v":"<10"},{"$f":"IFERROR(VLOOKUP(All_PCC_a[[#This Row],[Lo (uH)]],Utility!$D$5:$E$43,2,1),\"-\")","v":"≤   4"},0.2,7.1,7.81,10,15.7,13.1,22.7,17.5,10.9,10,5.4,{"$f":"ROUND(All_PCC_a[[#This Row],[L (mm)]]*All_PCC_a[[#This Row],[W (mm)]],1)","v":109},{"$f":"All_PCC_a[[#This Row],[L (mm)]]&\"  x  \"&All_PCC_a[[#This Row],[W (mm)]]","v":"10.9  x  10"},"10 x 10",{"$f":"IF(All_PCC_a[[#This Row],[Max Height (mm)]]<=9,\"≤ \"&ROUNDUP(AD148,0),\"≤\"&ROUNDUP(AD148,0))","v":"≤ 6"},-40,150,{"$f":"All_PCC_a[[#This Row],[Min Temp (deg.C)]]&\" to +\"&All_PCC_a[[#This Row],[Max Temp (deg.C)]]","v":"-40 to +150"},null,null,null,null,"-",null,null,"https://industrial.panasonic.com/ww/products/pt/automotive-inductors/models/ETQP5M3R3YTC","https://industrial.panasonic.com/content/data/CC/pictures/lineup-High%20Vibration%20Acceleration.gif",{"$f":"_xlfn.IMAGE(All_PCC_a[[#This Row],[Image URL]])","v":{"$error":"#VALUE!"}}]
[null,"〇","2025/2/21 カタログ追加","OK",null,"MP","Panasonic","SMD","Metal Composite","PCC","LP (Low Profile)","3M-KVP","PCC-M0530M-LP","Yes","ETQP3MR10KVP",{"$f":"MID(All_PCC_a[[#This Row],[Part Number]],7,3)","v":"R10"},0.105,{"$f":"IF(All_PCC_a[[#This Row],[Lo (uH)]]<1,\"<1\",IF(All_PCC_a[[#This Row],[Lo (uH)]]<10,\"<10\",IF(All_PCC_a[[#This Row],[Lo (uH)]]<100,\"<100\",IF(All_PCC_a[[#This Row],[Lo (uH)]]<2000,\"<2000\",\"\"))))","v":"<1"},{"$f":"IFERROR(VLOOKUP(All_PCC_a[[#This Row],[Lo (uH)]],Utility!$D$5:$E$43,2,1),\"-\")","v":"≤    0.1"},0.2,1.52,1.67,10,22.7,18.899999999999999,37.299999999999997,25.5,5.5,5,3,{"$f":"ROUND(All_PCC_a[[#This Row],[L (mm)]]*All_PCC_a[[#This Row],[W (mm)]],1)","v":27.5},{"$f":"All_PCC_a[[#This Row],[L (mm)]]&\"  x  \"&All_PCC_a[[#This Row],[W (mm)]]","v":"5.5  x  5"},"_5 x 5",{"$f":"IF(All_PCC_a[[#This Row],[Max Height (mm)]]<=9,\"≤ \"&ROUNDUP(AD149,0),\"≤\"&ROUNDUP(AD149,0))","v":"≤ 3"},-55,155,{"$f":"All_PCC_a[[#This Row],[Min Temp (deg.C)]]&\" to +\"&All_PCC_a[[#This Row],[Max Temp (deg.C)]]","v":"-55 to +155"},null,null,null,null,"-",null,null,"https://industrial.panasonic.com/ww/products/pt/automotive-inductors/models/ETQP3MR10KVP","https://industrial.panasonic.com/content/data/CC/pictures/lineup-LP.gif",{"$f":"_xlfn.IMAGE(All_PCC_a[[#This Row],[Image URL]])","v":{"$error":"#VALUE!"}}]
[null,"〇","2025/2/21 カタログ追加","OK",null,"MP","Panasonic","SMD","Metal Composite","PCC","LE (Low Price)","4M-KFM","PCC-M0748M-LE","Yes","ETQP4MR47KFM",{"$f":"MID(All_PCC_a[[#This Row],[Part Number]],7,3)","v":"R47"},0.47,{"$f":"IF(All_PCC_a[[#This Row],[Lo (uH)]]<1,\"<1\",IF(All_PCC_a[[#This Row],[Lo (uH)]]<10,\"<10\",IF(All_PCC_a[[#This Row],[Lo (uH)]]<100,\"<100\",IF(All_PCC_a[[#This Row],[Lo (uH)]]<2000,\"<2000\",\"\"))))","v":"<1"},{"$f":"IFERROR(VLOOKUP(All_PCC_a[[#This Row],[Lo (uH)]],Utility!$D$5:$E$43,2,1),\"-\")","v":"≤    0.5"},0.2,3.3,3.63,10,19.8,14.7,29.8,21.7,7.4,7,4.8,{"$f":"ROUND(All_PCC_a[[#This Row],[L (mm)]]*All_PCC_a[[#This Row],[W (mm)]],1)","v":51.8},{"$f":"All_PCC_a[[#This Row],[L (mm)]]&\"  x  \"&All_PCC_a[[#This Row],[W (mm)]]","v":"7.4  x  7"},"_7 x 7",{"$f":"IF(All_PCC_a[[#This Row],[Max Height (mm)]]<=9,\"≤ \"&ROUNDUP(AD150,0),\"≤\"&ROUNDUP(AD150,0))","v":"≤ 5"},-40,150,{"$f":"All_PCC_a[[#This Row],[Min Temp (deg.C)]]&\" to +\"&All_PCC_a[[#This Row],[Max Temp (deg.C)]]","v":"-40 to +150"},null,null,null,null,"-",null,null,"https://industrial.panasonic.com/ww/products/pt/automotive-inductors/models/ETQP4MR47KFM","https://industrial.panasonic.com/content/data/CC/pictures/lineup-LE.gif",{"$f":"_xlfn.IMAGE(All_PCC_a[[#This Row],[Image URL]])","v":{"$error":"#VALUE!"}}]
[null,"〇","2025/3/28 MP","OK",null,"MP","Panasonic","SMD","Metal Composite","PCC","High Isat (Standard)","4M-YFP","PCC-M0540M","Yes","ETQP4M100YFP",{"$f":"MID(All_PCC_a[[#This Row],[Part Number]],7,3)","v":"100"},10,{"$f":"IF(All_PCC_a[[#This Row],[Lo (uH)]]<1,\"<1\",IF(All_PCC_a[[#This Row],[Lo (uH)]]<10,\"<10\",IF(All_PCC_a[[#This Row],[Lo (uH)]]<100,\"<100\",IF(All_PCC_a[[#This Row],[Lo (uH)]]<2000,\"<2000\",\"\"))))","v":"<100"},{"$f":"IFERROR(VLOOKUP(All_PCC_a[[#This Row],[Lo (uH)]],Utility!$D$5:$E$43,2,1),\"-\")","v":"≤  10"},0.2,95,104.5,10,3,2.5,3.9,2.75,5.5,5,4,{"$f":"ROUND(All_PCC_a[[#This Row],[L (mm)]]*All_PCC_a[[#This Row],[W (mm)]],1)","v":27.5},{"$f":"All_PCC_a[[#This Row],[L (mm)]]&\"  x  \"&All_PCC_a[[#This Row],[W (mm)]]","v":"5.5  x  5"},"_5 x 5",{"$f":"IF(All_PCC_a[[#This Row],[Max Height (mm)]]<=9,\"≤ \"&ROUNDUP(AD151,0),\"≤\"&ROUNDUP(AD151,0))","v":"≤ 4"},-40,150,{"$f":"All_PCC_a[[#This Row],[Min Temp (deg.C)]]&\" to +\"&All_PCC_a[[#This Row],[Max Temp (deg.C)]]","v":"-40 to +150"},null,null,null,"-","-","-","-","https://industrial.panasonic.com/ww/products/pt/automotive-inductors/models/ETQP4M100YFP","https://industrial.panasonic.com/content/data/CC/pictures/lineup-Metal-core.gif",{"$f":"_xlfn.IMAGE(All_PCC_a[[#This Row],[Image URL]])","v":{"$error":"#VALUE!"}}]
[null,"〇","2025/4/25 MP","OK",null,"MP","Panasonic","SMD","Metal Composite","PCC","LP (Low Profile)","3M-KVN","PCC-M0630M-LP","Yes","ETQP3MR47KVN",{"$f":"MID(All_PCC_a[[#This Row],[Part Number]],7,3)","v":"R47"},0.47,{"$f":"IF(All_PCC_a[[#This Row],[Lo (uH)]]<1,\"<1\",IF(All_PCC_a[[#This Row],[Lo (uH)]]<10,\"<10\",IF(All_PCC_a[[#This Row],[Lo (uH)]]<100,\"<100\",IF(All_PCC_a[[#This Row],[Lo (uH)]]<2000,\"<2000\",\"\"))))","v":"<1"},{"$f":"IFERROR(VLOOKUP(All_PCC_a[[#This Row],[Lo (uH)]],Utility!$D$5:$E$43,2,1),\"-\")","v":"≤    0.5"},0.2,3.7,4.07,10,15.7,12.8,20,15.5,6,6.4,3,{"$f":"ROUND(All_PCC_a[[#This Row],[L (mm)]]*All_PCC_a[[#This Row],[W (mm)]],1)","v":38.4},{"$f":"All_PCC_a[[#This Row],[L (mm)]]&\"  x  \"&All_PCC_a[[#This Row],[W (mm)]]","v":"6  x  6.4"},"_6 x 6",{"$f":"IF(All_PCC_a[[#This Row],[Max Height (mm)]]<=9,\"≤ \"&ROUNDUP(AD152,0),\"≤\"&ROUNDUP(AD152,0))","v":"≤ 3"},-55,155,{"$f":"All_PCC_a[[#This Row],[Min Temp (deg.C)]]&\" to +\"&All_PCC_a[[#This Row],[Max Temp (deg.C)]]","v":"-55 to +155"},null,null,null,null,"-",null,null,"https://industrial.panasonic.com/ww/products/pt/automotive-inductors/models/ETQP3MR47KVN","https://industrial.panasonic.com/content/data/CC/pictures/lineup-LP.gif",{"$f":"_xlfn.IMAGE(All_PCC_a[[#This Row],[Image URL]])","v":{"$error":"#VALUE!"}}]
[]
[]
[]
[null,null,null,null,null,null,null,null,null,null,null,"Isat (-30%)","Isat (-20%)"]
[null,null,null,null,null,null,null,null,null,null,"ETQP5M2R5YTC",27.2,"??"]
[null,null,null,null,null,null,null,null,null,null,"ETQP5M3R3YTC",22.7,"??"]
[null,null,null,null,null,null,null,null,null,null,"ETQP3MR10KVP",37.299999999999997,"??"]
[null,null,null,null,null,null,null,null,null,null,"ETQP4MR47KFM",29.8,"??",null,null,null,null,null,null,null,null,null,null,null,null,null,null,null,null,null,null,null,null,null,null,null,null,null,null,null,null,null,null,null,null,null,null,null,null,"L1 Tol. (%)","Ir (A)","URL"]
[null,null,null,null,null,null,null,null,null,null,null,null,null,null,null,null,null,null,null,null,null,null,null,null,null,null,null,null,null,null,null,null,null,null,null,null,null,null,null,null,null,null,null,null,null,null,null,null,null,"-","-","https://industrial.panasonic.com/ww/products/pt/inductors-for-consumer/models/ETQP3LR15CFM"]
[null,null,null,"Check","Renewal Date","Status","Maker","Type","Core","Category","Feature","Series","Series (Size)","Automotive Grade","Part Number","仮1","Lo (uH)","Lo RangeXX","Lo Range (uH)","Lo Tol. (%)","DCR Typ (mOhm)","DCR Max (mOhm)","DCR Tol. (%)","Method B \ntyp","Method A typ","⊿L=-30% \ntyp (A)","⊿L=-20% \ntyp (A)",null,"L (mm)","Size (mm)","W (mm)",null,"Rough Size (mm)",null,null,"Max Height (mm)","Max Height Range (mm)",null,"Temp Range (deg.C)","Min Temp (deg.C)","Max Temp (deg.C)",null,null,"Area (mm2)","Max Voltage (V)","Vibration","MPQ","L1 (uH)","Rough L1 (uH)","-","-","https://industrial.panasonic.com/ww/products/pt/inductors-for-consumer/models/ETQP4LR15AFM"]
[null,null,null,"2018/1/12まだカタログに載っていないが次の更新タイミングで載る。",null,"MP","Panasonic","SMD","Metal Composite","PCC","High Performance",null,null,"No","ETQP3LR15CFM","R15",0.15,"<1","≤    0.2",0.2,"0.614 (+/-7%)",0.66,7,43,29,40,30,null,null,"8.7  x  7",null,null," 8 x 8",null,null,3,"≤ 3",null,"-40 to +130",-40,130,null,null,null,null,null,null,"-","-","-",60,"https://industrial.panasonic.com/ww/products/pt/inductors-for-consumer/models/ETQP4LR15AFC"]
[null,null,null,"EOL?",null,"MP","Panasonic","SMD","Metal Composite","PCC","High Performance",null,null,"No","ETQP4LR15AFM","R15",0.15,"<1","≤    0.4",0.2,"0.66 (+/-7%)",0.70620000000000005,7,43,29,45,34,null,null,"8.7  x  7",null,null," 8 x 8",null,null,4,"≤ 4",null,"-40 to +130",-40,130,null,null,null,null,null,null,"-","-",0.2,21,"https://industrial.panasonic.com/ww/products/pt/inductors-for-consumer/models/ETQP4LR19WFC"]
[null,null,null,"EOL?",null,"MP","Panasonic","SMD","Metal Composite","PCC","High Performance",null,null,"No","ETQP4LR15AFC","R15",0.15,"<1","≤    0.2",0.2,"0.41 (+/-7%)",0.45,7,51,42,70,50,null,null,"11.7  x  10",null,null,"10 x 10",null,null,4,"≤ 4",null,"-40 to +130",-40,130,null,null,null,null,null,null,0.13,0.13,"-",22,"https://industrial.panasonic.com/ww/products/pt/inductors-for-consumer/models/ETQP3LR24CFM"]
[null,null,null,"OK",null,"MP","Panasonic","SMD","Metal Composite","PCC","High Performance",null,null,"No","ETQP4LR19WFC","R19",0.2,"<1","≤    0.3",0.2,"0.7 (+/-10%)",0.77,10,38,28,68,50,null,null,"11.5  x  10",null,null,"10 x 10",null,null,4,"≤ 4",null,"-40 to +130",-40,130,null,null,null,null,null,null,0.19,0.19,"-",24,"https://industrial.panasonic.com/ww/products/pt/inductors-for-consumer/models/ETQP4LR24AFM"]
[null,null,null,"OK",null,"MP","Panasonic","SMD","Metal Composite","PCC","High Performance",null,null,"No","ETQP3LR24CFM","R24",0.24,"<1","≤    0.2",0.2,"1.12 (+/-7%)",1.1984000000000001,7,35,22,30,22,null,null,"8.7  x  7",null,null," 8 x 8",null,null,3,"≤ 3",null,"-40 to +130",-40,130,null,null,null,null,null,null,0.19,0.19,"-",20,"https://industrial.panasonic.com/ww/products/pt/inductors-for-consumer/models/ETQP4LR36AFM"]
[null,null,null,"OK",null,"MP","Panasonic","SMD","Metal Composite","PCC","High Performance",null,null,"No","ETQP4LR24AFM","R24",0.24,"<1","≤    0.5",0.2,"1 (+/-7%)",1.07,7,35.5,24,35,27,null,null,"8.7  x  7",null,null," 8 x 8",null,null,4,"≤ 4",null,"-40 to +130",-40,130,null,null,null,null,null,null,0.2,0.2,"-",30,"https://industrial.panasonic.com/ww/products/pt/inductors-for-consumer/models/ETQP4LR36AFC"]
[null,null,null,"OK",null,"MP","Panasonic","SMD","Metal Composite","PCC","High Performance",null,null,"No","ETQP4LR36AFM","R36",0.36,"<1","≤    0.6",0.2,"1.35 (+/-7%)",1.4445000000000001,7,31,20,35,25,null,null,"8.7  x  7",null,null," 8 x 8",null,null,4,"≤ 4",null,"-40 to +130",-40,130,null,null,null,null,null,null,0.3,0.3,0.2,17,"https://industrial.panasonic.com/ww/products/pt/inductors-for-consumer/models/ETQP4LR36WFC"]
[null,null,null,"OK",null,"MP","Panasonic","SMD","Metal Composite","PCC","High Performance",null,null,"No","ETQP4LR36AFC","R36",0.36,"<1","≤    0.3",0.2,"0.76 (+/-5%)",0.79800000000000004,5,40,30,46,35,null,null,"11.7  x  10",null,null,"10 x 10",null,null,4,"≤ 4",null,"-40 to +130",-40,130,null,null,null,null,null,null,0.28999999999999998,0.28999999999999998,"-",17,"https://industrial.panasonic.com/ww/products/pt/inductors-for-consumer/models/ETQP4LR42AFM"]
[null,null,null,"OK",null,"MP","Panasonic","SMD","Metal Composite","PCC","High Performance",null,null,"No","ETQP4LR36WFC","R36",0.37,"<1","≤    0.3",0.2,"1.1 (+/-5%)",1.1550000000000002,5,33,24,50,34,null,null,"11.5  x  10",null,null,"10 x 10",null,null,4,"≤ 4",null,"-40 to +130",-40,130,null,null,null,null,null,null,0.36,0.36,"-",25,"https://industrial.panasonic.com/ww/products/pt/inductors-for-consumer/models/ETQP4LR45XFC"]
[null,null,null,"OK",null,"MP","Panasonic","SMD","Metal Composite","PCC","High Performance",null,null,"No","ETQP4LR42AFM","R42",0.42,"<1","≤    0.7",0.2,"1.5 (+/-7%)",1.605,7,28.5,17,26,20,null,null,"8.7  x  7",null,null," 8 x 8",null,null,4,"≤ 4",null,"-40 to +130",-40,130,null,null,null,null,null,null,0.35,0.35,null,null,"https://industrial.panasonic.com/jp/products/pt/inductors-for-consumer/models/ETQP5LR50XFA"]
[null,null,null,"OK",null,"MP","Panasonic","SMD","Metal Composite","PCC","High Performance",null,null,"No","ETQP4LR45XFC","R45",0.45,"<1","≤    0.4","+20%, -25%","1.1 (+/-5%)",1.1550000000000002,5,33,25,40,28,null,null,"11.5  x  10",null,null,"10 x 10",null,null,4,"≤ 4",null,"-40 to +130",-40,130,null,null,null,null,null,null,0.34,0.34,0.2,15,"https://industrial.panasonic.com/ww/products/pt/inductors-for-consumer/models/ETQP4LR56WFC"]
[null,null,null,null,null,"NRND","Panasonic","SMD","Metal Composite","PCC","High Performance",null,null,"No","ETQP5LR50XFA",null,0.5,null,null,0.2,"0.80 (+/-7%)",0.86,7,"-",30,"-","42  (-10%)",null,null,"14.5 x 12.5",null,null,null,null,null,4,"≤ 4",null,"-40 to +130",null,null,null,null,null,null,null,null,null,null,null,null,"https://industrial.panasonic.com/jp/products/pt/inductors-for-consumer/models/ETQP5LR60XFA"]
[null,null,null,"OK",null,"MP","Panasonic","SMD","Metal Composite","PCC","High Performance",null,null,"No","ETQP4LR56WFC","R56",0.6,"<1","≤    0.4",0.2,"1.56 (+/-5%)",1.6380000000000001,5,28,21,42,28,null,null,"11.5  x  10",null,null,"10 x 10",null,null,4,"≤ 4",null,"-40 to +130",-40,130,null,null,null,null,null,null,0.56000000000000005,0.56000000000000005,"-",21,"https://industrial.panasonic.com/ww/products/pt/inductors-for-consumer/models/ETQP4LR68XFC"]
[null,null,null,null,null,"NRND","Panasonic","SMD","Metal Composite","PCC","High Performance",null,null,"No","ETQP5LR60XFA",null,0.6,null,null,0.2,"1.10 (+/-5%)",1.1599999999999999,5,"-",30,"-","54 (-10%)",null,null,"14.5 x 12.5",null,null,null,null,null,4,"≤ 4",null,"-40 to +130"]
[null,null,null,"OK",null,"MP","Panasonic","SMD","Metal Composite","PCC","High Performance",null,null,"No","ETQP4LR68XFC","R68",0.68,"<1","≤    0.3",0.2,"1.58 (+/-5%)",1.6590000000000003,5,28,21,35,26,null,null,"11.7  x  10",null,null,"10 x 10",null,null,4,"≤ 4",null,"-40 to +130",-40,130,null,null,null,null,null,null,0.59,0.59]

{"sheet":"Utility","index":6,"n_rows":43,"n_cols":42,"rows_kept":43,"cut":false,"hidden":true,"merged":[]}
[]
[null,null,null,null,null,null,null,null,null,null,null,null,{"$f":"INDEX(Utility!$P:$P,MATCH('DCDC Ref'!$W$21,Utility!$O:$O,0))","v":0}]
[null,"L Value Range List",null,null,null,null,null,null,null,null,"App Picture List"]
[null,null,null,"閾値","表示",null,null,null,null,null,"App Img Lookup","Din Info Lookup","Din Img Lookup",null,"App","App Img (Offline)","App Info","App Img","App Info2","App Img2","Din Maker","Din Info","Din Img","Din Img (Offline)",null,"Din Info2","Din img2","FYI URL","Design","Vin","Vout","Iout","Fsw","Ph"]
[null,null,null,0.01,"≤    0.1",null,null,null,null,null,{"$f":"INDEX(R:R,MATCH('DCDC Ref'!W21,O:O,0))","v":"https://industrial.panasonic.com/content/data/CP/pictures/custom_made_xev_01.jpg"},{"$f":"INDEX(V:V,MATCH('DCDC Ref'!W21,O:O,0))","v":0},{"$f":"INDEX(W:W,MATCH('DCDC Ref'!W21,O:O,0))","v":0},1,"(Select here)",null,null,"https://industrial.panasonic.com/content/data/CP/pictures/custom_made_xev_01.jpg",null,"https://industrial.panasonic.com/content/data/CC/pictures/en_pcc_car1.png","-",null,null,null,null,null,null,"https://industrial.panasonic.com/ww/products/pt/automotive-inductors","-",12,5,5,400,1]
[null,null,null,0.11,"≤    0.2",null,null,null,null,null,null,null,null,2,"ADAS(High power)",null,null,"https://industrial.panasonic.com/content/data/common/ss-files/tech60-00.png",null,"https://upload.wikimedia.org/wikipedia/commons/thumb/e/e7/Tesla_Autopilot_Engaged_in_Model_X.jpg/1280px-Tesla_Autopilot_Engaged_in_Model_X.jpg","Texas Instruments","https://www.ti.com/tool/en-us/TPS59632Q1EVM-057","https://www.ti.com/content/dam/ticom/images/products/ic/power-management/power-management-multi-channel-ic-solutions/boards/tps59632q1evm-057-angled.png:large",null,null,null,null,"https://industrial.panasonic.com/jp/ss/technical/ap1","TPS59632Q1EVM-057",5,0.8,60,400,3]
[null,null,null,0.21,"≤    0.3",null,null,null,null,null,null,null,null,3,"ADAS(Low power)",null,null,"https://industrial.panasonic.com/content/data/common/ss-files/tech62-top.jpg",null,null,"Renesas Electronics","https://www.renesas.com/us/en/products/automotive-products/automotive-power-management/mcu-pmic/da9213-multiphase-20a-output-current-sub-pmic","https://www.renesas.com/sites/default/files/styles/two_columns/public/blockdiagram_da9213.jpg?itok=uRKNgnAx",null,null,null,null,null,"DA9213",5,0.85,20,3000,4,null,"https://vayyar.com/auto/technology/60ghz/","https://vayyar.com/wp-content/uploads/2021/08/New_Front_2-1024x865.png","https://vayyar.com/auto/technology/79ghz/",null,"Rough Size (mm)","Size (mm)","データの個数 / Maker"]
[null,null,null,0.31,"≤    0.4",null,null,null,null,null,null,null,null,4,"Infotainment",null,null,"https://industrial.panasonic.com/content/data/ID/pictures/appli_automotive_caravsystem_rwd.jpg",null,"https://www.onsemi.jp/design/tools-software/evaluation-board/str-adas-preregulator-gevk","Texas Instruments","https://www.ti.com/tool/PMP30059","https://www.ti.com/content/dam/ticom/images/products/design-boards/systems/pds-ace-europe/PMP30059-design-board.JPG:large",null,null,null,null,null,"PMP10594",12,3.3,16,440,2,null,null,null,null,null,"10 x 10","10.7  x  10",26]
[null,null,null,0.41,"≤    0.5",null,null,null,null,null,null,null,null,5,"Primary DCDC",null,null,"https://industrial.panasonic.com/content/data/common/ss-files/tech53-02_ww.png",null,null,"Renesas Electronics","https://www.renesas.com/us/en/products/automotive-products/automotive-power-management/automotive-multiple-output-controllers/isl78263-automotive-42v-dual-synchronous-boost-and-low-iq-buck-controllers-integrated-drivers","https://www.mouser.cn/images/marketingid/2020/img/108757013.png",null,null,"https://www.digikey.fi/en/products/detail/analog-devices-inc/DC2738A/9809406?",null,"https://industrial.panasonic.com/ww/ss/technical/lc5","ISL78263EVAL1Z",12,5,10,2200,1,null,null,null,null,null,null,"10.9  x  10",17]
[null,null,null,0.51,"≤    0.6",null,null,null,null,null,null,null,null,6,"USB PD",null,null,"https://industrial.panasonic.com/content/data/common/ss-files/tech35-10.png",null,"https://media.rs-online.com/t_large/R1859636-01.jpg","Onsemi","https://www.onsemi.jp/design/tools-software/evaluation-board/str-usbc-2port-100w-evk","https://www.onsemi.jp/site/images/STR-USBC-2PORT-100W-EVK.gif",null,null,null,null,"https://industrial.panasonic.com/jp/ss/technical/p5","STR-USBC-2PORT-100W-EVK",12,20,5,800,1,null,null,null,null,null,"12 x 12","12.6  x  13.2",5]
[null,null,null,0.61,"≤    0.7",null,null,null,null,null,null,null,null,7,"LED",null,null,"https://encrypted-tbn0.gstatic.com/images?q=tbn:ANd9GcSMZlEXv7IM3HZ1_qdbP2OIpmkb2lKs6WvZCg&usqp=CAU",null,"https://industrial.panasonic.com/content/data/CP/pictures/almi-app01-01b.jpg","Texas Instruments","https://www.ti.com/tool/en-us/LM3414HVSDEVAL","https://www.ti.com/content/dam/ticom/images/products/ic/power-management/led-driver/boards/lm3414hvsdevalnopb-top.png",null,null,null,null,null,"LM3414HVSDEVAL",24,18,0.7,500,1,null,null,null,null,null,null,"12.6  x  13.1",2]
[null,null,null,0.71,"≤    0.8",null,null,null,null,null,null,null,null,null,null,null,null,null,null,null,null,null,null,null,null,null,null,null,null,null,null,null,null,null,null,null,null,null,null,"14 x 14","14  x  14",1]
[null,null,null,0.81,"≤    0.9",null,null,null,null,null,null,null,null,null,null,null,null,null,null,null,null,null,null,null,null,null,null,null,null,null,null,null,null,null,null,null,null,null,null,"_5 x 5","5.5  x  5",18]
[null,null,null,0.91,"≤   1",null,null,null,null,null,null,null,null,null,null,null,null,null,null,null,null,null,null,null,null,null,null,null,null,null,null,null,null,null,null,null,null,null,null,"_6 x 6","6.4  x  6",17]
[null,null,null,1.0900000000000001,"≤   2","↓ここから3桁目0以下切り捨て",null,null,null,null,null,null,null,null,null,null,null,null,null,null,null,null,null,null,null,null,null,null,null,null,null,null,null,null,null,null,null,null,null,null,"6.5  x  6",11]
[null,null,null,2.09,"≤   3",null,null,null,null,null,null,null,null,null,null,null,null,null,null,null,null,null,null,null,null,null,null,null,null,null,null,null,null,null,null,null,null,null,null,null,"6  x  6.4",1]
[null,null,null,3.09,"≤   4",null,null,null,null,null,null,null,null,null,null,null,null,null,null,null,null,null,null,null,null,null,null,null,null,null,null,null,null,null,null,null,null,null,null,"_8 x 8","8.5  x  8",20]
[null,null,null,4.09,"≤   5",null,null,null,null,null,null,null,null,null,null,null,null,null,null,null,null,null,null,null,null,null,null,null,null,null,null,null,null,null,null,null,null,null,null,"_7 x 7","7.4  x  7",7]
[null,null,null,5.09,"≤   6",null,null,null,null,null,null,null,null,null,null,null,null,null,null,null,null,null,null,null,null,null,null,null,null,null,null,null,null,null,null,null,null,null,null,null,"7.5  x  7",9]
[null,null,null,6.09,"≤   7",null,null,null,null,null,null,null,null,null,null,null,null,null,null,null,null,null,null,null,null,null,null,null,null,null,null,null,null,null,null,null,null,null,null,null,"7.9  x  7",1]
[null,null,null,7.09,"≤   8",null,null,null,null,null,null,null,null,null,null,null,null,null,null,null,null,null,null,null,null,null,null,null,null,null,null,null,null,null,null,null,null,null,null,"15 x 15","15.6  x  17.2",7]
[null,null,null,8.09,"≤   9",null,null,null,null,null,null,null,null,null,null,null,null,null,null,null,null,null,null,null,null,null,null,null,null,null,null,null,null,null,null,null,null,null,null,"総計",null,142]
[null,null,null,9.09,"≤  10"]
[null,null,null,10.9,"≤  20"]
[null,null,null,20.9,"≤  30"]
[null,null,null,30.9,"≤  40"]
[null,null,null,40.9,"≤  50"]
[null,null,null,50.9,"≤  60"]
[null,null,null,60.9,"≤  70"]
[null,null,null,70.900000000000006,"≤  80"]
[null,null,null,80.900000000000006,"≤  90"]
[null,null,null,90.9,"≤ 100"]
[null,null,null,109,"≤ 200"]
[null,null,null,209,"≤ 300"]
[null,null,null,309,"≤ 400"]
[null,null,null,409,"≤ 500"]
[null,null,null,509,"≤ 600"]
[null,null,null,609,"≤ 700"]
[null,null,null,709,"≤ 800"]
[null,null,null,809,"≤ 900"]
[null,null,null,909,"≤1000"]
[null,null,null,1090,"≤2000"]
[null,null,null,2090,"≤3000"]

{"sheet":"計算sheet","index":7,"n_rows":60,"n_cols":124,"rows_kept":60,"cut":false,"hidden":true,"merged":[[22,10,22,11]]}
[]
[]
[]
[]
[]
[]
[]
[]
[]
[]
[]
[]
[]
[]
[]
[null,null,null,"<Display>",null,null,null,null,null,null,null,null,null,null,null,null,null,null,"＜電流波形グラフ＞"]
[null,null,null,null,null,null,null,null,null,null,null,null,null,null,null,null,null,null,null,null,null,null,null,null,null,null,null,null,null,null,null,null,null,null,null,null,null,"リンクされた図として凡例的にグラフ内に配置"]
[null,null,null,null,null,null,null,"=E41*(1-E41/D41)/(B41*(C46/1000000))",null,null,null,null,null,null,null,null,null,null,null,null,null,null,null,null,null,null,null,null,null,null,null,"インダクタ電流","per ph","per ph",null,null,null,"↓"]
[null,null,null,null,null,null,null,null,null,null,null,null,null,null,null,null,null,null,null,"Calc L value","Topo","Duty","fIpeak","Idc","Iac","Iac rms","Ipeak",null,"Δt=1/swf",null,"t [us]","IL","Iout","Iin"]
[null,null,null,null,null,null,null,null,null,"Select or enter values↓",null,null,null,null,null,null,null,null,null,{"$f":"J29","v":6.3194444444444446},"1.Buck",{"$f":"$J$22/$J$21","v":0.41666666666666669},{"$f":"(1/$M$26)*($J$22/$J$21)*10^6","v":4.166666666666667},{"$f":"$J$24/$J$27-(Y20/2)","v":17.692307692307693},{"$f":"($J$22/$J$21)*(($J$21-$J$22)/($M$26*T20*10^-6))","v":4.6153846153846159},{"$f":"Y20*1/SQRT(3)","v":2.6646935501059654},{"$f":"X20+Y20","v":22.30769230769231},null,{"$f":"1/M26*1000000","v":10},null,0,{"$f":"IF(X26<=0,0,X26)","v":17.692307692307693},{"$f":"$J$24/$J$27","v":20},{"$f":"ROUND(($J$22*$J$24/$J$27)/$J$21,2)","v":8.33},null,null,null,"Duty",{"$f":"IFERROR(ROUND(V26*100,2)&\"%\",\"\")","v":"41.67%"}]
[null,null,null,null,null,null,null,"  Vin",null,{"$f":"'DCDC Ref'!J21","v":12},null,"V",null,null,null,null,null,null,null,null,"2.Boost",{"$f":"($J$22-$J$21)/$J$22","v":-1.4},{"$f":"(1/$M$26)*(($J$22-$J$21)/$J$22)*10^6","v":-14},{"$f":"($J$24/$J$27)*($J$22/$J$21)-(Y21/2)","v":21.625641025641023},{"$f":"($J$21*(($J$22-$J$21)/$J$22))/($M$26*T20*10^-6)","v":-26.584615384615383},{"$f":"Y21*1/SQRT(3)","v":-15.348634848610358},{"$f":"X21+Y21","v":-4.9589743589743591},null,null,null,{"$f":"W26","v":4.166666666666667},{"$f":"AA26","v":22.30769230769231},{"$f":"$J$24/$J$27","v":20},{"$f":"ROUND(($J$22*$J$24/$J$27)/$J$21,2)","v":8.33},null,null,null,"Ipeak",{"$f":"IFERROR(ROUND(AA26,2)&\"A\",\"\")","v":"22.31A"}]
[null,null,null,null,null,null,null,"  Vout",null,{"$f":"'DCDC Ref'!J22","v":5},null,"V",null,null,null,null,null,null,null,null,"3.Buck-boost",{"$f":"$J$22/($J$21+$J$22)","v":0.29411764705882354},{"$f":"(1/$M$26)*$J$22/($J$21+$J$22)*10^6","v":2.9411764705882355},{"$f":"($J$24/$J$27)+($J$24*($J$22/$J$21)-(Y22/2))","v":26.025641025641026},{"$f":"(MAX($J$21:$J$22)-MIN($J$21:$J$22))*(MIN($J$21:$J$22)/MAX($J$21:$J$22))/($M$26*(T20/10^6))","v":4.615384615384615},2.664693550105965,30.641025641025642,null,null,null,{"$f":"AC20","v":10},{"$f":"$AF$20","v":17.692307692307693},20,8.33,null,null,null,"Iac",{"$f":"IFERROR(ROUND(Y26,2)&\"A\",\"\")","v":"4.62A"},"←","Iout",{"$f":"J24/J27&\"A\"","v":"20A"},"Iac",{"$f":"Y20/J27/J24","v":0.23076923076923078},"of Iout"]
[null,null,null,null,null,null,null,"  Mode",null,{"$f":"'DCDC Ref'!J23","v":"Buck"},{"$f":"'DCDC Ref'!K23","v":"-"},null,{"$f":"(J22*(J21-J22))/(M26*M28*(J24/J27)*J21)*M29","v":6.3194444444444448E-6},null,null,null,null,null,null,null,null,null,null,null,null,null,null,null,null,null,{"$f":"AE21+AE22","v":14.166666666666668},{"$f":"$AF$21","v":22.30769230769231},20,8.33,null,null,null,"Idc",{"$f":"IFERROR(ROUND(X26,2)&\"A\",\"\")","v":"17.69A"},null,"Iin",{"$f":"ROUND((J22*J24/J27)/J21,2)&\"A\"","v":"8.33A"}]
[null,null,null,null,null,null,null,"  Iout",null,{"$f":"'DCDC Ref'!J24","v":20},null,"A",{"$f":"(J21^2*(J22-J21))/(M26*M28*(J24/J27)*J22^2)*M29","v":-8.735999999999999E-5},null,null,null,null,null,null,null,"Selected Topology",null,null,null,null,null,null,null,null,null,{"$f":"AE22*2","v":20},{"$f":"$AF$20","v":17.692307692307693},20,8.33,null,null,null,null,null,null,"*↑Iout, In per Lなのでグラフには描画しない"]
[null,null,null,null,null,null,null,null,"Margin",{"$f":"'DCDC Ref'!J28","v":22.30769230769231},null,"%",null,null,null,null,null,null,null,null,"1or2or3","Duty","fIpeak","Idc","Iac","Iac rms","Ipeak",null,null,null,{"$f":"AE24+AE21","v":24.166666666666668},{"$f":"$AF$21","v":22.30769230769231},20,8.33,null,null,null,null,null,null,"  IL (A) はBoostの場合は、入力電流のリプル有を示している。"]
[null,null,null,null,null,null,null,"  Fsw",null,{"$f":"'DCDC Ref'!J25","v":100},null,"kHz",{"$f":"J26*1000","v":100000},null,null,null,null,null,null,null,null,{"$f":"IF(K23=\"(Buck-boost)\",V22,IF($J$23=\"Buck\",V20,IF($J$23=\"Boost\",V21,\"\")))","v":0.41666666666666669},{"$f":"IF(K23=\"(Buck-boost)\",W22,IF($J$23=\"Buck\",W20,IF($J$23=\"Boost\",W21,\"\")))","v":4.166666666666667},{"$f":"IF(K23=\"(Buck-boost)\",X22,IF($J$23=\"Buck\",X20,IF($J$23=\"Boost\",X21,\"\")))","v":17.692307692307693},{"$f":"IF(K23=\"(Buck-boost)\",Y22,IF($J$23=\"Buck\",Y20,IF($J$23=\"Boost\",Y21,\"\")))","v":4.6153846153846159},{"$f":"IF(K23=\"(Buck-boost)\",Z22,IF($J$23=\"Buck\",Z20,IF($J$23=\"Boost\",Z21,\"\")))","v":2.6646935501059654},{"$f":"IF(K23=\"(Buck-boost)\",AA22,IF($J$23=\"Buck\",AA20,IF($J$23=\"Boost\",AA21,\"\")))","v":22.30769230769231},null,null,null,{"$f":"AE22*3","v":30},{"$f":"$AF$20","v":17.692307692307693},20,8.33]
[null,null,null,null,null,null,null,"  Phase",null,{"$f":"'DCDC Ref'!J26","v":1},null,"ph",null,null,null,null,null,null,null,null,null,null,null,null,null,null,null,null,null,null,{"$f":"AE26+AE21","v":34.166666666666664},{"$f":"$AF$21","v":22.30769230769231},20,8.33]
[null,null,null,null,null,null,null,"  Ripple",null,{"$f":"'DCDC Ref'!J27","v":30},null,"%",{"$f":"'DCDC Ref'!M28","v":0.3},null,null,null,null,null,null,null,null,null,null,null,null,null,null,null,null,null,{"$f":"AE22*4","v":40},{"$f":"$AF$20","v":17.692307692307693},20,8.33]
[null,null,null,null,null,null,null,"  L",null,{"$f":"'DCDC Ref'!J30","v":6.3194444444444446},null,"uH",{"$f":"IF(COUNTIF(N29,\"*sat*\"),1.3,1)","v":1.3},{"$f":"'DCDC Ref'!N30","v":"Consider sat.(x1.3)"},null,null,null,null,null,null,null,null,null,null,null,null,null,null,null,null,{"$f":"AE28+AE21","v":44.166666666666664},{"$f":"$AF$21","v":22.30769230769231},20,8.33]
[null,null,null,null,null,null,null,null,"Margin",{"$f":"'DCDC Ref'!J31","v":130},null,"%",null,null,null,null,null,null,null,null,null,null,null,null,null,null,null,null,null,null,{"$f":"AE22*5","v":50},{"$f":"$AF$20","v":17.692307692307693},20,8.33]
[null,null,null,null,null,null,null,null,"Margin",{"$f":"'DCDC Ref'!J32","v":70},null,"%"]
[]
[]
[]
[]
[null,null,null,null,null,null,null,"  Temp.",null,{"$f":"'DCDC Ref'!J33","v":20},null,"℃"]
[]
[]
[]
[]
[]
[null,null,null,null,null,null,null,null,null,null,null,"<Filtered PNs>",null,null,null,null,null,null,"<Filtered PNs Current Caluc>",null,null,null,null,null,null,null,null,null,null,null,null,null,null,null,null,null,null,null,null,null,null,null,null,null,null,null,null,"＜鉄損計算＞",null,null,null,null,null,null,null,null,null,null,null,null,null,null,null,"＜銅損計算＞",null,null,null,null,null,null,null,null,null,null,null,null,null,null,null,null,null,null,null,null,null,null,null,null,null,null,null,null,null,null,null,null,"＜トータル損計算＞",null,null,null,"＜温度上昇＞"]
[null,null,null,null,null,null,null,null,null,null,null,null,null,null,null,null,null,null,null,null,null,null,null,null,null,null,null,null,null,null,null,null,null,null,null,null,null,null,null,null,null,null,null,null,null,null,null,"・部品品番と項目(鉄損係数6次など)を使用して、INDEX，MATCH関数でデータライブラリより各係数値を検索して、計算に使用",null,null,null,null,null,null,null,null,null,null,null,null,null,null,null,"・部品品番と項目(銅損係数6次など)を使用して、INDEX，MATCH関数でデータライブラリより各係数値を検索して、計算に使用",null,null,null,null,null,null,null,null,null,null,null,null,null,null,null,null,null,null,null,null,null,null,null,null,null,"・IF関数を使用して、入力されたSW周波数に応じて選択したRを選択し、Rdc分を減算",null,"・下記の式で銅損電力を計算",null,null,null,null,null,null,null,null,null,"・上記の式で損出による温度上昇を計算"]
[null,null,null,null,null,null,null,null,null,null,null,null,null,null,null,null,null,null,null,null,null,null,null,null,null,null,null,null,null,null,null,null,null,null,null,null,null,null,null,null,null,null,null,null,null,null,null,null,null,null,null,null,null,null,null,null,null,null,null,null,null,null,null,"・swfが600kHz以上と、600kHz未満の両方を計算",null,null,null,null,null,null,null,null,null,null,null,null,null,null,null,null,null,null,null,null,null,null,null,null,null,null,null,null,null,null,null,null,null,null,null,null,null,"・表の黄色にハイライトした内容を｢入力条件&結果表示｣sheetに結果として表示"]
[null,null,null,null,null,null,null,null,null,null,null,null,null,null,null,null,null,null,null,null,null,null,null,null,null,null,null,null,null,null,null,null,null,null,null,null,null,null,null,null,null,null,null,null,null,null,null,null,null,null,null,null,null,null,null,null,null,null,null,null,null,null,null,null,null,null,null,null,null,null,null,null,null,null,null,null,null,null,null,null,null,null,null,null,null,null,null,null,null,null,null,null,null,null,null,null,null,null,null,null,null,null,null,null,null,null,null,null,null,null,null,null,null,null,null,null,null,null,null,null,null,"Temp. rise = (Pcore + Pdc + Pac) * 温度係数(4層 t=1.6)"]
[null,null,null,null,null,null,null,null,null,null,null,null,null,null,null,null,null,null,null,null,null,null,null,null,null,null,null,null,null,null,null,null,null,null,null,null,null,null,null,null,null,null,null,null,null,null,null,"Pcore=(鉄損係数⑥*Duty^6 + 鉄損係数⑤*Duty^5 + 鉄損係数④*Duty^4 + 鉄損係数③*Duty^3 + 鉄損係数②*Duty^2 + 鉄損係数①*Duty + 鉄損係数)*fsw^f係数 * Iac^ΔI係数",null,null,null,null,null,null,null,null,null,null,null,null,null,null,null,"R=銅損係数⑥*swf^6 + 銅損係数⑤*swf^5 + 銅損係数④*swf^4 + 銅損係数③*swf^3 + 銅損係数②*swf^2 + 銅損係数①*swfy + 銅損係数",null,null,null,null,null,null,null,null,null,null,null,null,null,null,null,null,null,null,null,null,null,null,null,"Rdc=Rdc@20*(1+0.00393*(周囲温度-20))",null,"swfで選択したR - Rdc分",null,"Pdc=Rdc*(Idc+Iac rms)^2",null,"Pac=Rac*Iac rms^2",null,null,"Ptotal=Pcore+Pdc+Pac",null,null,null,null,null,null,null,null,null,null,null,null,null,null,null,null,null,null,null,null,null,null,null,null,"Rdc of surface temp.=Rdc@20degC*(1+0.00393*(surface temp.-20))"]
[null,null,null,null,null,null,null,null,null,null,null,null,null,null,null,null,null,null,null,null,null,null,null,null,null,null,null,null,null,null,null,null,null,null,null,null,null,null,null,null,null,null,null,null,null,null,null,null,null,null,null,null,null,null,null,null,null,null,null,null,null,null,null,null,null,null,null,null,null,null,null,null,null,null,null,null,null,null,null,null,null,null,null,null,null,null,null,null,null,null,null,null,null,null,null,null,null,null,null,null,null,null,null,null,null,null,null,null,null,null,null,null,null,null,null,null,null,null,null,null,null,"Pdc of surface Temp.= Rdc of surface temp. * (Idc+Iac rms)^2"]
[null,null,null,null,null,null,null,null,null,null,null,null,null,null,null,null,null,null,null,null,null,"1",null,null,null,null,null,"2",null,null,null,null,null,"3",null,null,null,null,null,"1or2or3",null,null,null,null,null,null,null,"Topology選択によって違う",null,null,null,null,null,null,null,null,null,null,"Topology選択によって違う",null,null,null,null,null,null,null,null,null,null,null,null,null,null,null,null,null,null,null,null,null,null,null,null,null,null,null,null,null,null,null,null,"Topology選択によって違う",null,"Topology選択によって違う",null,null,null,null,null,null,null,null,null,null,null,null,null,null,null,null,null,null,null,null,null,null,"Topology選択によって違う"]
[null,null,null,null,null,null,null,null,null,null,null,null,null,null,null,null,null,null,null,"Real L value",null,"Buck",null,null,null,null,null,"Boost",null,null,null,null,null,"Buck-boost",null,null,null,null,null,"Selected Topology",null,null,null,null,null,null,null,null,null,null,null,null,null,null,null,null,null,null,null,null,null,null,null,null,null,"swf：600kHz以上",null,null,null,null,null,null,null,null,"swf：600kHz未満",null,null,null,null,null,null,null,null,null,null,null,null,null,null,null,null,null,null,null,null,null,null,null,null,null,null,null,null,null,"Temp. rise",null,null,null,"Surface\nTemp.",null,null,null,"Rdc of \nsurface\ntemp.",null,null,null,"Pdc of\nsurface\ntepm."]
[null,null,null,null,null,null,null,null,null,null,null,null,null,"Part Number",null,null,null,null,null,null,null,"Duty Buck","fIpeak Buck","Idc Buck","Iac Buck","Iac rms Buck",null,"Duty Boost","fIpeak Boost","Idc Boost","Iac Boost","Iac rms Boost",null,"Duty B-B","fIpeak B-B","Idc B-B","Iac B-B","Iac rms B-B",null,"Duty","fIpeak","Idc","Iac","Iac rms",null,null,null,"Duty",null,"鉄損係数6次","鉄損係数5次","鉄損係数4次","鉄損係数3次","鉄損係数2次","鉄損係数1次","鉄損係数0次","ｆ","f係数","Iac","Iac係数","Pcore",null,null,"swf",null,"銅損係数6次","銅損係数5次","銅損係数4次","銅損係数3次","銅損係数2次","銅損係数1次","銅損係数0次","R：swf 600kHz以上",null,"銅損係数6次","銅損係数5次","銅損係数4次","銅損係数3次","銅損係数2次","銅損係数1次","銅損係数0次","R：swf 600kHz未満",null,"Rdc@20degC",null,"周囲温度",null,"Rdc@周囲温度",null,"Rac",null,"Pdc",null,"Pac",null,null,"Ptotal",null,null,null,"周囲温度",null,"温度係数(4層_t=1.6)",null,"step1","step2","step3","step4","step1","step2","step3","step4","step1","step2","step3","step4","step1","step2","step3","step4",null,"Ptotal (after Temp rise)","Temp rise","Surface Temp."]
[null,null,null,null,null,null,null,null,null,null,null,null,null,{"$f":"'DCDC Ref'!N51","v":"ETQP4M6R8YFN"},null,null,null,null,null,{"$f":"INDEX(#REF!,MATCH(N51,#REF!,0))","v":{"$error":"#REF!"}},null,{"$f":"$J$22/$J$21","v":0.41666666666666669},{"$f":"(1/$M$26)*($J$22/$J$21)*10^6","v":4.166666666666667},{"$f":"$J$24-(Y51/2)","v":{"$error":"#REF!"}},{"$f":"($J$22/$J$21)*(($J$21-$J$22)/($M$26*T51*10^-6))","v":{"$error":"#REF!"}},{"$f":"Y51*1/SQRT(3)","v":{"$error":"#REF!"}},null,{"$f":"($J$22-$J$21)/$J$22","v":-1.4},{"$f":"(1/$M$26)*(($J$22-$J$21)/$J$22)*10^6","v":-14},{"$f":"$J$24*($J$22/$J$21)-(AE51/2)","v":{"$error":"#REF!"}},{"$f":"($J$21*(($J$22-$J$21)/$J$22))/($M$26*T51*10^-6)","v":{"$error":"#REF!"}},{"$f":"AE51*1/SQRT(3)","v":{"$error":"#REF!"}},null,{"$f":"$J$22/($J$21+$J$22)","v":0.29411764705882354},{"$f":"(1/$M$26)*$J$22/($J$21+$J$22)*10^6","v":2.9411764705882355},{"$f":"$J$24+($J$24*($J$22/$J$21)-(AK51/2))","v":{"$error":"#REF!"}},{"$f":"(MAX($J$21:$J$22)-MIN($J$21:$J$22))*(MIN($J$21:$J$22)/MAX($J$21:$J$22))/($M$26*(T51/10^6))","v":{"$error":"#REF!"}},{"$f":"AK51*1/SQRT(3)","v":{"$error":"#REF!"}},null,{"$f":"IF($K$23=\"(Buck-boost)\",AH51,IF($J$23=\"Buck\",V51,IF($J$23=\"Boost\",AB51,\"\")))","v":0.41666666666666669},{"$f":"IF($K$23=\"(Buck-boost)\",AI51,IF($J$23=\"Buck\",W51,IF($J$23=\"Boost\",AC51,\"\")))","v":4.166666666666667},{"$f":"IF($K$23=\"(Buck-boost)\",AJ51,IF($J$23=\"Buck\",X51,IF($J$23=\"Boost\",AD51,\"\")))","v":{"$error":"#REF!"}},{"$f":"IF($K$23=\"(Buck-boost)\",AK51,IF($J$23=\"Buck\",Y51,IF($J$23=\"Boost\",AE51,\"\")))","v":{"$error":"#REF!"}},{"$f":"IF($K$23=\"(Buck-boost)\",AL51,IF($J$23=\"Buck\",Z51,IF($J$23=\"Boost\",AF51,\"\")))","v":{"$error":"#REF!"}},null,null,null,{"$f":"AN51","v":0.41666666666666669},null,{"$f":"INDEX(#REF!,MATCH(計算sheet!AX$50,#REF!,0),MATCH(N51,#REF!,0))","v":{"$error":"#REF!"}},{"$f":"INDEX(#REF!,MATCH(計算sheet!AY$50,#REF!,0),MATCH(N51,#REF!,0))","v":{"$error":"#REF!"}},{"$f":"INDEX(#REF!,MATCH(計算sheet!AZ$50,#REF!,0),MATCH(N51,#REF!,0))","v":{"$error":"#REF!"}},{"$f":"INDEX(#REF!,MATCH(計算sheet!BA$50,#REF!,0),MATCH(N51,#REF!,0))","v":{"$error":"#REF!"}},{"$f":"INDEX(#REF!,MATCH(計算sheet!BB$50,#REF!,0),MATCH(N51,#REF!,0))","v":{"$error":"#REF!"}},{"$f":"INDEX(#REF!,MATCH(計算sheet!BC$50,#REF!,0),MATCH(N51,#REF!,0))","v":{"$error":"#REF!"}},{"$f":"INDEX(#REF!,MATCH(計算sheet!BD$50,#REF!,0),MATCH(N51,#REF!,0))","v":{"$error":"#REF!"}},{"$f":"$M$26","v":100000},{"$f":"INDEX(#REF!,MATCH(計算sheet!BF$50,#REF!,0),MATCH(N51,#REF!,0))","v":{"$error":"#REF!"}},{"$f":"AQ51","v":{"$error":"#REF!"}},{"$f":"INDEX(#REF!,MATCH(計算sheet!BH$50,#REF!,0),MATCH(N51,#REF!,0))","v":{"$error":"#REF!"}},{"$f":"(AX51*$AV$51^6+AY51*$AV$51^5+AZ51*$AV$51^4+BA51*$AV$51^3+BB51*$AV$51^2+BC51*$AV$51+BD51)*BE51^BF51*BG51^BH51","v":{"$error":"#REF!"}},null,null,{"$f":"$M$26","v":100000},null,{"$f":"INDEX(#REF!,MATCH(計算sheet!BN$50,#REF!,0),MATCH(N51,#REF!,0))","v":{"$error":"#REF!"}},{"$f":"INDEX(#REF!,MATCH(計算sheet!BO$50,#REF!,0),MATCH(N51,#REF!,0))","v":{"$error":"#REF!"}},{"$f":"INDEX(#REF!,MATCH(計算sheet!BP$50,#REF!,0),MATCH(N51,#REF!,0))","v":{"$error":"#REF!"}},{"$f":"INDEX(#REF!,MATCH(計算sheet!BQ$50,#REF!,0),MATCH(N51,#REF!,0))","v":{"$error":"#REF!"}},{"$f":"INDEX(#REF!,MATCH(計算sheet!BR$50,#REF!,0),MATCH(N51,#REF!,0))","v":{"$error":"#REF!"}},{"$f":"INDEX(#REF!,MATCH(計算sheet!BS$50,#REF!,0),MATCH(N51,#REF!,0))","v":{"$error":"#REF!"}},{"$f":"INDEX(#REF!,MATCH(計算sheet!BT$50,#REF!,0),MATCH(N51,#REF!,0))","v":{"$error":"#REF!"}},{"$f":"BN51*$BL$51^6+BO51*$BL$51^5+BP51*$BL$51^4+BQ51*$BL$51^3+BR51*$BL$51^2+BS51*$BL$51+BT51","v":{"$error":"#REF!"}},null,{"$f":"INDEX(#REF!,MATCH(計算sheet!BW$50,#REF!,0),MATCH(N51,#REF!,0))","v":{"$error":"#REF!"}},{"$f":"INDEX(#REF!,MATCH(計算sheet!BX$50,#REF!,0),MATCH(N51,#REF!,0))","v":{"$error":"#REF!"}},{"$f":"INDEX(#REF!,MATCH(計算sheet!BY$50,#REF!,0),MATCH(N51,#REF!,0))","v":{"$error":"#REF!"}},{"$f":"INDEX(#REF!,MATCH(計算sheet!BZ$50,#REF!,0),MATCH(N51,#REF!,0))","v":{"$error":"#REF!"}},{"$f":"INDEX(#REF!,MATCH(計算sheet!CA$50,#REF!,0),MATCH(N51,#REF!,0))","v":{"$error":"#REF!"}},{"$f":"INDEX(#REF!,MATCH(計算sheet!CB$50,#REF!,0),MATCH(N51,#REF!,0))","v":{"$error":"#REF!"}},{"$f":"INDEX(#REF!,MATCH(計算sheet!CC$50,#REF!,0),MATCH(N51,#REF!,0))","v":{"$error":"#REF!"}},{"$f":"BW51*$BL$51^6+BX51*$BL$51^5+BY51*$BL$51^4+BZ51*$BL$51^3+CA51*$BL$51^2+CB51*$BL$51+CC51","v":{"$error":"#REF!"}},null,{"$f":"(INDEX(#REF!,MATCH(計算sheet!$CF$50,#REF!,0),MATCH(N51,#REF!,0)))/1000","v":{"$error":"#REF!"}},null,{"$f":"$J$36","v":20},null,{"$f":"CF51*(1+0.00393*($CH$51-20))","v":{"$error":"#REF!"}},null,{"$f":"IF($BL$51>=600000,BU51,CD51)-CF51","v":{"$error":"#REF!"}},null,{"$f":"CJ51*(AP51+AR51)^2","v":{"$error":"#REF!"}},null,{"$f":"CL51*AR51^2","v":{"$error":"#REF!"}},null,null,{"$f":"BI51+CN51+CP51","v":{"$error":"#REF!"}},null,null,null,{"$f":"$J$36","v":20},null,{"$f":"INDEX(#REF!,MATCH(計算sheet!$CY$50,#REF!,0),MATCH(N51,#REF!,0))","v":{"$error":"#REF!"}},null,{"$f":"(BI51+CN51+CP51)*CY51","v":{"$error":"#REF!"}},{"$f":"(BI51+DM51+CP51)*CY51","v":{"$error":"#REF!"}},{"$f":"(BI51+DN51+CP51)*CY51","v":{"$error":"#REF!"}},{"$f":"(BI51+DO51+CP51)*CY51","v":{"$error":"#REF!"}},{"$f":"DA51+$CW$51","v":{"$error":"#REF!"}},{"$error":"#REF!"},{"$error":"#REF!"},{"$error":"#REF!"},{"$f":"CF51*(1+0.00393*(DE51-20))","v":{"$error":"#REF!"}},{"$f":"CF51*(1+0.00393*(DF51-20))","v":{"$error":"#REF!"}},{"$f":"CF51*(1+0.00393*(DG51-20))","v":{"$error":"#REF!"}},{"$f":"CF51*(1+0.00393*(DH51-20))","v":{"$error":"#REF!"}},{"$f":"DI51*(AP51+AR51)^2","v":{"$error":"#REF!"}},{"$f":"DJ51*(AP51+AR51)^2","v":{"$error":"#REF!"}},{"$f":"DK51*(AP51+AR51)^2","v":{"$error":"#REF!"}},{"$f":"DL51*(AP51+AR51)^2","v":{"$error":"#REF!"}},null,{"$f":"DP51+BI51+CP51","v":{"$error":"#REF!"}},{"$f":"DR51*CY51","v":{"$error":"#REF!"}},{"$f":"DH51","v":{"$error":"#REF!"}}]
[null,null,null,null,null,null,null,null,null,null,null,null,null,{"$f":"'DCDC Ref'!N52","v":"ETQP5M6R8YFM"},null,null,null,null,null,{"$f":"INDEX(#REF!,MATCH(N52,#REF!,0))","v":{"$error":"#REF!"}},null,null,null,{"$error":"#REF!"},{"$error":"#REF!"},{"$error":"#REF!"},null,null,null,{"$error":"#REF!"},{"$error":"#REF!"},{"$error":"#REF!"},null,null,null,{"$f":"$J$24+($J$24*($J$22/$J$21)-(AK52/2))","v":{"$error":"#REF!"}},{"$f":"(MAX($J$21:$J$22)-MIN($J$21:$J$22))*(MIN($J$21:$J$22)/MAX($J$21:$J$22))/($M$26*(T52/10^6))","v":{"$error":"#REF!"}},{"$f":"AK52*1/SQRT(3)","v":{"$error":"#REF!"}},null,null,null,{"$f":"IF($K$23=\"(Buck-boost)\",AJ52,IF($J$23=\"Buck\",X52,IF($J$23=\"Boost\",AD52,\"\")))","v":{"$error":"#REF!"}},{"$f":"IF($K$23=\"(Buck-boost)\",AK52,IF($J$23=\"Buck\",Y52,IF($J$23=\"Boost\",AE52,\"\")))","v":{"$error":"#REF!"}},{"$f":"IF($K$23=\"(Buck-boost)\",AL52,IF($J$23=\"Buck\",Z52,IF($J$23=\"Boost\",AF52,\"\")))","v":{"$error":"#REF!"}},null,null,null,null,null,{"$f":"INDEX(#REF!,MATCH(計算sheet!AX$50,#REF!,0),MATCH(N52,#REF!,0))","v":{"$error":"#REF!"}},{"$f":"INDEX(#REF!,MATCH(計算sheet!AY$50,#REF!,0),MATCH(N52,#REF!,0))","v":{"$error":"#REF!"}},{"$f":"INDEX(#REF!,MATCH(計算sheet!AZ$50,#REF!,0),MATCH(N52,#REF!,0))","v":{"$error":"#REF!"}},{"$f":"INDEX(#REF!,MATCH(計算sheet!BA$50,#REF!,0),MATCH(N52,#REF!,0))","v":{"$error":"#REF!"}},{"$f":"INDEX(#REF!,MATCH(計算sheet!BB$50,#REF!,0),MATCH(N52,#REF!,0))","v":{"$error":"#REF!"}},{"$f":"INDEX(#REF!,MATCH(計算sheet!BC$50,#REF!,0),MATCH(N52,#REF!,0))","v":{"$error":"#REF!"}},{"$f":"INDEX(#REF!,MATCH(計算sheet!BD$50,#REF!,0),MATCH(N52,#REF!,0))","v":{"$error":"#REF!"}},{"$f":"$M$26","v":100000},{"$f":"INDEX(#REF!,MATCH(計算sheet!BF$50,#REF!,0),MATCH(N52,#REF!,0))","v":{"$error":"#REF!"}},{"$f":"AQ52","v":{"$error":"#REF!"}},{"$f":"INDEX(#REF!,MATCH(計算sheet!BH$50,#REF!,0),MATCH(N52,#REF!,0))","v":{"$error":"#REF!"}},{"$f":"(AX52*$AV$51^6+AY52*$AV$51^5+AZ52*$AV$51^4+BA52*$AV$51^3+BB52*$AV$51^2+BC52*$AV$51+BD52)*BE52^BF52*BG52^BH52","v":{"$error":"#REF!"}},null,null,null,null,{"$f":"INDEX(#REF!,MATCH(計算sheet!BN$50,#REF!,0),MATCH(N52,#REF!,0))","v":{"$error":"#REF!"}},{"$f":"INDEX(#REF!,MATCH(計算sheet!BO$50,#REF!,0),MATCH(N52,#REF!,0))","v":{"$error":"#REF!"}},{"$f":"INDEX(#REF!,MATCH(計算sheet!BP$50,#REF!,0),MATCH(N52,#REF!,0))","v":{"$error":"#REF!"}},{"$f":"INDEX(#REF!,MATCH(計算sheet!BQ$50,#REF!,0),MATCH(N52,#REF!,0))","v":{"$error":"#REF!"}},{"$f":"INDEX(#REF!,MATCH(計算sheet!BR$50,#REF!,0),MATCH(N52,#REF!,0))","v":{"$error":"#REF!"}},{"$f":"INDEX(#REF!,MATCH(計算sheet!BS$50,#REF!,0),MATCH(N52,#REF!,0))","v":{"$error":"#REF!"}},{"$f":"INDEX(#REF!,MATCH(計算sheet!BT$50,#REF!,0),MATCH(N52,#REF!,0))","v":{"$error":"#REF!"}},{"$f":"BN52*$BL$51^6+BO52*$BL$51^5+BP52*$BL$51^4+BQ52*$BL$51^3+BR52*$BL$51^2+BS52*$BL$51+BT52","v":{"$error":"#REF!"}},"ohm",{"$f":"INDEX(#REF!,MATCH(計算sheet!BW$50,#REF!,0),MATCH(N52,#REF!,0))","v":{"$error":"#REF!"}},{"$f":"INDEX(#REF!,MATCH(計算sheet!BX$50,#REF!,0),MATCH(N52,#REF!,0))","v":{"$error":"#REF!"}},{"$f":"INDEX(#REF!,MATCH(計算sheet!BY$50,#REF!,0),MATCH(N52,#REF!,0))","v":{"$error":"#REF!"}},{"$f":"INDEX(#REF!,MATCH(計算sheet!BZ$50,#REF!,0),MATCH(N52,#REF!,0))","v":{"$error":"#REF!"}},{"$f":"INDEX(#REF!,MATCH(計算sheet!CA$50,#REF!,0),MATCH(N52,#REF!,0))","v":{"$error":"#REF!"}},{"$f":"INDEX(#REF!,MATCH(計算sheet!CB$50,#REF!,0),MATCH(N52,#REF!,0))","v":{"$error":"#REF!"}},{"$f":"INDEX(#REF!,MATCH(計算sheet!CC$50,#REF!,0),MATCH(N52,#REF!,0))","v":{"$error":"#REF!"}},{"$f":"BW52*$BL$51^6+BX52*$BL$51^5+BY52*$BL$51^4+BZ52*$BL$51^3+CA52*$BL$51^2+CB52*$BL$51+CC52","v":{"$error":"#REF!"}},null,{"$f":"(INDEX(#REF!,MATCH(計算sheet!$CF$50,#REF!,0),MATCH(N52,#REF!,0)))/1000","v":{"$error":"#REF!"}},null,null,null,{"$f":"CF52*(1+0.00393*($CH$51-20))","v":{"$error":"#REF!"}},null,{"$f":"IF($BL$51>=600000,BU52,CD52)-CF52","v":{"$error":"#REF!"}},null,{"$f":"CJ52*(AP52+AR52)^2","v":{"$error":"#REF!"}},null,{"$f":"CL52*AR52^2","v":{"$error":"#REF!"}},null,null,{"$f":"BI52+CN52+CP52","v":{"$error":"#REF!"}},null,null,null,null,null,{"$f":"INDEX(#REF!,MATCH(計算sheet!$CY$50,#REF!,0),MATCH(N52,#REF!,0))","v":{"$error":"#REF!"}},null,{"$f":"(BI52+CN52+CP52)*CY52","v":{"$error":"#REF!"}},{"$error":"#REF!"},{"$f":"(BI52+DN52+CP52)*CY52","v":{"$error":"#REF!"}},{"$f":"(BI52+DO52+CP52)*CY52","v":{"$error":"#REF!"}},{"$error":"#REF!"},{"$error":"#REF!"},{"$error":"#REF!"},{"$error":"#REF!"},{"$f":"CF52*(1+0.00393*(DE52-20))","v":{"$error":"#REF!"}},{"$f":"CF52*(1+0.00393*(DF52-20))","v":{"$error":"#REF!"}},{"$f":"CF52*(1+0.00393*(DG52-20))","v":{"$error":"#REF!"}},{"$f":"CF52*(1+0.00393*(DH52-20))","v":{"$error":"#REF!"}},{"$f":"DI52*(AP52+AR52)^2","v":{"$error":"#REF!"}},{"$f":"DJ52*(AP52+AR52)^2","v":{"$error":"#REF!"}},{"$f":"DK52*(AP52+AR52)^2","v":{"$error":"#REF!"}},{"$f":"DL52*(AP52+AR52)^2","v":{"$error":"#REF!"}},null,{"$f":"DP52+BI52+CP52","v":{"$error":"#REF!"}},{"$f":"DR52*CY52","v":{"$error":"#REF!"}},{"$f":"DH52","v":{"$error":"#REF!"}}]
[null,null,null,null,null,null,null,null,null,null,null,null,null,{"$f":"'DCDC Ref'!N53","v":"ETQP3M6R8KVP"},null,null,null,null,null,{"$f":"INDEX(#REF!,MATCH(N53,#REF!,0))","v":{"$error":"#REF!"}},null,null,null,{"$error":"#REF!"},{"$error":"#REF!"},{"$error":"#REF!"},null,null,null,{"$error":"#REF!"},{"$error":"#REF!"},{"$error":"#REF!"},null,null,null,{"$f":"$J$24+($J$24*($J$22/$J$21)-(AK53/2))","v":{"$error":"#REF!"}},{"$f":"(MAX($J$21:$J$22)-MIN($J$21:$J$22))*(MIN($J$21:$J$22)/MAX($J$21:$J$22))/($M$26*(T53/10^6))","v":{"$error":"#REF!"}},{"$error":"#REF!"},null,null,null,{"$error":"#REF!"},{"$error":"#REF!"},{"$error":"#REF!"},null,null,null,null,null,{"$f":"INDEX(#REF!,MATCH(計算sheet!AX$50,#REF!,0),MATCH(N53,#REF!,0))","v":{"$error":"#REF!"}},{"$f":"INDEX(#REF!,MATCH(計算sheet!AY$50,#REF!,0),MATCH(N53,#REF!,0))","v":{"$error":"#REF!"}},{"$f":"INDEX(#REF!,MATCH(計算sheet!AZ$50,#REF!,0),MATCH(N53,#REF!,0))","v":{"$error":"#REF!"}},{"$f":"INDEX(#REF!,MATCH(計算sheet!BA$50,#REF!,0),MATCH(N53,#REF!,0))","v":{"$error":"#REF!"}},{"$f":"INDEX(#REF!,MATCH(計算sheet!BB$50,#REF!,0),MATCH(N53,#REF!,0))","v":{"$error":"#REF!"}},{"$f":"INDEX(#REF!,MATCH(計算sheet!BC$50,#REF!,0),MATCH(N53,#REF!,0))","v":{"$error":"#REF!"}},{"$f":"INDEX(#REF!,MATCH(計算sheet!BD$50,#REF!,0),MATCH(N53,#REF!,0))","v":{"$error":"#REF!"}},100000,{"$f":"INDEX(#REF!,MATCH(計算sheet!BF$50,#REF!,0),MATCH(N53,#REF!,0))","v":{"$error":"#REF!"}},{"$error":"#REF!"},{"$f":"INDEX(#REF!,MATCH(計算sheet!BH$50,#REF!,0),MATCH(N53,#REF!,0))","v":{"$error":"#REF!"}},{"$error":"#REF!"},null,null,null,null,{"$f":"INDEX(#REF!,MATCH(計算sheet!BN$50,#REF!,0),MATCH(N53,#REF!,0))","v":{"$error":"#REF!"}},{"$f":"INDEX(#REF!,MATCH(計算sheet!BO$50,#REF!,0),MATCH(N53,#REF!,0))","v":{"$error":"#REF!"}},{"$f":"INDEX(#REF!,MATCH(計算sheet!BP$50,#REF!,0),MATCH(N53,#REF!,0))","v":{"$error":"#REF!"}},{"$f":"INDEX(#REF!,MATCH(計算sheet!BQ$50,#REF!,0),MATCH(N53,#REF!,0))","v":{"$error":"#REF!"}},{"$f":"INDEX(#REF!,MATCH(計算sheet!BR$50,#REF!,0),MATCH(N53,#REF!,0))","v":{"$error":"#REF!"}},{"$f":"INDEX(#REF!,MATCH(計算sheet!BS$50,#REF!,0),MATCH(N53,#REF!,0))","v":{"$error":"#REF!"}},{"$f":"INDEX(#REF!,MATCH(計算sheet!BT$50,#REF!,0),MATCH(N53,#REF!,0))","v":{"$error":"#REF!"}},{"$error":"#REF!"},null,{"$f":"INDEX(#REF!,MATCH(計算sheet!BW$50,#REF!,0),MATCH(N53,#REF!,0))","v":{"$error":"#REF!"}},{"$f":"INDEX(#REF!,MATCH(計算sheet!BX$50,#REF!,0),MATCH(N53,#REF!,0))","v":{"$error":"#REF!"}},{"$f":"INDEX(#REF!,MATCH(計算sheet!BY$50,#REF!,0),MATCH(N53,#REF!,0))","v":{"$error":"#REF!"}},{"$f":"INDEX(#REF!,MATCH(計算sheet!BZ$50,#REF!,0),MATCH(N53,#REF!,0))","v":{"$error":"#REF!"}},{"$f":"INDEX(#REF!,MATCH(計算sheet!CA$50,#REF!,0),MATCH(N53,#REF!,0))","v":{"$error":"#REF!"}},{"$f":"INDEX(#REF!,MATCH(計算sheet!CB$50,#REF!,0),MATCH(N53,#REF!,0))","v":{"$error":"#REF!"}},{"$f":"INDEX(#REF!,MATCH(計算sheet!CC$50,#REF!,0),MATCH(N53,#REF!,0))","v":{"$error":"#REF!"}},{"$error":"#REF!"},null,{"$f":"(INDEX(#REF!,MATCH(計算sheet!$CF$50,#REF!,0),MATCH(N53,#REF!,0)))/1000","v":{"$error":"#REF!"}},null,null,null,{"$f":"CF53*(1+0.00393*($CH$51-20))","v":{"$error":"#REF!"}},null,{"$f":"IF($BL$51>=600000,BU53,CD53)-CF53","v":{"$error":"#REF!"}},null,{"$error":"#REF!"},null,{"$error":"#REF!"},null,null,{"$f":"BI53+CN53+CP53","v":{"$error":"#REF!"}},null,null,null,null,null,{"$f":"INDEX(#REF!,MATCH(計算sheet!$CY$50,#REF!,0),MATCH(N53,#REF!,0))","v":{"$error":"#REF!"}},null,{"$f":"(BI53+CN53+CP53)*CY53","v":{"$error":"#REF!"}},{"$error":"#REF!"},{"$f":"(BI53+DN53+CP53)*CY53","v":{"$error":"#REF!"}},{"$f":"(BI53+DO53+CP53)*CY53","v":{"$error":"#REF!"}},{"$f":"DA53+$CW$51","v":{"$error":"#REF!"}},{"$f":"DB53+$CW$51","v":{"$error":"#REF!"}},{"$f":"DC53+$CW$51","v":{"$error":"#REF!"}},{"$f":"DD53+$CW$51","v":{"$error":"#REF!"}},{"$f":"CF53*(1+0.00393*(DE53-20))","v":{"$error":"#REF!"}},{"$f":"CF53*(1+0.00393*(DF53-20))","v":{"$error":"#REF!"}},{"$f":"CF53*(1+0.00393*(DG53-20))","v":{"$error":"#REF!"}},{"$f":"CF53*(1+0.00393*(DH53-20))","v":{"$error":"#REF!"}},{"$error":"#REF!"},{"$error":"#REF!"},{"$error":"#REF!"},{"$error":"#REF!"},null,{"$f":"DP53+BI53+CP53","v":{"$error":"#REF!"}},{"$f":"DR53*CY53","v":{"$error":"#REF!"}},{"$f":"DH53","v":{"$error":"#REF!"}}]
[null,null,null,null,null,null,null,null,null,null,null,null,null,{"$f":"'DCDC Ref'!N54","v":"ETQP3M6R8KVN"},null,null,null,null,null,{"$f":"INDEX(#REF!,MATCH(N54,#REF!,0))","v":{"$error":"#REF!"}},null,null,null,{"$error":"#REF!"},{"$error":"#REF!"},{"$error":"#REF!"},null,null,null,{"$error":"#REF!"},{"$error":"#REF!"},{"$error":"#REF!"},null,null,null,{"$error":"#REF!"},{"$error":"#REF!"},{"$error":"#REF!"},null,null,null,{"$error":"#REF!"},{"$error":"#REF!"},{"$error":"#REF!"},null,null,null,null,null,{"$f":"INDEX(#REF!,MATCH(計算sheet!AX$50,#REF!,0),MATCH(N54,#REF!,0))","v":{"$error":"#REF!"}},{"$f":"INDEX(#REF!,MATCH(計算sheet!AY$50,#REF!,0),MATCH(N54,#REF!,0))","v":{"$error":"#REF!"}},{"$f":"INDEX(#REF!,MATCH(計算sheet!AZ$50,#REF!,0),MATCH(N54,#REF!,0))","v":{"$error":"#REF!"}},{"$f":"INDEX(#REF!,MATCH(計算sheet!BA$50,#REF!,0),MATCH(N54,#REF!,0))","v":{"$error":"#REF!"}},{"$f":"INDEX(#REF!,MATCH(計算sheet!BB$50,#REF!,0),MATCH(N54,#REF!,0))","v":{"$error":"#REF!"}},{"$f":"INDEX(#REF!,MATCH(計算sheet!BC$50,#REF!,0),MATCH(N54,#REF!,0))","v":{"$error":"#REF!"}},{"$f":"INDEX(#REF!,MATCH(計算sheet!BD$50,#REF!,0),MATCH(N54,#REF!,0))","v":{"$error":"#REF!"}},100000,{"$f":"INDEX(#REF!,MATCH(計算sheet!BF$50,#REF!,0),MATCH(N54,#REF!,0))","v":{"$error":"#REF!"}},{"$error":"#REF!"},{"$f":"INDEX(#REF!,MATCH(計算sheet!BH$50,#REF!,0),MATCH(N54,#REF!,0))","v":{"$error":"#REF!"}},{"$error":"#REF!"},null,null,null,null,{"$f":"INDEX(#REF!,MATCH(計算sheet!BN$50,#REF!,0),MATCH(N54,#REF!,0))","v":{"$error":"#REF!"}},{"$f":"INDEX(#REF!,MATCH(計算sheet!BO$50,#REF!,0),MATCH(N54,#REF!,0))","v":{"$error":"#REF!"}},{"$f":"INDEX(#REF!,MATCH(計算sheet!BP$50,#REF!,0),MATCH(N54,#REF!,0))","v":{"$error":"#REF!"}},{"$f":"INDEX(#REF!,MATCH(計算sheet!BQ$50,#REF!,0),MATCH(N54,#REF!,0))","v":{"$error":"#REF!"}},{"$f":"INDEX(#REF!,MATCH(計算sheet!BR$50,#REF!,0),MATCH(N54,#REF!,0))","v":{"$error":"#REF!"}},{"$f":"INDEX(#REF!,MATCH(計算sheet!BS$50,#REF!,0),MATCH(N54,#REF!,0))","v":{"$error":"#REF!"}},{"$f":"INDEX(#REF!,MATCH(計算sheet!BT$50,#REF!,0),MATCH(N54,#REF!,0))","v":{"$error":"#REF!"}},{"$error":"#REF!"},null,{"$f":"INDEX(#REF!,MATCH(計算sheet!BW$50,#REF!,0),MATCH(N54,#REF!,0))","v":{"$error":"#REF!"}},{"$f":"INDEX(#REF!,MATCH(計算sheet!BX$50,#REF!,0),MATCH(N54,#REF!,0))","v":{"$error":"#REF!"}},{"$f":"INDEX(#REF!,MATCH(計算sheet!BY$50,#REF!,0),MATCH(N54,#REF!,0))","v":{"$error":"#REF!"}},{"$f":"INDEX(#REF!,MATCH(計算sheet!BZ$50,#REF!,0),MATCH(N54,#REF!,0))","v":{"$error":"#REF!"}},{"$f":"INDEX(#REF!,MATCH(計算sheet!CA$50,#REF!,0),MATCH(N54,#REF!,0))","v":{"$error":"#REF!"}},{"$f":"INDEX(#REF!,MATCH(計算sheet!CB$50,#REF!,0),MATCH(N54,#REF!,0))","v":{"$error":"#REF!"}},{"$f":"INDEX(#REF!,MATCH(計算sheet!CC$50,#REF!,0),MATCH(N54,#REF!,0))","v":{"$error":"#REF!"}},{"$error":"#REF!"},null,{"$f":"(INDEX(#REF!,MATCH(計算sheet!$CF$50,#REF!,0),MATCH(N54,#REF!,0)))/1000","v":{"$error":"#REF!"}},null,null,null,{"$error":"#REF!"},null,{"$error":"#REF!"},null,{"$error":"#REF!"},null,{"$error":"#REF!"},null,null,{"$error":"#REF!"},null,null,null,null,null,{"$f":"INDEX(#REF!,MATCH(計算sheet!$CY$50,#REF!,0),MATCH(N54,#REF!,0))","v":{"$error":"#REF!"}},null,{"$error":"#REF!"},{"$error":"#REF!"},{"$error":"#REF!"},{"$error":"#REF!"},{"$error":"#REF!"},{"$error":"#REF!"},{"$error":"#REF!"},{"$error":"#REF!"},{"$error":"#REF!"},{"$error":"#REF!"},{"$error":"#REF!"},{"$error":"#REF!"},{"$error":"#REF!"},{"$error":"#REF!"},{"$error":"#REF!"},{"$error":"#REF!"},null,{"$error":"#REF!"},{"$error":"#REF!"},{"$error":"#REF!"}]
[null,null,null,null,null,null,null,null,null,null,null,null,null,{"$f":"'DCDC Ref'!N55","v":"ETQP4M6R8KVK"},null,null,null,null,null,{"$f":"INDEX(#REF!,MATCH(N55,#REF!,0))","v":{"$error":"#REF!"}},null,null,null,{"$error":"#REF!"},{"$error":"#REF!"},{"$error":"#REF!"},null,null,null,{"$error":"#REF!"},{"$error":"#REF!"},{"$error":"#REF!"},null,null,null,{"$error":"#REF!"},{"$error":"#REF!"},{"$error":"#REF!"},null,null,null,{"$error":"#REF!"},{"$error":"#REF!"},{"$error":"#REF!"},null,null,null,null,null,{"$f":"INDEX(#REF!,MATCH(計算sheet!AX$50,#REF!,0),MATCH(N55,#REF!,0))","v":{"$error":"#REF!"}},{"$f":"INDEX(#REF!,MATCH(計算sheet!AY$50,#REF!,0),MATCH(N55,#REF!,0))","v":{"$error":"#REF!"}},{"$f":"INDEX(#REF!,MATCH(計算sheet!AZ$50,#REF!,0),MATCH(N55,#REF!,0))","v":{"$error":"#REF!"}},{"$f":"INDEX(#REF!,MATCH(計算sheet!BA$50,#REF!,0),MATCH(N55,#REF!,0))","v":{"$error":"#REF!"}},{"$f":"INDEX(#REF!,MATCH(計算sheet!BB$50,#REF!,0),MATCH(N55,#REF!,0))","v":{"$error":"#REF!"}},{"$f":"INDEX(#REF!,MATCH(計算sheet!BC$50,#REF!,0),MATCH(N55,#REF!,0))","v":{"$error":"#REF!"}},{"$f":"INDEX(#REF!,MATCH(計算sheet!BD$50,#REF!,0),MATCH(N55,#REF!,0))","v":{"$error":"#REF!"}},100000,{"$f":"INDEX(#REF!,MATCH(計算sheet!BF$50,#REF!,0),MATCH(N55,#REF!,0))","v":{"$error":"#REF!"}},{"$error":"#REF!"},{"$f":"INDEX(#REF!,MATCH(計算sheet!BH$50,#REF!,0),MATCH(N55,#REF!,0))","v":{"$error":"#REF!"}},{"$error":"#REF!"},null,null,null,null,{"$f":"INDEX(#REF!,MATCH(計算sheet!BN$50,#REF!,0),MATCH(N55,#REF!,0))","v":{"$error":"#REF!"}},{"$f":"INDEX(#REF!,MATCH(計算sheet!BO$50,#REF!,0),MATCH(N55,#REF!,0))","v":{"$error":"#REF!"}},{"$f":"INDEX(#REF!,MATCH(計算sheet!BP$50,#REF!,0),MATCH(N55,#REF!,0))","v":{"$error":"#REF!"}},{"$f":"INDEX(#REF!,MATCH(計算sheet!BQ$50,#REF!,0),MATCH(N55,#REF!,0))","v":{"$error":"#REF!"}},{"$f":"INDEX(#REF!,MATCH(計算sheet!BR$50,#REF!,0),MATCH(N55,#REF!,0))","v":{"$error":"#REF!"}},{"$f":"INDEX(#REF!,MATCH(計算sheet!BS$50,#REF!,0),MATCH(N55,#REF!,0))","v":{"$error":"#REF!"}},{"$f":"INDEX(#REF!,MATCH(計算sheet!BT$50,#REF!,0),MATCH(N55,#REF!,0))","v":{"$error":"#REF!"}},{"$error":"#REF!"},null,{"$f":"INDEX(#REF!,MATCH(計算sheet!BW$50,#REF!,0),MATCH(N55,#REF!,0))","v":{"$error":"#REF!"}},{"$f":"INDEX(#REF!,MATCH(計算sheet!BX$50,#REF!,0),MATCH(N55,#REF!,0))","v":{"$error":"#REF!"}},{"$f":"INDEX(#REF!,MATCH(計算sheet!BY$50,#REF!,0),MATCH(N55,#REF!,0))","v":{"$error":"#REF!"}},{"$f":"INDEX(#REF!,MATCH(計算sheet!BZ$50,#REF!,0),MATCH(N55,#REF!,0))","v":{"$error":"#REF!"}},{"$f":"INDEX(#REF!,MATCH(計算sheet!CA$50,#REF!,0),MATCH(N55,#REF!,0))","v":{"$error":"#REF!"}},{"$f":"INDEX(#REF!,MATCH(計算sheet!CB$50,#REF!,0),MATCH(N55,#REF!,0))","v":{"$error":"#REF!"}},{"$f":"INDEX(#REF!,MATCH(計算sheet!CC$50,#REF!,0),MATCH(N55,#REF!,0))","v":{"$error":"#REF!"}},{"$error":"#REF!"},null,{"$f":"(INDEX(#REF!,MATCH(計算sheet!$CF$50,#REF!,0),MATCH(N55,#REF!,0)))/1000","v":{"$error":"#REF!"}},null,null,null,{"$error":"#REF!"},null,{"$error":"#REF!"},null,{"$error":"#REF!"},null,{"$error":"#REF!"},null,null,{"$error":"#REF!"},null,null,null,null,null,{"$f":"INDEX(#REF!,MATCH(計算sheet!$CY$50,#REF!,0),MATCH(N55,#REF!,0))","v":{"$error":"#REF!"}},null,{"$error":"#REF!"},{"$error":"#REF!"},{"$error":"#REF!"},{"$error":"#REF!"},{"$error":"#REF!"},{"$error":"#REF!"},{"$error":"#REF!"},{"$error":"#REF!"},{"$error":"#REF!"},{"$error":"#REF!"},{"$error":"#REF!"},{"$error":"#REF!"},{"$error":"#REF!"},{"$error":"#REF!"},{"$error":"#REF!"},{"$error":"#REF!"},null,{"$error":"#REF!"},{"$error":"#REF!"},{"$error":"#REF!"}]
[null,null,null,null,null,null,null,null,null,null,null,null,null,{"$f":"'DCDC Ref'!N56","v":"ETQP4M6R8KVC"},null,null,null,null,null,{"$f":"INDEX(#REF!,MATCH(N56,#REF!,0))","v":{"$error":"#REF!"}},null,null,null,{"$error":"#REF!"},{"$error":"#REF!"},{"$error":"#REF!"},null,null,null,{"$error":"#REF!"},{"$error":"#REF!"},{"$error":"#REF!"},null,null,null,{"$error":"#REF!"},{"$error":"#REF!"},{"$error":"#REF!"},null,null,null,{"$error":"#REF!"},{"$error":"#REF!"},{"$error":"#REF!"},null,null,null,null,null,{"$f":"INDEX(#REF!,MATCH(計算sheet!AX$50,#REF!,0),MATCH(N56,#REF!,0))","v":{"$error":"#REF!"}},{"$f":"INDEX(#REF!,MATCH(計算sheet!AY$50,#REF!,0),MATCH(N56,#REF!,0))","v":{"$error":"#REF!"}},{"$f":"INDEX(#REF!,MATCH(計算sheet!AZ$50,#REF!,0),MATCH(N56,#REF!,0))","v":{"$error":"#REF!"}},{"$f":"INDEX(#REF!,MATCH(計算sheet!BA$50,#REF!,0),MATCH(N56,#REF!,0))","v":{"$error":"#REF!"}},{"$f":"INDEX(#REF!,MATCH(計算sheet!BB$50,#REF!,0),MATCH(N56,#REF!,0))","v":{"$error":"#REF!"}},{"$f":"INDEX(#REF!,MATCH(計算sheet!BC$50,#REF!,0),MATCH(N56,#REF!,0))","v":{"$error":"#REF!"}},{"$f":"INDEX(#REF!,MATCH(計算sheet!BD$50,#REF!,0),MATCH(N56,#REF!,0))","v":{"$error":"#REF!"}},100000,{"$f":"INDEX(#REF!,MATCH(計算sheet!BF$50,#REF!,0),MATCH(N56,#REF!,0))","v":{"$error":"#REF!"}},{"$error":"#REF!"},{"$f":"INDEX(#REF!,MATCH(計算sheet!BH$50,#REF!,0),MATCH(N56,#REF!,0))","v":{"$error":"#REF!"}},{"$error":"#REF!"},null,null,null,null,{"$f":"INDEX(#REF!,MATCH(計算sheet!BN$50,#REF!,0),MATCH(N56,#REF!,0))","v":{"$error":"#REF!"}},{"$f":"INDEX(#REF!,MATCH(計算sheet!BO$50,#REF!,0),MATCH(N56,#REF!,0))","v":{"$error":"#REF!"}},{"$f":"INDEX(#REF!,MATCH(計算sheet!BP$50,#REF!,0),MATCH(N56,#REF!,0))","v":{"$error":"#REF!"}},{"$f":"INDEX(#REF!,MATCH(計算sheet!BQ$50,#REF!,0),MATCH(N56,#REF!,0))","v":{"$error":"#REF!"}},{"$f":"INDEX(#REF!,MATCH(計算sheet!BR$50,#REF!,0),MATCH(N56,#REF!,0))","v":{"$error":"#REF!"}},{"$f":"INDEX(#REF!,MATCH(計算sheet!BS$50,#REF!,0),MATCH(N56,#REF!,0))","v":{"$error":"#REF!"}},{"$f":"INDEX(#REF!,MATCH(計算sheet!BT$50,#REF!,0),MATCH(N56,#REF!,0))","v":{"$error":"#REF!"}},{"$error":"#REF!"},null,{"$f":"INDEX(#REF!,MATCH(計算sheet!BW$50,#REF!,0),MATCH(N56,#REF!,0))","v":{"$error":"#REF!"}},{"$f":"INDEX(#REF!,MATCH(計算sheet!BX$50,#REF!,0),MATCH(N56,#REF!,0))","v":{"$error":"#REF!"}},{"$f":"INDEX(#REF!,MATCH(計算sheet!BY$50,#REF!,0),MATCH(N56,#REF!,0))","v":{"$error":"#REF!"}},{"$f":"INDEX(#REF!,MATCH(計算sheet!BZ$50,#REF!,0),MATCH(N56,#REF!,0))","v":{"$error":"#REF!"}},{"$f":"INDEX(#REF!,MATCH(計算sheet!CA$50,#REF!,0),MATCH(N56,#REF!,0))","v":{"$error":"#REF!"}},{"$f":"INDEX(#REF!,MATCH(計算sheet!CB$50,#REF!,0),MATCH(N56,#REF!,0))","v":{"$error":"#REF!"}},{"$f":"INDEX(#REF!,MATCH(計算sheet!CC$50,#REF!,0),MATCH(N56,#REF!,0))","v":{"$error":"#REF!"}},{"$error":"#REF!"},null,{"$f":"(INDEX(#REF!,MATCH(計算sheet!$CF$50,#REF!,0),MATCH(N56,#REF!,0)))/1000","v":{"$error":"#REF!"}},null,null,null,{"$error":"#REF!"},null,{"$error":"#REF!"},null,{"$error":"#REF!"},null,{"$error":"#REF!"},null,null,{"$error":"#REF!"},null,null,null,null,null,{"$f":"INDEX(#REF!,MATCH(計算sheet!$CY$50,#REF!,0),MATCH(N56,#REF!,0))","v":{"$error":"#REF!"}},null,{"$error":"#REF!"},{"$error":"#REF!"},{"$error":"#REF!"},{"$error":"#REF!"},{"$error":"#REF!"},{"$error":"#REF!"},{"$error":"#REF!"},{"$error":"#REF!"},{"$error":"#REF!"},{"$error":"#REF!"},{"$error":"#REF!"},{"$error":"#REF!"},{"$error":"#REF!"},{"$error":"#REF!"},{"$error":"#REF!"},{"$error":"#REF!"},null,{"$error":"#REF!"},{"$error":"#REF!"},{"$error":"#REF!"}]
[null,null,null,null,null,null,null,null,null,null,null,null,null,{"$f":"'DCDC Ref'!N57","v":"ETQP4M6R8KFN"},null,null,null,null,null,{"$f":"INDEX(#REF!,MATCH(N57,#REF!,0))","v":{"$error":"#REF!"}},null,null,null,{"$error":"#REF!"},{"$error":"#REF!"},{"$error":"#REF!"},null,null,null,{"$error":"#REF!"},{"$error":"#REF!"},{"$error":"#REF!"},null,null,null,{"$error":"#REF!"},{"$error":"#REF!"},{"$error":"#REF!"},null,null,null,{"$error":"#REF!"},{"$error":"#REF!"},{"$error":"#REF!"},null,null,null,null,null,{"$f":"INDEX(#REF!,MATCH(計算sheet!AX$50,#REF!,0),MATCH(N57,#REF!,0))","v":{"$error":"#REF!"}},{"$f":"INDEX(#REF!,MATCH(計算sheet!AY$50,#REF!,0),MATCH(N57,#REF!,0))","v":{"$error":"#REF!"}},{"$f":"INDEX(#REF!,MATCH(計算sheet!AZ$50,#REF!,0),MATCH(N57,#REF!,0))","v":{"$error":"#REF!"}},{"$f":"INDEX(#REF!,MATCH(計算sheet!BA$50,#REF!,0),MATCH(N57,#REF!,0))","v":{"$error":"#REF!"}},{"$f":"INDEX(#REF!,MATCH(計算sheet!BB$50,#REF!,0),MATCH(N57,#REF!,0))","v":{"$error":"#REF!"}},{"$f":"INDEX(#REF!,MATCH(計算sheet!BC$50,#REF!,0),MATCH(N57,#REF!,0))","v":{"$error":"#REF!"}},{"$f":"INDEX(#REF!,MATCH(計算sheet!BD$50,#REF!,0),MATCH(N57,#REF!,0))","v":{"$error":"#REF!"}},100000,{"$f":"INDEX(#REF!,MATCH(計算sheet!BF$50,#REF!,0),MATCH(N57,#REF!,0))","v":{"$error":"#REF!"}},{"$error":"#REF!"},{"$f":"INDEX(#REF!,MATCH(計算sheet!BH$50,#REF!,0),MATCH(N57,#REF!,0))","v":{"$error":"#REF!"}},{"$error":"#REF!"},null,null,null,null,{"$f":"INDEX(#REF!,MATCH(計算sheet!BN$50,#REF!,0),MATCH(N57,#REF!,0))","v":{"$error":"#REF!"}},{"$f":"INDEX(#REF!,MATCH(計算sheet!BO$50,#REF!,0),MATCH(N57,#REF!,0))","v":{"$error":"#REF!"}},{"$f":"INDEX(#REF!,MATCH(計算sheet!BP$50,#REF!,0),MATCH(N57,#REF!,0))","v":{"$error":"#REF!"}},{"$f":"INDEX(#REF!,MATCH(計算sheet!BQ$50,#REF!,0),MATCH(N57,#REF!,0))","v":{"$error":"#REF!"}},{"$f":"INDEX(#REF!,MATCH(計算sheet!BR$50,#REF!,0),MATCH(N57,#REF!,0))","v":{"$error":"#REF!"}},{"$f":"INDEX(#REF!,MATCH(計算sheet!BS$50,#REF!,0),MATCH(N57,#REF!,0))","v":{"$error":"#REF!"}},{"$f":"INDEX(#REF!,MATCH(計算sheet!BT$50,#REF!,0),MATCH(N57,#REF!,0))","v":{"$error":"#REF!"}},{"$error":"#REF!"},null,{"$f":"INDEX(#REF!,MATCH(計算sheet!BW$50,#REF!,0),MATCH(N57,#REF!,0))","v":{"$error":"#REF!"}},{"$f":"INDEX(#REF!,MATCH(計算sheet!BX$50,#REF!,0),MATCH(N57,#REF!,0))","v":{"$error":"#REF!"}},{"$f":"INDEX(#REF!,MATCH(計算sheet!BY$50,#REF!,0),MATCH(N57,#REF!,0))","v":{"$error":"#REF!"}},{"$f":"INDEX(#REF!,MATCH(計算sheet!BZ$50,#REF!,0),MATCH(N57,#REF!,0))","v":{"$error":"#REF!"}},{"$f":"INDEX(#REF!,MATCH(計算sheet!CA$50,#REF!,0),MATCH(N57,#REF!,0))","v":{"$error":"#REF!"}},{"$f":"INDEX(#REF!,MATCH(計算sheet!CB$50,#REF!,0),MATCH(N57,#REF!,0))","v":{"$error":"#REF!"}},{"$f":"INDEX(#REF!,MATCH(計算sheet!CC$50,#REF!,0),MATCH(N57,#REF!,0))","v":{"$error":"#REF!"}},{"$error":"#REF!"},null,{"$f":"(INDEX(#REF!,MATCH(計算sheet!$CF$50,#REF!,0),MATCH(N57,#REF!,0)))/1000","v":{"$error":"#REF!"}},null,null,null,{"$error":"#REF!"},null,{"$error":"#REF!"},null,{"$error":"#REF!"},null,{"$error":"#REF!"},null,null,{"$error":"#REF!"},null,null,null,null,null,{"$f":"INDEX(#REF!,MATCH(計算sheet!$CY$50,#REF!,0),MATCH(N57,#REF!,0))","v":{"$error":"#REF!"}},null,{"$error":"#REF!"},{"$error":"#REF!"},{"$error":"#REF!"},{"$error":"#REF!"},{"$error":"#REF!"},{"$error":"#REF!"},{"$error":"#REF!"},{"$error":"#REF!"},{"$error":"#REF!"},{"$error":"#REF!"},{"$error":"#REF!"},{"$error":"#REF!"},{"$error":"#REF!"},{"$error":"#REF!"},{"$error":"#REF!"},{"$error":"#REF!"},null,{"$error":"#REF!"},{"$error":"#REF!"},{"$error":"#REF!"}]
[null,null,null,null,null,null,null,null,null,null,null,null,null,{"$f":"'DCDC Ref'!N58","v":"ETQP6M4R7YLC"},null,null,null,null,null,{"$f":"INDEX(#REF!,MATCH(N58,#REF!,0))","v":{"$error":"#REF!"}},null,null,null,{"$error":"#REF!"},{"$error":"#REF!"},{"$error":"#REF!"},null,null,null,{"$error":"#REF!"},{"$error":"#REF!"},{"$error":"#REF!"},null,null,null,{"$error":"#REF!"},{"$error":"#REF!"},{"$error":"#REF!"},null,null,null,{"$error":"#REF!"},{"$error":"#REF!"},{"$error":"#REF!"},null,null,null,null,null,{"$f":"INDEX(#REF!,MATCH(計算sheet!AX$50,#REF!,0),MATCH(N58,#REF!,0))","v":{"$error":"#REF!"}},{"$f":"INDEX(#REF!,MATCH(計算sheet!AY$50,#REF!,0),MATCH(N58,#REF!,0))","v":{"$error":"#REF!"}},{"$f":"INDEX(#REF!,MATCH(計算sheet!AZ$50,#REF!,0),MATCH(N58,#REF!,0))","v":{"$error":"#REF!"}},{"$f":"INDEX(#REF!,MATCH(計算sheet!BA$50,#REF!,0),MATCH(N58,#REF!,0))","v":{"$error":"#REF!"}},{"$f":"INDEX(#REF!,MATCH(計算sheet!BB$50,#REF!,0),MATCH(N58,#REF!,0))","v":{"$error":"#REF!"}},{"$f":"INDEX(#REF!,MATCH(計算sheet!BC$50,#REF!,0),MATCH(N58,#REF!,0))","v":{"$error":"#REF!"}},{"$f":"INDEX(#REF!,MATCH(計算sheet!BD$50,#REF!,0),MATCH(N58,#REF!,0))","v":{"$error":"#REF!"}},100000,{"$f":"INDEX(#REF!,MATCH(計算sheet!BF$50,#REF!,0),MATCH(N58,#REF!,0))","v":{"$error":"#REF!"}},{"$error":"#REF!"},{"$f":"INDEX(#REF!,MATCH(計算sheet!BH$50,#REF!,0),MATCH(N58,#REF!,0))","v":{"$error":"#REF!"}},{"$error":"#REF!"},null,null,null,null,{"$f":"INDEX(#REF!,MATCH(計算sheet!BN$50,#REF!,0),MATCH(N58,#REF!,0))","v":{"$error":"#REF!"}},{"$f":"INDEX(#REF!,MATCH(計算sheet!BO$50,#REF!,0),MATCH(N58,#REF!,0))","v":{"$error":"#REF!"}},{"$f":"INDEX(#REF!,MATCH(計算sheet!BP$50,#REF!,0),MATCH(N58,#REF!,0))","v":{"$error":"#REF!"}},{"$f":"INDEX(#REF!,MATCH(計算sheet!BQ$50,#REF!,0),MATCH(N58,#REF!,0))","v":{"$error":"#REF!"}},{"$f":"INDEX(#REF!,MATCH(計算sheet!BR$50,#REF!,0),MATCH(N58,#REF!,0))","v":{"$error":"#REF!"}},{"$f":"INDEX(#REF!,MATCH(計算sheet!BS$50,#REF!,0),MATCH(N58,#REF!,0))","v":{"$error":"#REF!"}},{"$f":"INDEX(#REF!,MATCH(計算sheet!BT$50,#REF!,0),MATCH(N58,#REF!,0))","v":{"$error":"#REF!"}},{"$error":"#REF!"},null,{"$f":"INDEX(#REF!,MATCH(計算sheet!BW$50,#REF!,0),MATCH(N58,#REF!,0))","v":{"$error":"#REF!"}},{"$f":"INDEX(#REF!,MATCH(計算sheet!BX$50,#REF!,0),MATCH(N58,#REF!,0))","v":{"$error":"#REF!"}},{"$f":"INDEX(#REF!,MATCH(計算sheet!BY$50,#REF!,0),MATCH(N58,#REF!,0))","v":{"$error":"#REF!"}},{"$f":"INDEX(#REF!,MATCH(計算sheet!BZ$50,#REF!,0),MATCH(N58,#REF!,0))","v":{"$error":"#REF!"}},{"$f":"INDEX(#REF!,MATCH(計算sheet!CA$50,#REF!,0),MATCH(N58,#REF!,0))","v":{"$error":"#REF!"}},{"$f":"INDEX(#REF!,MATCH(計算sheet!CB$50,#REF!,0),MATCH(N58,#REF!,0))","v":{"$error":"#REF!"}},{"$f":"INDEX(#REF!,MATCH(計算sheet!CC$50,#REF!,0),MATCH(N58,#REF!,0))","v":{"$error":"#REF!"}},{"$error":"#REF!"},null,{"$f":"(INDEX(#REF!,MATCH(計算sheet!$CF$50,#REF!,0),MATCH(N58,#REF!,0)))/1000","v":{"$error":"#REF!"}},null,null,null,{"$error":"#REF!"},null,{"$error":"#REF!"},null,{"$error":"#REF!"},null,{"$error":"#REF!"},null,null,{"$error":"#REF!"},null,null,null,null,null,{"$f":"INDEX(#REF!,MATCH(計算sheet!$CY$50,#REF!,0),MATCH(N58,#REF!,0))","v":{"$error":"#REF!"}},null,{"$error":"#REF!"},{"$error":"#REF!"},{"$error":"#REF!"},{"$error":"#REF!"},{"$error":"#REF!"},{"$error":"#REF!"},{"$error":"#REF!"},{"$error":"#REF!"},{"$error":"#REF!"},{"$error":"#REF!"},{"$error":"#REF!"},{"$error":"#REF!"},{"$error":"#REF!"},{"$error":"#REF!"},{"$error":"#REF!"},{"$error":"#REF!"},null,{"$error":"#REF!"},{"$error":"#REF!"},{"$error":"#REF!"}]
[null,null,null,null,null,null,null,null,null,null,null,null,null,{"$f":"'DCDC Ref'!N59","v":"ETQP8M4R7JFA"},null,null,null,null,null,{"$f":"INDEX(#REF!,MATCH(N59,#REF!,0))","v":{"$error":"#REF!"}},null,null,null,{"$error":"#REF!"},{"$error":"#REF!"},{"$error":"#REF!"},null,null,null,{"$error":"#REF!"},{"$error":"#REF!"},{"$error":"#REF!"},null,null,null,{"$error":"#REF!"},{"$error":"#REF!"},{"$error":"#REF!"},null,null,null,{"$error":"#REF!"},{"$error":"#REF!"},{"$error":"#REF!"},null,null,null,null,null,{"$f":"INDEX(#REF!,MATCH(計算sheet!AX$50,#REF!,0),MATCH(N59,#REF!,0))","v":{"$error":"#REF!"}},{"$f":"INDEX(#REF!,MATCH(計算sheet!AY$50,#REF!,0),MATCH(N59,#REF!,0))","v":{"$error":"#REF!"}},{"$f":"INDEX(#REF!,MATCH(計算sheet!AZ$50,#REF!,0),MATCH(N59,#REF!,0))","v":{"$error":"#REF!"}},{"$f":"INDEX(#REF!,MATCH(計算sheet!BA$50,#REF!,0),MATCH(N59,#REF!,0))","v":{"$error":"#REF!"}},{"$f":"INDEX(#REF!,MATCH(計算sheet!BB$50,#REF!,0),MATCH(N59,#REF!,0))","v":{"$error":"#REF!"}},{"$f":"INDEX(#REF!,MATCH(計算sheet!BC$50,#REF!,0),MATCH(N59,#REF!,0))","v":{"$error":"#REF!"}},{"$f":"INDEX(#REF!,MATCH(計算sheet!BD$50,#REF!,0),MATCH(N59,#REF!,0))","v":{"$error":"#REF!"}},100000,{"$f":"INDEX(#REF!,MATCH(計算sheet!BF$50,#REF!,0),MATCH(N59,#REF!,0))","v":{"$error":"#REF!"}},{"$error":"#REF!"},{"$f":"INDEX(#REF!,MATCH(計算sheet!BH$50,#REF!,0),MATCH(N59,#REF!,0))","v":{"$error":"#REF!"}},{"$error":"#REF!"},null,null,null,null,{"$f":"INDEX(#REF!,MATCH(計算sheet!BN$50,#REF!,0),MATCH(N59,#REF!,0))","v":{"$error":"#REF!"}},{"$f":"INDEX(#REF!,MATCH(計算sheet!BO$50,#REF!,0),MATCH(N59,#REF!,0))","v":{"$error":"#REF!"}},{"$f":"INDEX(#REF!,MATCH(計算sheet!BP$50,#REF!,0),MATCH(N59,#REF!,0))","v":{"$error":"#REF!"}},{"$f":"INDEX(#REF!,MATCH(計算sheet!BQ$50,#REF!,0),MATCH(N59,#REF!,0))","v":{"$error":"#REF!"}},{"$f":"INDEX(#REF!,MATCH(計算sheet!BR$50,#REF!,0),MATCH(N59,#REF!,0))","v":{"$error":"#REF!"}},{"$f":"INDEX(#REF!,MATCH(計算sheet!BS$50,#REF!,0),MATCH(N59,#REF!,0))","v":{"$error":"#REF!"}},{"$f":"INDEX(#REF!,MATCH(計算sheet!BT$50,#REF!,0),MATCH(N59,#REF!,0))","v":{"$error":"#REF!"}},{"$error":"#REF!"},null,{"$f":"INDEX(#REF!,MATCH(計算sheet!BW$50,#REF!,0),MATCH(N59,#REF!,0))","v":{"$error":"#REF!"}},{"$f":"INDEX(#REF!,MATCH(計算sheet!BX$50,#REF!,0),MATCH(N59,#REF!,0))","v":{"$error":"#REF!"}},{"$f":"INDEX(#REF!,MATCH(計算sheet!BY$50,#REF!,0),MATCH(N59,#REF!,0))","v":{"$error":"#REF!"}},{"$f":"INDEX(#REF!,MATCH(計算sheet!BZ$50,#REF!,0),MATCH(N59,#REF!,0))","v":{"$error":"#REF!"}},{"$f":"INDEX(#REF!,MATCH(計算sheet!CA$50,#REF!,0),MATCH(N59,#REF!,0))","v":{"$error":"#REF!"}},{"$f":"INDEX(#REF!,MATCH(計算sheet!CB$50,#REF!,0),MATCH(N59,#REF!,0))","v":{"$error":"#REF!"}},{"$f":"INDEX(#REF!,MATCH(計算sheet!CC$50,#REF!,0),MATCH(N59,#REF!,0))","v":{"$error":"#REF!"}},{"$error":"#REF!"},null,{"$f":"(INDEX(#REF!,MATCH(計算sheet!$CF$50,#REF!,0),MATCH(N59,#REF!,0)))/1000","v":{"$error":"#REF!"}},null,null,null,{"$error":"#REF!"},null,{"$error":"#REF!"},null,{"$error":"#REF!"},null,{"$error":"#REF!"},null,null,{"$error":"#REF!"},null,null,null,null,null,{"$f":"INDEX(#REF!,MATCH(計算sheet!$CY$50,#REF!,0),MATCH(N59,#REF!,0))","v":{"$error":"#REF!"}},null,{"$error":"#REF!"},{"$error":"#REF!"},{"$error":"#REF!"},{"$error":"#REF!"},{"$error":"#REF!"},{"$error":"#REF!"},{"$error":"#REF!"},{"$error":"#REF!"},{"$error":"#REF!"},{"$error":"#REF!"},{"$error":"#REF!"},{"$error":"#REF!"},{"$error":"#REF!"},{"$error":"#REF!"},{"$error":"#REF!"},{"$error":"#REF!"},null,{"$error":"#REF!"},{"$error":"#REF!"},{"$error":"#REF!"}]
[null,null,null,null,null,null,null,null,null,null,null,null,null,{"$f":"'DCDC Ref'!N60","v":"ETQPAM4R7JFW"},null,null,null,null,null,{"$f":"INDEX(#REF!,MATCH(N60,#REF!,0))","v":{"$error":"#REF!"}},null,null,null,{"$error":"#REF!"},{"$error":"#REF!"},{"$error":"#REF!"},null,null,null,{"$error":"#REF!"},{"$error":"#REF!"},{"$error":"#REF!"},null,null,null,{"$error":"#REF!"},{"$error":"#REF!"},{"$error":"#REF!"},null,null,null,{"$error":"#REF!"},{"$error":"#REF!"},{"$error":"#REF!"},null,null,null,null,null,{"$f":"INDEX(#REF!,MATCH(計算sheet!AX$50,#REF!,0),MATCH(N60,#REF!,0))","v":{"$error":"#REF!"}},{"$f":"INDEX(#REF!,MATCH(計算sheet!AY$50,#REF!,0),MATCH(N60,#REF!,0))","v":{"$error":"#REF!"}},{"$f":"INDEX(#REF!,MATCH(計算sheet!AZ$50,#REF!,0),MATCH(N60,#REF!,0))","v":{"$error":"#REF!"}},{"$f":"INDEX(#REF!,MATCH(計算sheet!BA$50,#REF!,0),MATCH(N60,#REF!,0))","v":{"$error":"#REF!"}},{"$f":"INDEX(#REF!,MATCH(計算sheet!BB$50,#REF!,0),MATCH(N60,#REF!,0))","v":{"$error":"#REF!"}},{"$f":"INDEX(#REF!,MATCH(計算sheet!BC$50,#REF!,0),MATCH(N60,#REF!,0))","v":{"$error":"#REF!"}},{"$f":"INDEX(#REF!,MATCH(計算sheet!BD$50,#REF!,0),MATCH(N60,#REF!,0))","v":{"$error":"#REF!"}},100000,{"$f":"INDEX(#REF!,MATCH(計算sheet!BF$50,#REF!,0),MATCH(N60,#REF!,0))","v":{"$error":"#REF!"}},{"$error":"#REF!"},{"$f":"INDEX(#REF!,MATCH(計算sheet!BH$50,#REF!,0),MATCH(N60,#REF!,0))","v":{"$error":"#REF!"}},{"$error":"#REF!"},null,null,null,null,{"$f":"INDEX(#REF!,MATCH(計算sheet!BN$50,#REF!,0),MATCH(N60,#REF!,0))","v":{"$error":"#REF!"}},{"$f":"INDEX(#REF!,MATCH(計算sheet!BO$50,#REF!,0),MATCH(N60,#REF!,0))","v":{"$error":"#REF!"}},{"$f":"INDEX(#REF!,MATCH(計算sheet!BP$50,#REF!,0),MATCH(N60,#REF!,0))","v":{"$error":"#REF!"}},{"$f":"INDEX(#REF!,MATCH(計算sheet!BQ$50,#REF!,0),MATCH(N60,#REF!,0))","v":{"$error":"#REF!"}},{"$f":"INDEX(#REF!,MATCH(計算sheet!BR$50,#REF!,0),MATCH(N60,#REF!,0))","v":{"$error":"#REF!"}},{"$f":"INDEX(#REF!,MATCH(計算sheet!BS$50,#REF!,0),MATCH(N60,#REF!,0))","v":{"$error":"#REF!"}},{"$f":"INDEX(#REF!,MATCH(計算sheet!BT$50,#REF!,0),MATCH(N60,#REF!,0))","v":{"$error":"#REF!"}},{"$error":"#REF!"},null,{"$f":"INDEX(#REF!,MATCH(計算sheet!BW$50,#REF!,0),MATCH(N60,#REF!,0))","v":{"$error":"#REF!"}},{"$f":"INDEX(#REF!,MATCH(計算sheet!BX$50,#REF!,0),MATCH(N60,#REF!,0))","v":{"$error":"#REF!"}},{"$f":"INDEX(#REF!,MATCH(計算sheet!BY$50,#REF!,0),MATCH(N60,#REF!,0))","v":{"$error":"#REF!"}},{"$f":"INDEX(#REF!,MATCH(計算sheet!BZ$50,#REF!,0),MATCH(N60,#REF!,0))","v":{"$error":"#REF!"}},{"$f":"INDEX(#REF!,MATCH(計算sheet!CA$50,#REF!,0),MATCH(N60,#REF!,0))","v":{"$error":"#REF!"}},{"$f":"INDEX(#REF!,MATCH(計算sheet!CB$50,#REF!,0),MATCH(N60,#REF!,0))","v":{"$error":"#REF!"}},{"$f":"INDEX(#REF!,MATCH(計算sheet!CC$50,#REF!,0),MATCH(N60,#REF!,0))","v":{"$error":"#REF!"}},{"$f":"BW60*$BL$51^6+BX60*$BL$51^5+BY60*$BL$51^4+BZ60*$BL$51^3+CA60*$BL$51^2+CB60*$BL$51+CC60","v":{"$error":"#REF!"}},null,{"$f":"(INDEX(#REF!,MATCH(計算sheet!$CF$50,#REF!,0),MATCH(N60,#REF!,0)))/1000","v":{"$error":"#REF!"}},null,null,null,{"$error":"#REF!"},null,{"$error":"#REF!"},null,{"$error":"#REF!"},null,{"$error":"#REF!"},null,null,{"$error":"#REF!"},null,null,null,null,null,{"$f":"INDEX(#REF!,MATCH(計算sheet!$CY$50,#REF!,0),MATCH(N60,#REF!,0))","v":{"$error":"#REF!"}},null,{"$error":"#REF!"},{"$error":"#REF!"},{"$error":"#REF!"},{"$error":"#REF!"},{"$error":"#REF!"},{"$error":"#REF!"},{"$error":"#REF!"},{"$error":"#REF!"},{"$error":"#REF!"},{"$error":"#REF!"},{"$error":"#REF!"},{"$error":"#REF!"},{"$error":"#REF!"},{"$error":"#REF!"},{"$error":"#REF!"},{"$error":"#REF!"},null,{"$error":"#REF!"},{"$error":"#REF!"},{"$error":"#REF!"}]

{"sheet":"Wav","index":8,"n_rows":404,"n_cols":17,"rows_kept":404,"cut":false,"hidden":true,"merged":[]}
["リプル電圧波形.xlsm",null,null,null,null,null,null,null,null,null,null,null,null,"ﾘﾌﾟﾙ電流"]
["三角波の場合(充電を＋)",null,null,null,null,null,null,null,null,null,null,null,"時間(μs)","(A)",null,"s","Vin"]
[null,null,null,null,null,null,null,null,null,null,{"$f":"IF($B$25=\"Buck\",$B$34/(2*$B$36)*M3,-$B$34/(2*$B$36)*M3)","v":0},0,0,{"$f":"IF($B$25=\"Buck\",$B$34/($B$33/($B$29*10^3)*10^6)*M3-$B$34/2,-$B$34/($B$33/($B$29*10^3)*10^6)*M3+$B$34/2)","v":-2.3076923076923079},null,0,{"$f":"'DCDC Ref'!J21","v":12}]
["I",null,null,null,null,null,"この電流波形は",null,null,null,null,{"$f":"L3+1","v":1},{"$f":"$B$33/($B$29*10^3)*10^6/100+M3","v":4.1666666666666671E-2},{"$f":"IF($B$25=\"Buck\",$B$34/($B$33/($B$29*10^3)*10^6)*M4-$B$34/2,-$B$34/($B$33/($B$29*10^3)*10^6)*M4+$B$34/2)","v":-2.2615384615384619},null,1,{"$f":"'DCDC Ref'!J21","v":12}]
[null,null,null,null,null,null,"Buckの出力側",null,null,null,null,{"$f":"L4+1","v":2},{"$f":"$B$33/($B$29*10^3)*10^6/100+M4","v":8.3333333333333343E-2},-2.2153846153846155]
[null,null,null,null,null,null,"Boostの入力側",null,null,null,null,3,0.125,-2.1692307692307695,null,"s","Vout"]
[null,null,null,null,null,null,"の連続ﾓｰﾄﾞに適用される。",null,null,null,null,4,0.16666666666666669,-2.1230769230769231,null,0,{"$f":"'DCDC Ref'!J22","v":5}]
[null,null,null,null,null,null,"入力側は上下逆さまの波形となる。",null,null,null,null,5,0.20833333333333337,-2.0769230769230771,null,1,{"$f":"'DCDC Ref'!J22","v":5}]
[null,null,null,null,null,null,null,null,null,null,null,6,0.25000000000000006,-2.0307692307692311]
["  各回路方式でのΔILは以下の通り",null,null,null,null,null,null,null,null,null,null,7,0.29166666666666674,-1.9846153846153847]
["    Vin：入力電圧、Vout：出力電圧、L：ｲﾝﾀﾞｸﾀﾝｽ値、fosc：ｽｲｯﾁﾝｸﾞ周波数",null,null,null,null,null,null,null,null,null,null,8,0.33333333333333343,-1.9384615384615387]
["  Buck回路",null,null,null,null,null,null,null,null,null,null,9,0.37500000000000011,-1.8923076923076925]
[null,null,null,null,null,null,null,null,null,null,null,10,0.4166666666666668,-1.8461538461538463]
[null,null,null,null,null,null,null,null,null,null,null,11,0.45833333333333348,-1.8]
[null,null,null,null,null,null,null,null,null,null,null,12,0.50000000000000011,-1.7538461538461538]
["  Boost回路",null,null,null,null,null,null,null,null,null,null,13,0.54166666666666674,-1.7076923076923078]
[null,null,null,null,null,null,null,null,null,null,null,14,0.58333333333333337,-1.6615384615384619]
[null,null,null,null,null,null,null,null,null,null,null,15,0.625,-1.6153846153846156]
[null,null,null,null,null,null,null,null,null,null,null,16,0.66666666666666663,-1.5692307692307694]
[null,null,null,null,null,null,null,null,null,null,null,17,0.70833333333333326,-1.5230769230769234]
[null,null,null,null,null,null,null,null,null,null,null,18,0.74999999999999989,-1.4769230769230772]
[null,null,null,null,null,null,null,null,null,null,null,19,0.79166666666666652,-1.430769230769231]
[null,null,null,null,null,null,null,null,null,null,null,20,0.83333333333333315,-1.384615384615385]
[null,null,null,null,null,null,null,null,null,null,null,21,0.87499999999999978,-1.338461538461539]
["回路方式",{"$f":"'DCDC Ref'!J23","v":"Buck"},null,null,null,null,null,null,null,null,null,22,0.91666666666666641,-1.2923076923076928]
["Vin：",{"$f":"'DCDC Ref'!J21","v":12},"V",null,null,null,null,null,null,null,null,23,0.95833333333333304,-1.2461538461538466]
["Vout：",{"$f":"'DCDC Ref'!J22","v":5},"V",null,null,null,null,null,null,null,null,24,0.99999999999999967,-1.2000000000000006]
["Total L：",{"$f":"'DCDC Ref'!J30","v":6.3194444444444446},"μH",null,null,null,null,null,null,null,null,25,1.0416666666666663,-1.1538461538461544]
["fosc：",{"$f":"'DCDC Ref'!J25","v":100},"KHz",null,null,null,null,null,null,null,null,26,1.083333333333333,-1.1076923076923082]
["Io：",{"$f":"'DCDC Ref'!J24","v":20},"A",null,null,null,null,null,null,null,null,27,1.1249999999999998,-1.061538461538462]
[null,null,null,null,null,null,null,null,null,null,null,28,1.1666666666666665,-1.0153846153846158]
[null,null,null,null,null,null,null,null,null,null,null,29,1.2083333333333333,-0.96923076923076956]
["D：",{"$f":"IF(B25=\"Buck\",B27/B26,(B27-B26)/B27)","v":0.41666666666666669},null,null,null,null,null,null,null,null,null,30,1.25,-0.92307692307692335]
["ΔIL：",{"$f":"IF(B25=\"Buck\",(B26-B27)*B33/(B28*10^-6*B29*10^3),B26*B33/(B28*10^-6*B29*10^3))","v":4.6153846153846159},"A",null,null,null,null,null,null,null,null,31,1.2916666666666667,-0.87692307692307692]
["to：",{"$f":"1/(B29*10^3)*10^6/2","v":5},"μS",null,null,null,null,null,null,null,null,32,1.3333333333333335,-0.8307692307692307]
["ｔ１：",{"$f":"1/(B29*10^3)*B33*10^6/2","v":2.0833333333333335},"μS",null,null,null,null,null,null,null,null,33,1.3750000000000002,-0.78461538461538449]
[null,null,null,null,null,null,null,null,null,null,null,34,1.416666666666667,-0.73846153846153828]
[null,null,null,null,null,null,null,null,null,null,null,35,1.4583333333333337,-0.69230769230769207]
[null,null,null,null,null,null,null,null,null,null,null,36,1.5000000000000004,-0.64615384615384586]
[null,null,null,null,null,null,null,null,null,null,null,37,1.5416666666666672,-0.59999999999999964]
[null,null,null,null,null,null,null,null,null,null,null,38,1.5833333333333339,-0.55384615384615343]
[null,null,null,null,null,null,null,null,null,null,null,39,1.6250000000000007,-0.507692307692307]
[null,null,null,null,null,null,null,null,null,null,null,40,1.6666666666666674,-0.46153846153846079]
[null,null,null,null,null,null,null,null,null,null,null,41,1.7083333333333341,-0.41538461538461458]
[null,null,null,null,null,null,null,null,null,null,null,42,1.7500000000000009,-0.36923076923076836]
[null,null,null,null,null,null,null,null,null,null,null,43,1.7916666666666676,-0.32307692307692215]
[null,null,null,null,null,null,null,null,null,null,null,44,1.8333333333333344,-0.27692307692307594]
[null,null,null,null,null,null,null,null,null,null,null,45,1.8750000000000011,-0.23076923076922951]
[null,null,null,null,null,null,null,null,null,null,null,46,1.9166666666666679,-0.18461538461538352]
[null,null,null,null,null,null,null,null,null,null,null,47,1.9583333333333346,-0.13846153846153708]
[null,null,null,null,null,null,null,null,null,null,null,48,2.0000000000000013,-9.2307692307691092E-2]
[null,null,null,null,null,null,null,null,null,null,null,49,2.0416666666666679,-4.6153846153845102E-2]
[null,null,null,null,null,null,null,null,null,null,null,50,2.0833333333333344,8.8817841970012523E-16]
[null,null,null,null,null,null,null,null,null,null,{"$f":"IF($B$25=\"Buck\",-$B$34/(($B$35-$B$36)*2)*M54+$B$34/(($B$35-$B$36)*2)*$B$36+$B$34/2,$B$34/(($B$35-$B$36)*2)*M54-$B$34/(($B$35-$B$36)*2)*$B$36-$B$34/2)","v":2.2747252747252746},51,2.1250000000000009,4.6153846153846878E-2]
[null,null,null,null,null,null,null,null,null,null,null,52,2.1666666666666674,9.2307692307692868E-2]
[null,null,null,null,null,null,null,null,null,null,null,53,2.2083333333333339,0.13846153846153886]
[null,null,null,null,null,null,null,null,null,null,null,54,2.2500000000000004,0.18461538461538485]
[null,null,null,null,null,null,null,null,null,null,null,55,2.291666666666667,0.23076923076923084]
[null,null,null,null,null,null,null,null,null,null,null,56,2.3333333333333335,0.27692307692307683]
[null,null,null,null,null,null,null,null,null,null,null,57,2.375,0.32307692307692282]
[null,null,null,null,null,null,null,null,null,null,null,58,2.4166666666666665,0.36923076923076881]
[null,null,null,null,null,null,null,null,null,null,null,59,2.458333333333333,0.4153846153846148]
[null,null,null,null,null,null,null,null,null,null,null,60,2.4999999999999996,0.46153846153846079]
[null,null,null,null,null,null,null,null,null,null,null,61,2.5416666666666661,0.50769230769230678]
[null,null,null,null,null,null,null,null,null,null,null,62,2.5833333333333326,0.55384615384615277]
[null,null,null,null,null,null,null,null,null,null,null,63,2.6249999999999991,0.59999999999999876]
[null,null,null,null,null,null,null,null,null,null,null,64,2.6666666666666656,0.64615384615384475]
[null,null,null,null,null,null,null,null,null,null,null,65,2.7083333333333321,{"$f":"IF($B$25=\"Buck\",$B$34/($B$33/($B$29*10^3)*10^6)*M68-$B$34/2,-$B$34/($B$33/($B$29*10^3)*10^6)*M68+$B$34/2)","v":0.69230769230769074}]
[null,null,null,null,null,null,null,null,null,null,null,{"$f":"L68+1","v":66},{"$f":"$B$33/($B$29*10^3)*10^6/100+M68","v":2.7499999999999987},0.73846153846153673]
[null,null,null,null,null,null,null,null,null,null,null,67,2.7916666666666652,0.78461538461538272]
[null,null,null,null,null,null,null,null,null,null,null,68,2.8333333333333317,0.83076923076922871]
[null,null,null,null,null,null,null,null,null,null,null,69,2.8749999999999982,0.8769230769230747]
[null,null,null,null,null,null,null,null,null,null,null,70,2.9166666666666647,0.92307692307692069]
[null,null,null,null,null,null,null,null,null,null,null,71,2.9583333333333313,0.96923076923076668]
[null,null,null,null,null,null,null,null,null,null,null,72,2.9999999999999978,1.0153846153846127]
[null,null,null,null,null,null,null,null,null,null,null,73,3.0416666666666643,1.0615384615384587]
[null,null,null,null,null,null,null,null,null,null,null,74,3.0833333333333308,1.1076923076923046]
[null,null,null,null,null,null,null,null,null,null,null,75,3.1249999999999973,1.1538461538461506]
[null,null,null,null,null,null,null,null,null,null,null,76,3.1666666666666639,1.1999999999999966]
[null,null,null,null,null,null,null,null,null,null,null,77,3.2083333333333304,1.2461538461538426]
[null,null,null,null,null,null,null,null,null,null,null,78,3.2499999999999969,1.2923076923076886]
[null,null,null,null,null,null,null,null,null,null,null,79,3.2916666666666634,1.338461538461535]
[null,null,null,null,null,null,null,null,null,null,null,80,3.3333333333333299,1.384615384615381]
[null,null,null,null,null,null,null,null,null,null,null,81,3.3749999999999964,1.430769230769227]
[null,null,null,null,null,null,null,null,null,null,null,82,3.416666666666663,1.476923076923073]
[null,null,null,null,null,null,null,null,null,null,null,83,3.4583333333333295,1.523076923076919]
[null,null,null,null,null,null,null,null,null,null,null,84,3.499999999999996,1.569230769230765]
[null,null,null,null,null,null,null,null,null,null,null,85,3.5416666666666625,1.615384615384611]
[null,null,null,null,null,null,null,null,null,null,null,86,3.583333333333329,1.661538461538457]
[null,null,null,null,null,null,null,null,null,null,null,87,3.6249999999999956,1.707692307692303]
[null,null,null,null,null,null,null,null,null,null,null,88,3.6666666666666621,1.7538461538461489]
[null,null,null,null,null,null,null,null,null,null,null,89,3.7083333333333286,1.7999999999999949]
[null,null,null,null,null,null,null,null,null,null,null,90,3.7499999999999951,1.8461538461538409]
[null,null,null,null,null,null,null,null,null,null,null,91,3.7916666666666616,1.8923076923076869]
[null,null,null,null,null,null,null,null,null,null,null,92,3.8333333333333282,1.9384615384615329]
[null,null,null,null,null,null,null,null,null,null,null,93,3.8749999999999947,1.9846153846153789]
[null,null,null,null,null,null,null,null,null,null,null,94,3.9166666666666612,2.0307692307692249]
[null,null,null,null,null,null,null,null,null,null,null,95,3.9583333333333277,2.0769230769230709]
[null,null,null,null,null,null,null,null,null,null,null,96,3.9999999999999942,2.1230769230769169]
[null,null,null,null,null,null,null,null,null,null,null,97,4.0416666666666607,2.1692307692307629]
[null,null,null,null,null,null,null,null,null,null,null,98,4.0833333333333277,2.2153846153846088]
[null,null,null,null,null,null,null,null,null,null,null,99,4.1249999999999947,2.2615384615384557]
[null,null,null,null,null,null,null,null,null,null,null,100,4.1666666666666616,2.3076923076923017]
[null,null,null,null,null,null,null,null,null,null,null,101,{"$f":"(1-$B$33)/($B$29*10^3)*10^6/100+M103","v":4.2249999999999952},{"$f":"IF($B$25=\"Buck\",-$B$34/((1-$B$33)/($B$29*10^3)*10^6)*(M104-$M$103)+$B$34/2,$B$34/((1-$B$33)/($B$29*10^3)*10^6)*(M104-$M$103)-$B$34/2)","v":2.2615384615384615}]
[null,null,null,null,null,null,null,null,null,null,null,102,{"$f":"(1-$B$33)/($B$29*10^3)*10^6/100+M104","v":4.2833333333333288},{"$f":"IF($B$25=\"Buck\",-$B$34/((1-$B$33)/($B$29*10^3)*10^6)*(M105-$M$103)+$B$34/2,$B$34/((1-$B$33)/($B$29*10^3)*10^6)*(M105-$M$103)-$B$34/2)","v":2.2153846153846151}]
[null,null,null,null,null,null,null,null,null,null,null,103,4.3416666666666623,2.1692307692307686]
[null,null,null,null,null,null,null,null,null,null,null,104,4.3999999999999959,2.1230769230769226]
[null,null,null,null,null,null,null,null,null,null,null,105,4.4583333333333295,2.0769230769230762]
[null,null,null,null,null,null,null,null,null,null,null,106,4.5166666666666631,2.0307692307692298]
[null,null,null,null,null,null,null,null,null,null,null,107,4.5749999999999966,1.9846153846153833]
[null,null,null,null,null,null,null,null,null,null,null,108,4.6333333333333302,1.9384615384615371]
[null,null,null,null,null,null,null,null,null,null,null,109,4.6916666666666638,1.8923076923076907]
[null,null,null,null,null,null,null,null,null,null,null,110,4.7499999999999973,1.8461538461538445]
[null,null,null,null,null,null,null,null,null,null,null,111,4.8083333333333309,1.799999999999998]
[null,null,null,null,null,null,null,null,null,null,null,112,4.8666666666666645,1.7538461538461516]
[null,null,null,null,null,null,null,null,null,null,null,113,4.924999999999998,1.7076923076923052]
[null,null,null,null,null,null,null,null,null,null,null,114,4.9833333333333316,1.661538461538459]
[null,null,null,null,null,null,null,null,null,null,null,115,5.0416666666666652,1.6153846153846125]
[null,null,null,null,null,null,null,null,null,null,null,116,5.0999999999999988,1.5692307692307663]
[null,null,null,null,null,null,null,null,null,null,null,117,5.1583333333333323,1.5230769230769199]
[null,null,null,null,null,null,null,null,null,null,null,118,5.2166666666666659,1.4769230769230735]
[null,null,null,null,null,null,null,null,null,null,null,119,5.2749999999999995,1.430769230769227]
[null,null,null,null,null,null,null,null,null,null,null,120,5.333333333333333,1.3846153846153808]
[null,null,null,null,null,null,null,null,null,null,null,121,5.3916666666666666,1.3384615384615344]
[null,null,null,null,null,null,null,null,null,null,null,122,5.45,1.2923076923076879]
[null,null,null,null,null,null,null,null,null,null,null,123,5.5083333333333337,1.2461538461538417]
[null,null,null,null,null,null,null,null,null,null,null,124,5.5666666666666673,1.1999999999999953]
[null,null,null,null,null,null,null,null,null,null,null,125,5.6250000000000009,1.1538461538461489]
[null,null,null,null,null,null,null,null,null,null,null,126,5.6833333333333345,1.1076923076923026]
[null,null,null,null,null,null,null,null,null,null,null,127,5.741666666666668,1.0615384615384562]
[null,null,null,null,null,null,null,null,null,null,null,128,5.8000000000000016,1.01538461538461]
[null,null,null,null,null,null,null,null,null,null,null,129,5.8583333333333352,0.96923076923076357]
[null,null,null,null,null,null,null,null,null,null,null,{"$f":"L132+1","v":130},5.9166666666666687,0.92307692307691713]
[null,null,null,null,null,null,null,null,null,null,null,131,5.9750000000000023,0.87692307692307092]
[null,null,null,null,null,null,null,null,null,null,null,132,6.0333333333333359,0.83076923076922449]
[null,null,null,null,null,null,null,null,null,null,null,133,6.0916666666666694,0.78461538461537805]
[null,null,null,null,null,null,null,null,null,null,null,134,6.150000000000003,0.73846153846153184]
[null,null,null,null,null,null,null,null,null,null,null,135,6.2083333333333366,0.69230769230768541]
[null,null,null,null,null,null,null,null,null,null,null,136,6.2666666666666702,0.64615384615383897]
[null,null,null,null,null,null,null,null,null,null,null,137,6.3250000000000037,0.59999999999999276]
[null,null,null,null,null,null,null,null,null,null,null,138,6.3833333333333373,0.55384615384614633]
[null,null,null,null,null,null,null,null,null,null,null,139,6.4416666666666709,0.50769230769229989]
[null,null,null,null,null,null,null,null,null,null,null,140,6.5000000000000044,0.46153846153845368]
[null,null,null,null,null,null,null,null,null,null,null,141,6.558333333333338,0.41538461538460725]
[null,null,null,null,null,null,null,null,null,null,null,142,6.6166666666666716,0.36923076923076081]
[null,null,null,null,null,null,null,null,null,null,null,143,6.6750000000000052,0.3230769230769146]
[null,null,null,null,null,null,null,null,null,null,null,144,6.7333333333333387,0.27692307692306795]
[null,null,null,null,null,null,null,null,null,null,null,145,6.7916666666666723,0.23076923076922196]
[null,null,null,null,null,null,null,null,null,null,null,146,6.8500000000000059,0.18461538461537552]
[null,null,null,null,null,null,null,null,null,null,null,147,6.9083333333333394,0.13846153846152909]
[null,null,null,null,null,null,null,null,null,null,null,148,6.966666666666673,9.2307692307682654E-2]
[null,null,null,null,null,null,null,null,null,null,null,149,7.0250000000000066,4.615384615383622E-2]
[null,null,null,null,null,null,null,null,null,null,null,150,7.0833333333333401,-1.021405182655144E-14]
[null,null,null,null,null,null,null,null,null,null,{"$f":"IF($B$25=\"Buck\",$B$34/2/$B$36*M154-$B$34/2/$B$36*(1/($B$29*10^3)*(1-$B$33)*10^6+$B$36)-$B$34/2,-$B$34/2/$B$36*M154+$B$34/2/$B$36*(1/($B$29*10^3)*(1-$B$33)*10^6+$B$36)+$B$34/2)","v":-3.1661538461538368},151,7.1416666666666737,-4.6153846153856204E-2]
[null,null,null,null,null,null,null,null,null,null,null,152,7.2000000000000073,-9.2307692307702638E-2]
[null,null,null,null,null,null,null,null,null,null,null,153,7.2583333333333409,-0.13846153846154907]
[null,null,null,null,null,null,null,null,null,null,null,154,7.3166666666666744,-0.18461538461539551]
[null,null,null,null,null,null,null,null,null,null,null,155,7.375000000000008,-0.23076923076924194]
[null,null,null,null,null,null,null,null,null,null,null,156,7.4333333333333416,-0.27692307692308793]
[null,null,null,null,null,null,null,null,null,null,null,157,7.4916666666666751,-0.32307692307693436]
[null,null,null,null,null,null,null,null,null,null,null,158,7.5500000000000087,-0.3692307692307808]
[null,null,null,null,null,null,null,null,null,null,null,159,7.6083333333333423,-0.41538461538462723]
[null,null,null,null,null,null,null,null,null,null,null,160,7.6666666666666758,-0.46153846153847367]
[null,null,null,null,null,null,null,null,null,null,null,161,7.7250000000000094,-0.5076923076923201]
[null,null,null,null,null,null,null,null,null,null,null,162,7.783333333333343,-0.55384615384616609]
[null,null,null,null,null,null,null,null,null,null,null,163,7.8416666666666766,-0.60000000000001252]
[null,null,null,null,null,null,null,null,null,null,null,164,7.9000000000000101,-0.64615384615385896]
[null,null,null,null,null,null,null,null,null,null,null,165,7.9583333333333437,-0.69230769230770539]
[null,null,null,null,null,null,null,null,null,null,null,166,{"$f":"(1-$B$33)/($B$29*10^3)*10^6/100+M168","v":8.0166666666666764},{"$f":"IF($B$25=\"Buck\",-$B$34/((1-$B$33)/($B$29*10^3)*10^6)*(M169-$M$103)+$B$34/2,$B$34/((1-$B$33)/($B$29*10^3)*10^6)*(M169-$M$103)-$B$34/2)","v":-0.73846153846155094}]
[null,null,null,null,null,null,null,null,null,null,null,167,8.0750000000000099,-0.78461538461539737]
[null,null,null,null,null,null,null,null,null,null,null,168,8.1333333333333435,-0.8307692307692438]
[null,null,null,null,null,null,null,null,null,null,null,169,8.1916666666666771,-0.87692307692309024]
[null,null,null,null,null,null,null,null,null,null,null,170,8.2500000000000107,-0.92307692307693667]
[null,null,null,null,null,null,null,null,null,null,null,171,8.3083333333333442,-0.96923076923078266]
[null,null,null,null,null,null,null,null,null,null,null,172,8.3666666666666778,-1.0153846153846291]
[null,null,null,null,null,null,null,null,null,null,null,173,8.4250000000000114,-1.0615384615384755]
[null,null,null,null,null,null,null,null,null,null,null,174,8.4833333333333449,-1.107692307692322]
[null,null,null,null,null,null,null,null,null,null,null,175,8.5416666666666785,-1.1538461538461684]
[null,null,null,null,null,null,null,null,null,null,null,176,8.6000000000000121,-1.2000000000000148]
[null,null,null,null,null,null,null,null,null,null,null,177,8.6583333333333456,-1.2461538461538608]
[null,null,null,null,null,null,null,null,null,null,null,178,8.7166666666666792,-1.2923076923077073]
[null,null,null,null,null,null,null,null,null,null,null,179,8.7750000000000128,-1.3384615384615537]
[null,null,null,null,null,null,null,null,null,null,null,180,8.8333333333333464,-1.3846153846154001]
[null,null,null,null,null,null,null,null,null,null,null,181,8.8916666666666799,-1.4307692307692466]
[null,null,null,null,null,null,null,null,null,null,null,182,8.9500000000000135,-1.476923076923093]
[null,null,null,null,null,null,null,null,null,null,null,183,9.0083333333333471,-1.523076923076939]
[null,null,null,null,null,null,null,null,null,null,null,184,9.0666666666666806,-1.5692307692307854]
[null,null,null,null,null,null,null,null,null,null,null,185,9.1250000000000142,-1.6153846153846319]
[null,null,null,null,null,null,null,null,null,null,null,186,9.1833333333333478,-1.6615384615384783]
[null,null,null,null,null,null,null,null,null,null,null,187,9.2416666666666814,-1.7076923076923243]
[null,null,null,null,null,null,null,null,null,null,null,188,9.3000000000000149,-1.7538461538461712]
[null,null,null,null,null,null,null,null,null,null,null,189,9.3583333333333485,-1.8000000000000171]
[null,null,null,null,null,null,null,null,null,null,null,190,9.4166666666666821,-1.846153846153864]
[null,null,null,null,null,null,null,null,null,null,null,191,9.4750000000000156,-1.89230769230771]
[null,null,null,null,null,null,null,null,null,null,null,192,9.5333333333333492,-1.938461538461556]
[null,null,null,null,null,null,null,null,null,null,null,193,9.5916666666666828,-1.9846153846154029]
[null,null,null,null,null,null,null,null,null,null,null,{"$f":"L196+1","v":194},9.6500000000000163,-2.0307692307692489]
[null,null,null,null,null,null,null,null,null,null,null,195,9.7083333333333499,-2.0769230769230957]
[null,null,null,null,null,null,null,null,null,null,null,196,9.7666666666666835,-2.1230769230769417]
[null,null,null,null,null,null,null,null,null,null,null,197,9.8250000000000171,-2.1692307692307877]
[null,null,null,null,null,null,null,null,null,null,null,198,9.8833333333333506,-2.2153846153846346]
[null,null,null,null,null,null,null,null,null,null,null,199,9.9416666666666842,-2.2615384615384806]
[null,null,null,null,null,null,null,null,null,null,null,200,10.000000000000018,-2.3076923076923275]
[null,null,null,null,null,null,null,null,null,null,null,201,{"$f":"1/($B$29*10^3)*10^6+M4","v":10.041666666666666},{"$f":"N4","v":-2.2615384615384619}]
[null,null,null,null,null,null,null,null,null,null,null,202,{"$f":"1/($B$29*10^3)*10^6+M5","v":10.083333333333334},-2.2153846153846155]
[null,null,null,null,null,null,null,null,null,null,null,203,10.125,-2.1692307692307695]
[null,null,null,null,null,null,null,null,null,null,null,204,10.166666666666666,-2.1230769230769231]
[null,null,null,null,null,null,null,null,null,null,null,205,10.208333333333334,-2.0769230769230771]
[null,null,null,null,null,null,null,null,null,null,null,206,10.25,-2.0307692307692311]
[null,null,null,null,null,null,null,null,null,null,null,207,10.291666666666666,-1.9846153846153847]
[null,null,null,null,null,null,null,null,null,null,null,208,10.333333333333334,-1.9384615384615387]
[null,null,null,null,null,null,null,null,null,null,null,209,10.375,-1.8923076923076925]
[null,null,null,null,null,null,null,null,null,null,null,210,10.416666666666666,-1.8461538461538463]
[null,null,null,null,null,null,null,null,null,null,null,211,10.458333333333334,-1.8]
[null,null,null,null,null,null,null,null,null,null,null,212,10.5,-1.7538461538461538]
[null,null,null,null,null,null,null,null,null,null,null,213,10.541666666666666,-1.7076923076923078]
[null,null,null,null,null,null,null,null,null,null,null,214,10.583333333333334,-1.6615384615384619]
[null,null,null,null,null,null,null,null,null,null,null,215,10.625,-1.6153846153846156]
[null,null,null,null,null,null,null,null,null,null,null,216,10.666666666666666,-1.5692307692307694]
[null,null,null,null,null,null,null,null,null,null,null,217,10.708333333333334,{"$f":"N20","v":-1.5230769230769234}]
[null,null,null,null,null,null,null,null,null,null,null,218,10.75,-1.4769230769230772]
[null,null,null,null,null,null,null,null,null,null,null,219,10.791666666666666,-1.430769230769231]
[null,null,null,null,null,null,null,null,null,null,null,220,10.833333333333334,-1.384615384615385]
[null,null,null,null,null,null,null,null,null,null,null,221,10.875,-1.338461538461539]
[null,null,null,null,null,null,null,null,null,null,null,222,10.916666666666666,-1.2923076923076928]
[null,null,null,null,null,null,null,null,null,null,null,223,10.958333333333332,-1.2461538461538466]
[null,null,null,null,null,null,null,null,null,null,null,224,11,-1.2000000000000006]
[null,null,null,null,null,null,null,null,null,null,null,225,11.041666666666666,-1.1538461538461544]
[null,null,null,null,null,null,null,null,null,null,null,226,11.083333333333332,-1.1076923076923082]
[null,null,null,null,null,null,null,null,null,null,null,227,11.125,-1.061538461538462]
[null,null,null,null,null,null,null,null,null,null,null,228,11.166666666666666,-1.0153846153846158]
[null,null,null,null,null,null,null,null,null,null,null,229,11.208333333333334,-0.96923076923076956]
[null,null,null,null,null,null,null,null,null,null,null,230,11.25,-0.92307692307692335]
[null,null,null,null,null,null,null,null,null,null,null,231,11.291666666666666,-0.87692307692307692]
[null,null,null,null,null,null,null,null,null,null,null,232,11.333333333333334,-0.8307692307692307]
[null,null,null,null,null,null,null,null,null,null,null,233,11.375,{"$f":"N36","v":-0.78461538461538449}]
[null,null,null,null,null,null,null,null,null,null,null,234,11.416666666666668,-0.73846153846153828]
[null,null,null,null,null,null,null,null,null,null,null,235,11.458333333333334,-0.69230769230769207]
[null,null,null,null,null,null,null,null,null,null,null,236,11.5,-0.64615384615384586]
[null,null,null,null,null,null,null,null,null,null,null,237,11.541666666666668,-0.59999999999999964]
[null,null,null,null,null,null,null,null,null,null,null,238,11.583333333333334,-0.55384615384615343]
[null,null,null,null,null,null,null,null,null,null,null,239,11.625,-0.507692307692307]
[null,null,null,null,null,null,null,null,null,null,null,240,11.666666666666668,-0.46153846153846079]
[null,null,null,null,null,null,null,null,null,null,null,241,11.708333333333334,-0.41538461538461458]
[null,null,null,null,null,null,null,null,null,null,null,242,11.75,-0.36923076923076836]
[null,null,null,null,null,null,null,null,null,null,null,243,11.791666666666668,-0.32307692307692215]
[null,null,null,null,null,null,null,null,null,null,null,244,11.833333333333334,-0.27692307692307594]
[null,null,null,null,null,null,null,null,null,null,null,245,11.875000000000002,-0.23076923076922951]
[null,null,null,null,null,null,null,null,null,null,null,246,11.916666666666668,-0.18461538461538352]
[null,null,null,null,null,null,null,null,null,null,null,247,11.958333333333334,-0.13846153846153708]
[null,null,null,null,null,null,null,null,null,null,null,248,12.000000000000002,-9.2307692307691092E-2]
[null,null,null,null,null,null,null,null,null,null,null,249,12.041666666666668,{"$f":"N52","v":-4.6153846153845102E-2}]
[null,null,null,null,null,null,null,null,null,null,null,250,12.083333333333334,8.8817841970012523E-16]
[null,null,null,null,null,null,null,null,null,null,null,251,12.125,4.6153846153846878E-2]
[null,null,null,null,null,null,null,null,null,null,null,252,12.166666666666668,9.2307692307692868E-2]
[null,null,null,null,null,null,null,null,null,null,null,253,12.208333333333334,0.13846153846153886]
[null,null,null,null,null,null,null,null,null,null,null,254,12.25,0.18461538461538485]
[null,null,null,null,null,null,null,null,null,null,null,255,12.291666666666668,0.23076923076923084]
[null,null,null,null,null,null,null,null,null,null,null,256,12.333333333333334,0.27692307692307683]
[null,null,null,null,null,null,null,null,null,null,null,257,12.375,0.32307692307692282]
[null,null,null,null,null,null,null,null,null,null,null,{"$f":"L260+1","v":258},12.416666666666666,0.36923076923076881]
[null,null,null,null,null,null,null,null,null,null,null,259,12.458333333333332,0.4153846153846148]
[null,null,null,null,null,null,null,null,null,null,null,260,12.5,0.46153846153846079]
[null,null,null,null,null,null,null,null,null,null,null,261,12.541666666666666,0.50769230769230678]
[null,null,null,null,null,null,null,null,null,null,null,262,12.583333333333332,0.55384615384615277]
[null,null,null,null,null,null,null,null,null,null,null,263,12.625,0.59999999999999876]
[null,null,null,null,null,null,null,null,null,null,null,264,12.666666666666666,0.64615384615384475]
[null,null,null,null,null,null,null,null,null,null,null,265,12.708333333333332,{"$f":"N68","v":0.69230769230769074}]
[null,null,null,null,null,null,null,null,null,null,null,266,{"$f":"1/($B$29*10^3)*10^6+M69","v":12.749999999999998},0.73846153846153673]
[null,null,null,null,null,null,null,null,null,null,null,267,12.791666666666664,0.78461538461538272]
[null,null,null,null,null,null,null,null,null,null,null,268,12.833333333333332,0.83076923076922871]
[null,null,null,null,null,null,null,null,null,null,null,269,12.874999999999998,0.8769230769230747]
[null,null,null,null,null,null,null,null,null,null,null,270,12.916666666666664,0.92307692307692069]
[null,null,null,null,null,null,null,null,null,null,null,271,12.958333333333332,0.96923076923076668]
[null,null,null,null,null,null,null,null,null,null,null,272,12.999999999999998,1.0153846153846127]
[null,null,null,null,null,null,null,null,null,null,null,273,13.041666666666664,1.0615384615384587]
[null,null,null,null,null,null,null,null,null,null,null,274,13.08333333333333,1.1076923076923046]
[null,null,null,null,null,null,null,null,null,null,null,275,13.124999999999996,1.1538461538461506]
[null,null,null,null,null,null,null,null,null,null,null,276,13.166666666666664,1.1999999999999966]
[null,null,null,null,null,null,null,null,null,null,null,277,13.20833333333333,1.2461538461538426]
[null,null,null,null,null,null,null,null,null,null,null,278,13.249999999999996,1.2923076923076886]
[null,null,null,null,null,null,null,null,null,null,null,279,13.291666666666664,1.338461538461535]
[null,null,null,null,null,null,null,null,null,null,null,280,13.33333333333333,1.384615384615381]
[null,null,null,null,null,null,null,null,null,null,null,281,13.374999999999996,{"$f":"N84","v":1.430769230769227}]
[null,null,null,null,null,null,null,null,null,null,null,282,13.416666666666663,1.476923076923073]
[null,null,null,null,null,null,null,null,null,null,null,283,13.458333333333329,1.523076923076919]
[null,null,null,null,null,null,null,null,null,null,null,284,13.499999999999996,1.569230769230765]
[null,null,null,null,null,null,null,null,null,null,null,285,13.541666666666663,1.615384615384611]
[null,null,null,null,null,null,null,null,null,null,null,286,13.583333333333329,1.661538461538457]
[null,null,null,null,null,null,null,null,null,null,null,287,13.624999999999996,1.707692307692303]
[null,null,null,null,null,null,null,null,null,null,null,288,13.666666666666663,1.7538461538461489]
[null,null,null,null,null,null,null,null,null,null,null,289,13.708333333333329,1.7999999999999949]
[null,null,null,null,null,null,null,null,null,null,null,290,13.749999999999995,1.8461538461538409]
[null,null,null,null,null,null,null,null,null,null,null,291,13.791666666666661,1.8923076923076869]
[null,null,null,null,null,null,null,null,null,null,null,292,13.833333333333329,1.9384615384615329]
[null,null,null,null,null,null,null,null,null,null,null,293,13.874999999999995,1.9846153846153789]
[null,null,null,null,null,null,null,null,null,null,null,294,13.916666666666661,2.0307692307692249]
[null,null,null,null,null,null,null,null,null,null,null,295,13.958333333333329,2.0769230769230709]
[null,null,null,null,null,null,null,null,null,null,null,296,13.999999999999995,2.1230769230769169]
[null,null,null,null,null,null,null,null,null,null,null,297,14.041666666666661,{"$f":"N100","v":2.1692307692307629}]
[null,null,null,null,null,null,null,null,null,null,null,298,14.083333333333329,2.2153846153846088]
[null,null,null,null,null,null,null,null,null,null,null,299,14.124999999999995,2.2615384615384557]
[null,null,null,null,null,null,null,null,null,null,null,300,14.166666666666661,2.3076923076923017]
[null,null,null,null,null,null,null,null,null,null,null,301,14.224999999999994,2.2615384615384615]
[null,null,null,null,null,null,null,null,null,null,null,302,14.283333333333328,2.2153846153846151]
[null,null,null,null,null,null,null,null,null,null,null,303,14.341666666666661,2.1692307692307686]
[null,null,null,null,null,null,null,null,null,null,null,304,14.399999999999995,2.1230769230769226]
[null,null,null,null,null,null,null,null,null,null,null,305,14.458333333333329,2.0769230769230762]
[null,null,null,null,null,null,null,null,null,null,null,306,14.516666666666662,2.0307692307692298]
[null,null,null,null,null,null,null,null,null,null,null,307,14.574999999999996,1.9846153846153833]
[null,null,null,null,null,null,null,null,null,null,null,308,14.633333333333329,1.9384615384615371]
[null,null,null,null,null,null,null,null,null,null,null,309,14.691666666666663,1.8923076923076907]
[null,null,null,null,null,null,null,null,null,null,null,310,14.749999999999996,1.8461538461538445]
[null,null,null,null,null,null,null,null,null,null,null,311,14.80833333333333,1.799999999999998]
[null,null,null,null,null,null,null,null,null,null,null,312,14.866666666666664,1.7538461538461516]
[null,null,null,null,null,null,null,null,null,null,null,313,14.924999999999997,{"$f":"N116","v":1.7076923076923052}]
[null,null,null,null,null,null,null,null,null,null,null,314,14.983333333333331,1.661538461538459]
[null,null,null,null,null,null,null,null,null,null,null,315,15.041666666666664,1.6153846153846125]
[null,null,null,null,null,null,null,null,null,null,null,316,15.099999999999998,1.5692307692307663]
[null,null,null,null,null,null,null,null,null,null,null,317,15.158333333333331,1.5230769230769199]
[null,null,null,null,null,null,null,null,null,null,null,318,15.216666666666665,1.4769230769230735]
[null,null,null,null,null,null,null,null,null,null,null,319,15.274999999999999,1.430769230769227]
[null,null,null,null,null,null,null,null,null,null,null,320,15.333333333333332,1.3846153846153808]
[null,null,null,null,null,null,null,null,null,null,null,321,15.391666666666666,1.3384615384615344]
[null,null,null,null,null,null,null,null,null,null,null,{"$f":"L324+1","v":322},15.45,1.2923076923076879]
[null,null,null,null,null,null,null,null,null,null,null,323,15.508333333333333,1.2461538461538417]
[null,null,null,null,null,null,null,null,null,null,null,324,15.566666666666666,1.1999999999999953]
[null,null,null,null,null,null,null,null,null,null,null,325,15.625,1.1538461538461489]
[null,null,null,null,null,null,null,null,null,null,null,326,15.683333333333334,1.1076923076923026]
[null,null,null,null,null,null,null,null,null,null,null,327,15.741666666666667,1.0615384615384562]
[null,null,null,null,null,null,null,null,null,null,null,328,15.8,1.01538461538461]
[null,null,null,null,null,null,null,null,null,null,null,329,15.858333333333334,{"$f":"N132","v":0.96923076923076357}]
[null,null,null,null,null,null,null,null,null,null,null,330,{"$f":"1/($B$29*10^3)*10^6+M133","v":15.916666666666668},0.92307692307691713]
[null,null,null,null,null,null,null,null,null,null,null,331,15.975000000000001,0.87692307692307092]
[null,null,null,null,null,null,null,null,null,null,null,332,16.033333333333335,0.83076923076922449]
[null,null,null,null,null,null,null,null,null,null,null,333,16.091666666666669,0.78461538461537805]
[null,null,null,null,null,null,null,null,null,null,null,334,16.150000000000002,0.73846153846153184]
[null,null,null,null,null,null,null,null,null,null,null,335,16.208333333333336,0.69230769230768541]
[null,null,null,null,null,null,null,null,null,null,null,336,16.266666666666669,0.64615384615383897]
[null,null,null,null,null,null,null,null,null,null,null,337,16.325000000000003,0.59999999999999276]
[null,null,null,null,null,null,null,null,null,null,null,338,16.383333333333336,0.55384615384614633]
[null,null,null,null,null,null,null,null,null,null,null,339,16.44166666666667,0.50769230769229989]
[null,null,null,null,null,null,null,null,null,null,null,340,16.500000000000004,0.46153846153845368]
[null,null,null,null,null,null,null,null,null,null,null,341,16.558333333333337,0.41538461538460725]
[null,null,null,null,null,null,null,null,null,null,null,342,16.616666666666671,0.36923076923076081]
[null,null,null,null,null,null,null,null,null,null,null,343,16.675000000000004,0.3230769230769146]
[null,null,null,null,null,null,null,null,null,null,null,344,16.733333333333338,0.27692307692306795]
[null,null,null,null,null,null,null,null,null,null,null,345,16.791666666666671,{"$f":"N148","v":0.23076923076922196}]
[null,null,null,null,null,null,null,null,null,null,null,346,16.850000000000005,0.18461538461537552]
[null,null,null,null,null,null,null,null,null,null,null,347,16.908333333333339,0.13846153846152909]
[null,null,null,null,null,null,null,null,null,null,null,348,16.966666666666672,9.2307692307682654E-2]
[null,null,null,null,null,null,null,null,null,null,null,349,17.025000000000006,4.615384615383622E-2]
[null,null,null,null,null,null,null,null,null,null,null,350,17.083333333333339,-1.021405182655144E-14]
[null,null,null,null,null,null,null,null,null,null,null,351,17.141666666666673,-4.6153846153856204E-2]
[null,null,null,null,null,null,null,null,null,null,null,352,17.200000000000006,-9.2307692307702638E-2]
[null,null,null,null,null,null,null,null,null,null,null,353,17.25833333333334,-0.13846153846154907]
[null,null,null,null,null,null,null,null,null,null,null,354,17.316666666666674,-0.18461538461539551]
[null,null,null,null,null,null,null,null,null,null,null,355,17.375000000000007,-0.23076923076924194]
[null,null,null,null,null,null,null,null,null,null,null,356,17.433333333333341,-0.27692307692308793]
[null,null,null,null,null,null,null,null,null,null,null,357,17.491666666666674,-0.32307692307693436]
[null,null,null,null,null,null,null,null,null,null,null,358,17.550000000000008,-0.3692307692307808]
[null,null,null,null,null,null,null,null,null,null,null,359,17.608333333333341,-0.41538461538462723]
[null,null,null,null,null,null,null,null,null,null,null,360,17.666666666666675,-0.46153846153847367]
[null,null,null,null,null,null,null,null,null,null,null,361,17.725000000000009,{"$f":"N164","v":-0.5076923076923201}]
[null,null,null,null,null,null,null,null,null,null,null,362,17.783333333333342,-0.55384615384616609]
[null,null,null,null,null,null,null,null,null,null,null,363,17.841666666666676,-0.60000000000001252]
[null,null,null,null,null,null,null,null,null,null,null,364,17.900000000000009,-0.64615384615385896]
[null,null,null,null,null,null,null,null,null,null,null,365,17.958333333333343,-0.69230769230770539]
[null,null,null,null,null,null,null,null,null,null,null,366,18.016666666666676,-0.73846153846155094]
[null,null,null,null,null,null,null,null,null,null,null,367,18.07500000000001,-0.78461538461539737]
[null,null,null,null,null,null,null,null,null,null,null,368,18.133333333333344,-0.8307692307692438]
[null,null,null,null,null,null,null,null,null,null,null,369,18.191666666666677,-0.87692307692309024]
[null,null,null,null,null,null,null,null,null,null,null,370,18.250000000000011,-0.92307692307693667]
[null,null,null,null,null,null,null,null,null,null,null,371,18.308333333333344,-0.96923076923078266]
[null,null,null,null,null,null,null,null,null,null,null,372,18.366666666666678,-1.0153846153846291]
[null,null,null,null,null,null,null,null,null,null,null,373,18.425000000000011,-1.0615384615384755]
[null,null,null,null,null,null,null,null,null,null,null,374,18.483333333333345,-1.107692307692322]
[null,null,null,null,null,null,null,null,null,null,null,375,18.541666666666679,-1.1538461538461684]
[null,null,null,null,null,null,null,null,null,null,null,376,18.600000000000012,-1.2000000000000148]
[null,null,null,null,null,null,null,null,null,null,null,377,18.658333333333346,{"$f":"N180","v":-1.2461538461538608}]
[null,null,null,null,null,null,null,null,null,null,null,378,18.716666666666679,-1.2923076923077073]
[null,null,null,null,null,null,null,null,null,null,null,379,18.775000000000013,-1.3384615384615537]
[null,null,null,null,null,null,null,null,null,null,null,380,18.833333333333346,-1.3846153846154001]
[null,null,null,null,null,null,null,null,null,null,null,381,18.89166666666668,-1.4307692307692466]
[null,null,null,null,null,null,null,null,null,null,null,382,18.950000000000014,-1.476923076923093]
[null,null,null,null,null,null,null,null,null,null,null,383,19.008333333333347,-1.523076923076939]
[null,null,null,null,null,null,null,null,null,null,null,384,19.066666666666681,-1.5692307692307854]
[null,null,null,null,null,null,null,null,null,null,null,385,19.125000000000014,-1.6153846153846319]
[null,null,null,null,null,null,null,null,null,null,null,{"$f":"L388+1","v":386},19.183333333333348,-1.6615384615384783]
[null,null,null,null,null,null,null,null,null,null,null,387,19.241666666666681,-1.7076923076923243]
[null,null,null,null,null,null,null,null,null,null,null,388,19.300000000000015,-1.7538461538461712]
[null,null,null,null,null,null,null,null,null,null,null,389,19.358333333333348,-1.8000000000000171]
[null,null,null,null,null,null,null,null,null,null,null,390,19.416666666666682,-1.846153846153864]
[null,null,null,null,null,null,null,null,null,null,null,391,19.475000000000016,-1.89230769230771]
[null,null,null,null,null,null,null,null,null,null,null,392,19.533333333333349,-1.938461538461556]
[null,null,null,null,null,null,null,null,null,null,null,393,19.591666666666683,{"$f":"N196","v":-1.9846153846154029}]
[null,null,null,null,null,null,null,null,null,null,null,394,{"$f":"1/($B$29*10^3)*10^6+M197","v":19.650000000000016},-2.0307692307692489]
[null,null,null,null,null,null,null,null,null,null,null,395,19.70833333333335,-2.0769230769230957]
[null,null,null,null,null,null,null,null,null,null,null,396,19.766666666666683,-2.1230769230769417]
[null,null,null,null,null,null,null,null,null,null,null,397,19.825000000000017,-2.1692307692307877]
[null,null,null,null,null,null,null,null,null,null,null,398,19.883333333333351,-2.2153846153846346]
[null,null,null,null,null,null,null,null,null,null,null,399,19.941666666666684,-2.2615384615384806]
[null,null,null,null,null,null,null,null,null,null,null,400,20.000000000000018,{"$f":"N203","v":-2.3076923076923275}]
[null,null,null,null,null,null,null,null,null,null,null,401,{"$f":"M403","v":20.000000000000018},{"$f":"N403","v":-2.3076923076923275}]